BEGIN:VCALENDAR
VERSION:2.0
PRODID:-//NorWest Community Health Centres - ECPv6.15.18//NONSGML v1.0//EN
CALSCALE:GREGORIAN
METHOD:PUBLISH
X-ORIGINAL-URL:https://norwestchc.org
X-WR-CALDESC:Events for NorWest Community Health Centres
REFRESH-INTERVAL;VALUE=DURATION:PT1H
X-Robots-Tag:noindex
X-PUBLISHED-TTL:PT1H
BEGIN:VTIMEZONE
TZID:America/Halifax
BEGIN:DAYLIGHT
TZOFFSETFROM:-0400
TZOFFSETTO:-0300
TZNAME:ADT
DTSTART:20240310T060000
END:DAYLIGHT
BEGIN:STANDARD
TZOFFSETFROM:-0300
TZOFFSETTO:-0400
TZNAME:AST
DTSTART:20241103T050000
END:STANDARD
BEGIN:DAYLIGHT
TZOFFSETFROM:-0400
TZOFFSETTO:-0300
TZNAME:ADT
DTSTART:20250309T060000
END:DAYLIGHT
BEGIN:STANDARD
TZOFFSETFROM:-0300
TZOFFSETTO:-0400
TZNAME:AST
DTSTART:20251102T050000
END:STANDARD
BEGIN:DAYLIGHT
TZOFFSETFROM:-0400
TZOFFSETTO:-0300
TZNAME:ADT
DTSTART:20260308T060000
END:DAYLIGHT
BEGIN:STANDARD
TZOFFSETFROM:-0300
TZOFFSETTO:-0400
TZNAME:AST
DTSTART:20261101T050000
END:STANDARD
END:VTIMEZONE
BEGIN:VEVENT
DTSTART;TZID=America/Halifax:20250529T083000
DTEND;TZID=America/Halifax:20250529T163000
DTSTAMP:20260421T123351
CREATED:20250513T172228Z
LAST-MODIFIED:20250513T181013Z
UID:10001581-1748507400-1748536200@norwestchc.org
SUMMARY:RAAM
DESCRIPTION:
URL:https://norwestchc.org/event/raam-2/2025-05-29/
LOCATION:NorWest CHC (Longlac)\, 99 Skinner Ave\,\, Longlac\, ON\, P0T 2A0\, Canada
CATEGORIES:Longlac
ORGANIZER;CN="Sandra Abernot":MAILTO:sabernot@norwestchc.org
END:VEVENT
BEGIN:VEVENT
DTSTART;TZID=America/Halifax:20250529T093000
DTEND;TZID=America/Halifax:20250529T120000
DTSTAMP:20260421T123351
CREATED:20250408T192506Z
LAST-MODIFIED:20250408T192557Z
UID:10001144-1748511000-1748520000@norwestchc.org
SUMMARY:Diabetes Self-Management Program Virtual Workshop Series (May 8-June 10)
DESCRIPTION:The DSMP is designed to empower individuals with diabetes by providing essential skills\, knowledge\, and support for effective self-management. Workshop Objectives\n\nEmpower participants with tools for diabetes management.\nEnhance knowledge about diabetes and healthy living.\nFoster a supportive community through peer interaction.\n\nKey Components \n\nInteractive Sessions covering:\n\nUnderstanding diabetes and its management.\nNutrition and meal planning.\nPhysical activity and stress management.\nMonitoring blood sugar and medication management.\n\n\nPeer Support: Connect with fellow participants for shared experiences.\n\nTarget Audience: Adults with Type 1 or Type 2 diabetes\, caregivers\, and family members.\nBenefits\n\nImproved self-management and health outcomes.\nIncreased confidence in managing diabetes.\nOngoing support network.\n\nDuration & Schedule \n\nLength: 6 weeks\, 2.5 hours per session.\nFlexible Options: Weekday and weekend sessions available.\n\nRegister through Zoom link.
URL:https://norwestchc.org/event/diabetes-self-management-program-virtual-workshop-series-may-8-june-10/2025-05-29/
LOCATION:
CATEGORIES:Armstrong,Kakabeka,Longlac,Online,Thunder Bay
END:VEVENT
BEGIN:VEVENT
DTSTART;TZID=America/Halifax:20250529T120000
DTEND;TZID=America/Halifax:20250529T160000
DTSTAMP:20260421T123351
CREATED:20241223T235700Z
LAST-MODIFIED:20241223T235700Z
UID:10000646-1748520000-1748534400@norwestchc.org
SUMMARY:LifeLabs
DESCRIPTION:
URL:https://norwestchc.org/event/lifelabs/2025-05-29/
LOCATION:NorWest CHC (Kakabeka Falls)\, 4785 ON-11 Unit B\, Kakabeka Falls\, ONTARIO\, P0T 1W0\, Canada
CATEGORIES:Kakabeka
ORGANIZER;CN="Shaun Peirce":MAILTO:speirce@norwestchc.org
END:VEVENT
BEGIN:VEVENT
DTSTART;TZID=America/Halifax:20250529T133000
DTEND;TZID=America/Halifax:20250529T153000
DTSTAMP:20260421T123351
CREATED:20250416T193220Z
LAST-MODIFIED:20250425T151103Z
UID:10001150-1748525400-1748532600@norwestchc.org
SUMMARY:MindShift: Tools for Tough Times
DESCRIPTION:Life gets heavy. Let’s build a toolkit.\nIf you’ve been feeling anxious\, low\, or just worn down — you’re not alone.\nThis group offers simple\, practical tools to help you get through the tough days and feel more in control. \nWe’ll cover ways to manage stress\, calm your mind\, and handle overwhelming emotions — all in a relaxed\, supportive setting. \nNo pressure. Just real support and useful strategies. \nWhat to expect:\n✔ Learn coping strategies for tough moments\n✔ Explore tools for managing mood and anxiety\n✔ Connect with others in a supportive setting\n✔ Build confidence and emotional resilience \n📅 When: Thursdays\, May 29th – June 26th @ 1:30- 3:30pm\n📍 Where: NorWest CHC\n💬 Cost: Free\, refreshments and snacks included\n📞 To register or learn more: Call Ben\, Community Health Worker\, 807.626.7870
URL:https://norwestchc.org/event/mindshifttott/2025-05-29/
LOCATION:NorWest CHC\, 525 Simpson Street\, Thunder Bay\, Ontario\, P7C 3J6\, Canada
CATEGORIES:Thunder Bay
END:VEVENT
END:VCALENDAR