BEGIN:VCALENDAR
VERSION:2.0
PRODID:-//NorWest Community Health Centres - ECPv6.15.18//NONSGML v1.0//EN
CALSCALE:GREGORIAN
METHOD:PUBLISH
X-ORIGINAL-URL:https://norwestchc.org
X-WR-CALDESC:Events for NorWest Community Health Centres
REFRESH-INTERVAL;VALUE=DURATION:PT1H
X-Robots-Tag:noindex
X-PUBLISHED-TTL:PT1H
BEGIN:VTIMEZONE
TZID:America/Halifax
BEGIN:DAYLIGHT
TZOFFSETFROM:-0400
TZOFFSETTO:-0300
TZNAME:ADT
DTSTART:20240310T060000
END:DAYLIGHT
BEGIN:STANDARD
TZOFFSETFROM:-0300
TZOFFSETTO:-0400
TZNAME:AST
DTSTART:20241103T050000
END:STANDARD
BEGIN:DAYLIGHT
TZOFFSETFROM:-0400
TZOFFSETTO:-0300
TZNAME:ADT
DTSTART:20250309T060000
END:DAYLIGHT
BEGIN:STANDARD
TZOFFSETFROM:-0300
TZOFFSETTO:-0400
TZNAME:AST
DTSTART:20251102T050000
END:STANDARD
BEGIN:DAYLIGHT
TZOFFSETFROM:-0400
TZOFFSETTO:-0300
TZNAME:ADT
DTSTART:20260308T060000
END:DAYLIGHT
BEGIN:STANDARD
TZOFFSETFROM:-0300
TZOFFSETTO:-0400
TZNAME:AST
DTSTART:20261101T050000
END:STANDARD
END:VTIMEZONE
BEGIN:VEVENT
DTSTART;TZID=America/Halifax:20250626T083000
DTEND;TZID=America/Halifax:20250626T163000
DTSTAMP:20260421T091218
CREATED:20250513T172228Z
LAST-MODIFIED:20250513T181013Z
UID:10001589-1750926600-1750955400@norwestchc.org
SUMMARY:RAAM
DESCRIPTION:
URL:https://norwestchc.org/event/raam-2/2025-06-26/
LOCATION:NorWest CHC (Longlac)\, 99 Skinner Ave\,\, Longlac\, ON\, P0T 2A0\, Canada
CATEGORIES:Longlac
ORGANIZER;CN="Sandra Abernot":MAILTO:sabernot@norwestchc.org
END:VEVENT
BEGIN:VEVENT
DTSTART;TZID=America/Halifax:20250626T083000
DTEND;TZID=America/Halifax:20250626T163000
DTSTAMP:20260421T091218
CREATED:20250603T142841Z
LAST-MODIFIED:20250603T142841Z
UID:10001711-1750926600-1750955400@norwestchc.org
SUMMARY:Guest Walkers
DESCRIPTION:Guest Walkers June 3 : April Pilon NP | Palliative Clinical Coach\, TBRHSC   & Julia Wilen-O’Connor RN | Nurse Navigator\, Palliative Carelink \nGuest Walkers June 19 & 26: Katie Bond – Alzheimer Society of Thunder Bay \nPLEASE CALL NORWEST CHC KAKABEKA FALLS TO CONFIRM ATTENDANCE.
URL:https://norwestchc.org/event/guest-walkers/2025-06-26/
LOCATION:NorWest CHC (Kakabeka Falls)\, 4785 ON-11 Unit B\, Kakabeka Falls\, ONTARIO\, P0T 1W0\, Canada
CATEGORIES:Kakabeka
ORGANIZER;CN="Shaun Peirce":MAILTO:speirce@norwestchc.org
END:VEVENT
BEGIN:VEVENT
DTSTART;TZID=America/Halifax:20250626T100000
DTEND;TZID=America/Halifax:20250626T140000
DTSTAMP:20260421T091218
CREATED:20250611T125752Z
LAST-MODIFIED:20250704T143148Z
UID:10002022-1750932000-1750946400@norwestchc.org
SUMMARY:Drop-in Garden Volunteering with Willow Springs @ Simpson Street Garden
DESCRIPTION:Drop by the Simpson Street Garden on Tuesdays and Thursdays and garden with Willow Springs. Help keep our Simpson Street Community Garden beautiful all season long.
URL:https://norwestchc.org/event/drop-in-garden-volunteering-with-willow-springs-simpson-street-garden/2025-06-26/
LOCATION:Simpson Street Garden\, 433/435 Simpson St\, Thunder Bay\, ONTARIO\, P7C 3J3\, Canada
CATEGORIES:Thunder Bay
ORGANIZER;CN="Nicole Taylor":MAILTO:ntaylor@norwestchc.org
END:VEVENT
BEGIN:VEVENT
DTSTART;TZID=America/Halifax:20250626T120000
DTEND;TZID=America/Halifax:20250626T160000
DTSTAMP:20260421T091218
CREATED:20241223T235700Z
LAST-MODIFIED:20241223T235700Z
UID:10000650-1750939200-1750953600@norwestchc.org
SUMMARY:LifeLabs
DESCRIPTION:
URL:https://norwestchc.org/event/lifelabs/2025-06-26/
LOCATION:NorWest CHC (Kakabeka Falls)\, 4785 ON-11 Unit B\, Kakabeka Falls\, ONTARIO\, P0T 1W0\, Canada
CATEGORIES:Kakabeka
ORGANIZER;CN="Shaun Peirce":MAILTO:speirce@norwestchc.org
END:VEVENT
BEGIN:VEVENT
DTSTART;TZID=America/Halifax:20250626T133000
DTEND;TZID=America/Halifax:20250626T153000
DTSTAMP:20260421T091218
CREATED:20250416T193220Z
LAST-MODIFIED:20250425T151103Z
UID:10001154-1750944600-1750951800@norwestchc.org
SUMMARY:MindShift: Tools for Tough Times
DESCRIPTION:Life gets heavy. Let’s build a toolkit.\nIf you’ve been feeling anxious\, low\, or just worn down — you’re not alone.\nThis group offers simple\, practical tools to help you get through the tough days and feel more in control. \nWe’ll cover ways to manage stress\, calm your mind\, and handle overwhelming emotions — all in a relaxed\, supportive setting. \nNo pressure. Just real support and useful strategies. \nWhat to expect:\n✔ Learn coping strategies for tough moments\n✔ Explore tools for managing mood and anxiety\n✔ Connect with others in a supportive setting\n✔ Build confidence and emotional resilience \n📅 When: Thursdays\, May 29th – June 26th @ 1:30- 3:30pm\n📍 Where: NorWest CHC\n💬 Cost: Free\, refreshments and snacks included\n📞 To register or learn more: Call Ben\, Community Health Worker\, 807.626.7870
URL:https://norwestchc.org/event/mindshifttott/2025-06-26/
LOCATION:NorWest CHC\, 525 Simpson Street\, Thunder Bay\, Ontario\, P7C 3J6\, Canada
CATEGORIES:Thunder Bay
END:VEVENT
BEGIN:VEVENT
DTSTART;TZID=America/Halifax:20250626T133000
DTEND;TZID=America/Halifax:20250626T153000
DTSTAMP:20260421T091218
CREATED:20250513T181347Z
LAST-MODIFIED:20250513T181347Z
UID:10001607-1750944600-1750951800@norwestchc.org
SUMMARY:Teddy Bear Picnic
DESCRIPTION:  \n  \n 
URL:https://norwestchc.org/event/teddy-bear-picnic/
LOCATION:Thunderbird Friendship Centre\, PO Box 758\, Longlac\, Ontario\, P0T 2A0\, Canada
CATEGORIES:Longlac
END:VEVENT
END:VCALENDAR