BEGIN:VCALENDAR
VERSION:2.0
PRODID:-//NorWest Community Health Centres - ECPv6.15.18//NONSGML v1.0//EN
CALSCALE:GREGORIAN
METHOD:PUBLISH
X-WR-CALNAME:NorWest Community Health Centres
X-ORIGINAL-URL:https://norwestchc.org
X-WR-CALDESC:Events for NorWest Community Health Centres
REFRESH-INTERVAL;VALUE=DURATION:PT1H
X-Robots-Tag:noindex
X-PUBLISHED-TTL:PT1H
BEGIN:VTIMEZONE
TZID:America/Halifax
BEGIN:DAYLIGHT
TZOFFSETFROM:-0400
TZOFFSETTO:-0300
TZNAME:ADT
DTSTART:20240310T060000
END:DAYLIGHT
BEGIN:STANDARD
TZOFFSETFROM:-0300
TZOFFSETTO:-0400
TZNAME:AST
DTSTART:20241103T050000
END:STANDARD
BEGIN:DAYLIGHT
TZOFFSETFROM:-0400
TZOFFSETTO:-0300
TZNAME:ADT
DTSTART:20250309T060000
END:DAYLIGHT
BEGIN:STANDARD
TZOFFSETFROM:-0300
TZOFFSETTO:-0400
TZNAME:AST
DTSTART:20251102T050000
END:STANDARD
BEGIN:DAYLIGHT
TZOFFSETFROM:-0400
TZOFFSETTO:-0300
TZNAME:ADT
DTSTART:20260308T060000
END:DAYLIGHT
BEGIN:STANDARD
TZOFFSETFROM:-0300
TZOFFSETTO:-0400
TZNAME:AST
DTSTART:20261101T050000
END:STANDARD
END:VTIMEZONE
BEGIN:VEVENT
DTSTART;TZID=America/Halifax:20251009T094500
DTEND;TZID=America/Halifax:20251009T110000
DTSTAMP:20260421T150634
CREATED:20250627T133041Z
LAST-MODIFIED:20251210T201045Z
UID:10003700-1760003100-1760007600@norwestchc.org
SUMMARY:Fly the C.O.O.P Walking Group (Thurs)
DESCRIPTION:Fly the COOP Walking Group – Outdoor Walking – Tues/Thurs  9:45 am – 11am \n🕘 When & Where We Meet • Tuesdays & Thursdays • Meet at 9:45 AM at NorWest Community Health Centres – 4785 Hwy 11-17 for carpooling (4 park passes available) • Or meet at 10:00 AM at Mountain Portage Trailhead\, Kakabeka Falls Provincial Park
URL:https://norwestchc.org/event/fly-the-c-o-o-p-walking-group-thurs-2/2025-10-09/
LOCATION:NorWest CHC (Kakabeka Falls)\, 4785 ON-11 Unit B\, Kakabeka Falls\, ONTARIO\, P0T 1W0\, Canada
CATEGORIES:Kakabeka
ORGANIZER;CN="Shaun Peirce":MAILTO:speirce@norwestchc.org
END:VEVENT
BEGIN:VEVENT
DTSTART;TZID=America/Halifax:20251009T120000
DTEND;TZID=America/Halifax:20251009T160000
DTSTAMP:20260421T150634
CREATED:20241223T235700Z
LAST-MODIFIED:20241223T235700Z
UID:10000665-1760011200-1760025600@norwestchc.org
SUMMARY:LifeLabs
DESCRIPTION:
URL:https://norwestchc.org/event/lifelabs/2025-10-09/
LOCATION:NorWest CHC (Kakabeka Falls)\, 4785 ON-11 Unit B\, Kakabeka Falls\, ONTARIO\, P0T 1W0\, Canada
CATEGORIES:Kakabeka
ORGANIZER;CN="Shaun Peirce":MAILTO:speirce@norwestchc.org
END:VEVENT
BEGIN:VEVENT
DTSTART;TZID=America/Halifax:20251009T133000
DTEND;TZID=America/Halifax:20251009T153000
DTSTAMP:20260421T150634
CREATED:20250813T144937Z
LAST-MODIFIED:20250813T145115Z
UID:10002437-1760016600-1760023800@norwestchc.org
SUMMARY:Mindshift: Tools for Wellness
DESCRIPTION:Feel empowered with practical tools for emotional balance and well-being. Learn simple strategies to manage stress\, boost your confidence\, and build resilience\, all in a supportive\, encouraging environment. Snacks and refreshments provided. Registration required. Spaces limited.
URL:https://norwestchc.org/event/mindshift-tools-for-wellness/2025-10-09/
LOCATION:NorWest CHC\, 525 Simpson Street\, Thunder Bay\, Ontario\, P7C 3J6\, Canada
CATEGORIES:Thunder Bay
END:VEVENT
BEGIN:VEVENT
DTSTART;TZID=America/Halifax:20251009T133000
DTEND;TZID=America/Halifax:20251009T160000
DTSTAMP:20260421T150634
CREATED:20250904T125855Z
LAST-MODIFIED:20250904T125855Z
UID:10002578-1760016600-1760025600@norwestchc.org
SUMMARY:Diabetes Self-Management Program Workshop (IN-PERSON)
DESCRIPTION:Learn to manage your diabetes with confidence in our free 6-week group program. You’ll connect with peers and gain essential skills during weekly sessions\, each up to 2.5 hours long. \nSession dates: September 11\, 18\, 25; October 2\, 9\, 16 \nLocation: Fort William First Nation Community Centre
URL:https://norwestchc.org/event/diabetes-self-management-program-workshop-in-person/2025-10-09/
LOCATION:Fort William First Nation\, 400 Anemki Drive\, Fort William\, Ontario\, P7J 1K6\, Canada
CATEGORIES:Thunder Bay
END:VEVENT
END:VCALENDAR