BEGIN:VCALENDAR
VERSION:2.0
PRODID:-//NorWest Community Health Centres - ECPv6.15.18//NONSGML v1.0//EN
CALSCALE:GREGORIAN
METHOD:PUBLISH
X-ORIGINAL-URL:https://norwestchc.org
X-WR-CALDESC:Events for NorWest Community Health Centres
REFRESH-INTERVAL;VALUE=DURATION:PT1H
X-Robots-Tag:noindex
X-PUBLISHED-TTL:PT1H
BEGIN:VTIMEZONE
TZID:America/Halifax
BEGIN:DAYLIGHT
TZOFFSETFROM:-0400
TZOFFSETTO:-0300
TZNAME:ADT
DTSTART:20250309T060000
END:DAYLIGHT
BEGIN:STANDARD
TZOFFSETFROM:-0300
TZOFFSETTO:-0400
TZNAME:AST
DTSTART:20251102T050000
END:STANDARD
BEGIN:DAYLIGHT
TZOFFSETFROM:-0400
TZOFFSETTO:-0300
TZNAME:ADT
DTSTART:20260308T060000
END:DAYLIGHT
BEGIN:STANDARD
TZOFFSETFROM:-0300
TZOFFSETTO:-0400
TZNAME:AST
DTSTART:20261101T050000
END:STANDARD
BEGIN:DAYLIGHT
TZOFFSETFROM:-0400
TZOFFSETTO:-0300
TZNAME:ADT
DTSTART:20270314T060000
END:DAYLIGHT
BEGIN:STANDARD
TZOFFSETFROM:-0300
TZOFFSETTO:-0400
TZNAME:AST
DTSTART:20271107T050000
END:STANDARD
END:VTIMEZONE
BEGIN:VEVENT
DTSTART;TZID=America/Halifax:20260124T110000
DTEND;TZID=America/Halifax:20260124T123000
DTSTAMP:20260421T152558
CREATED:20251223T210621Z
LAST-MODIFIED:20251223T210621Z
UID:10004125-1769252400-1769257800@norwestchc.org
SUMMARY:Organizing Care
DESCRIPTION: Is your kitchen table covered in medical forms and appointment cards? Join this free\, 90-minute workshop to learn simple systems for organizing your health information so you can find what you need\, when you need it. \nFull Event Description: ABC Health Matters: Organizing Care \nManaging a chronic or rare disease often feels like a full-time administrative job. Between tracking medications\, managing appointments\, and keeping test results straight\, it is easy to feel overwhelmed by the details. \nIn this 90-minute virtual session\, we focus on turning chaos into order. You don’t need expensive software—just a better system. \nWe will cover: \n\n\nThe “Health Binder”: How to build a physical or digital care organizer. \n\n\nMedication Management: Tips for keeping accurate\, up-to-date lists for your pharmacist and doctor. \n\n\nContact Lists: Organizing your “Care Team” directory so you know exactly who to call. \n\n\nTracking: Simple ways to log symptoms and appointments so nothing falls through the cracks. \n\n\nFormat: Virtual (Zoom) Cost: Free
URL:https://norwestchc.org/event/organizing-care-2/
CATEGORIES:Armstrong,Exercise,Kakabeka,Longlac,Online,Thunder Bay
END:VEVENT
END:VCALENDAR