BEGIN:VCALENDAR
VERSION:2.0
PRODID:-//NorWest Community Health Centres - ECPv6.15.18//NONSGML v1.0//EN
CALSCALE:GREGORIAN
METHOD:PUBLISH
X-WR-CALNAME:NorWest Community Health Centres
X-ORIGINAL-URL:https://norwestchc.org
X-WR-CALDESC:Events for NorWest Community Health Centres
REFRESH-INTERVAL;VALUE=DURATION:PT1H
X-Robots-Tag:noindex
X-PUBLISHED-TTL:PT1H
BEGIN:VTIMEZONE
TZID:America/Halifax
BEGIN:DAYLIGHT
TZOFFSETFROM:-0400
TZOFFSETTO:-0300
TZNAME:ADT
DTSTART:20260308T060000
END:DAYLIGHT
BEGIN:STANDARD
TZOFFSETFROM:-0300
TZOFFSETTO:-0400
TZNAME:AST
DTSTART:20261101T050000
END:STANDARD
BEGIN:DAYLIGHT
TZOFFSETFROM:-0400
TZOFFSETTO:-0300
TZNAME:ADT
DTSTART:20270314T060000
END:DAYLIGHT
BEGIN:STANDARD
TZOFFSETFROM:-0300
TZOFFSETTO:-0400
TZNAME:AST
DTSTART:20271107T050000
END:STANDARD
BEGIN:DAYLIGHT
TZOFFSETFROM:-0400
TZOFFSETTO:-0300
TZNAME:ADT
DTSTART:20280312T060000
END:DAYLIGHT
BEGIN:STANDARD
TZOFFSETFROM:-0300
TZOFFSETTO:-0400
TZNAME:AST
DTSTART:20281105T050000
END:STANDARD
END:VTIMEZONE
BEGIN:VEVENT
DTSTART;TZID=America/Halifax:20271108T100000
DTEND;TZID=America/Halifax:20271108T110000
DTSTAMP:20260419T175151
CREATED:20250509T183232Z
LAST-MODIFIED:20250925T145330Z
UID:10003289-1825668000-1825671600@norwestchc.org
SUMMARY:Chair Yoga
DESCRIPTION:Monday’s @ 10am Virtually or in Kam or O’Connor  \nO’Connor Community Centre: 330 ON-595\, Kakabeka Falls\, ON P0T 1W0 \nKam Hall: 6197 Dawson Road\, Kaministiquia\, ON P0T 1X0
URL:https://norwestchc.org/event/chair-yoga-2/2027-11-08/
LOCATION:O’Connor Community Centre\, 330 ON-595\, Kakabeka Falls\, ON\, ONTARIO\, P0T 1W0\, Canada
CATEGORIES:Kakabeka
ORGANIZER;CN="Shaun Peirce":MAILTO:speirce@norwestchc.org
END:VEVENT
BEGIN:VEVENT
DTSTART;TZID=America/Halifax:20271109T094500
DTEND;TZID=America/Halifax:20271109T110000
DTSTAMP:20260419T175151
CREATED:20241007T202456Z
LAST-MODIFIED:20251030T194252Z
UID:10003548-1825753500-1825758000@norwestchc.org
SUMMARY:Fly the C.O.O.P Walking Group
DESCRIPTION:Fly the COOP Walking Group – Outdoor Walking – Tues/Thurs  9:45 am – 11am \n🕘 When & Where We Meet • Tuesdays & Thursdays • Meet at 9:45 AM at NorWest Community Health Centres – 4785 Hwy 11-17 for carpooling (4 park passes available) • Or meet at 10:00 AM at Mountain Portage Trailhead\, Kakabeka Falls Provincial Park
URL:https://norwestchc.org/event/fly-the-c-o-o-p-walking-group/2027-11-09/
LOCATION:NorWest CHC (Kakabeka Falls)\, 4785 ON-11 Unit B\, Kakabeka Falls\, ONTARIO\, P0T 1W0\, Canada
CATEGORIES:Kakabeka
ORGANIZER;CN="Shaun Peirce":MAILTO:speirce@norwestchc.org
END:VEVENT
BEGIN:VEVENT
DTSTART;TZID=America/Halifax:20271111T094500
DTEND;TZID=America/Halifax:20271111T110000
DTSTAMP:20260419T175151
CREATED:20250627T133041Z
LAST-MODIFIED:20251210T201045Z
UID:10003809-1825926300-1825930800@norwestchc.org
SUMMARY:Fly the C.O.O.P Walking Group (Thurs)
DESCRIPTION:Fly the COOP Walking Group – Outdoor Walking – Tues/Thurs  9:45 am – 11am \n🕘 When & Where We Meet • Tuesdays & Thursdays • Meet at 9:45 AM at NorWest Community Health Centres – 4785 Hwy 11-17 for carpooling (4 park passes available) • Or meet at 10:00 AM at Mountain Portage Trailhead\, Kakabeka Falls Provincial Park
URL:https://norwestchc.org/event/fly-the-c-o-o-p-walking-group-thurs-2/2027-11-11/
LOCATION:NorWest CHC (Kakabeka Falls)\, 4785 ON-11 Unit B\, Kakabeka Falls\, ONTARIO\, P0T 1W0\, Canada
CATEGORIES:Kakabeka
ORGANIZER;CN="Shaun Peirce":MAILTO:speirce@norwestchc.org
END:VEVENT
BEGIN:VEVENT
DTSTART;TZID=America/Halifax:20271111T120000
DTEND;TZID=America/Halifax:20271111T160000
DTSTAMP:20260419T175151
CREATED:20241223T235700Z
LAST-MODIFIED:20241223T235700Z
UID:10000774-1825934400-1825948800@norwestchc.org
SUMMARY:LifeLabs
DESCRIPTION:
URL:https://norwestchc.org/event/lifelabs/2027-11-11/
LOCATION:NorWest CHC (Kakabeka Falls)\, 4785 ON-11 Unit B\, Kakabeka Falls\, ONTARIO\, P0T 1W0\, Canada
CATEGORIES:Kakabeka
ORGANIZER;CN="Shaun Peirce":MAILTO:speirce@norwestchc.org
END:VEVENT
BEGIN:VEVENT
DTSTART;TZID=America/Halifax:20271115T100000
DTEND;TZID=America/Halifax:20271115T110000
DTSTAMP:20260419T175151
CREATED:20250509T183232Z
LAST-MODIFIED:20250925T145330Z
UID:10003290-1826272800-1826276400@norwestchc.org
SUMMARY:Chair Yoga
DESCRIPTION:Monday’s @ 10am Virtually or in Kam or O’Connor  \nO’Connor Community Centre: 330 ON-595\, Kakabeka Falls\, ON P0T 1W0 \nKam Hall: 6197 Dawson Road\, Kaministiquia\, ON P0T 1X0
URL:https://norwestchc.org/event/chair-yoga-2/2027-11-15/
LOCATION:O’Connor Community Centre\, 330 ON-595\, Kakabeka Falls\, ON\, ONTARIO\, P0T 1W0\, Canada
CATEGORIES:Kakabeka
ORGANIZER;CN="Shaun Peirce":MAILTO:speirce@norwestchc.org
END:VEVENT
BEGIN:VEVENT
DTSTART;TZID=America/Halifax:20271116T094500
DTEND;TZID=America/Halifax:20271116T110000
DTSTAMP:20260419T175151
CREATED:20241007T202456Z
LAST-MODIFIED:20251030T194252Z
UID:10003549-1826358300-1826362800@norwestchc.org
SUMMARY:Fly the C.O.O.P Walking Group
DESCRIPTION:Fly the COOP Walking Group – Outdoor Walking – Tues/Thurs  9:45 am – 11am \n🕘 When & Where We Meet • Tuesdays & Thursdays • Meet at 9:45 AM at NorWest Community Health Centres – 4785 Hwy 11-17 for carpooling (4 park passes available) • Or meet at 10:00 AM at Mountain Portage Trailhead\, Kakabeka Falls Provincial Park
URL:https://norwestchc.org/event/fly-the-c-o-o-p-walking-group/2027-11-16/
LOCATION:NorWest CHC (Kakabeka Falls)\, 4785 ON-11 Unit B\, Kakabeka Falls\, ONTARIO\, P0T 1W0\, Canada
CATEGORIES:Kakabeka
ORGANIZER;CN="Shaun Peirce":MAILTO:speirce@norwestchc.org
END:VEVENT
BEGIN:VEVENT
DTSTART;TZID=America/Halifax:20271118T094500
DTEND;TZID=America/Halifax:20271118T110000
DTSTAMP:20260419T175151
CREATED:20250627T133041Z
LAST-MODIFIED:20251210T201045Z
UID:10003810-1826531100-1826535600@norwestchc.org
SUMMARY:Fly the C.O.O.P Walking Group (Thurs)
DESCRIPTION:Fly the COOP Walking Group – Outdoor Walking – Tues/Thurs  9:45 am – 11am \n🕘 When & Where We Meet • Tuesdays & Thursdays • Meet at 9:45 AM at NorWest Community Health Centres – 4785 Hwy 11-17 for carpooling (4 park passes available) • Or meet at 10:00 AM at Mountain Portage Trailhead\, Kakabeka Falls Provincial Park
URL:https://norwestchc.org/event/fly-the-c-o-o-p-walking-group-thurs-2/2027-11-18/
LOCATION:NorWest CHC (Kakabeka Falls)\, 4785 ON-11 Unit B\, Kakabeka Falls\, ONTARIO\, P0T 1W0\, Canada
CATEGORIES:Kakabeka
ORGANIZER;CN="Shaun Peirce":MAILTO:speirce@norwestchc.org
END:VEVENT
BEGIN:VEVENT
DTSTART;TZID=America/Halifax:20271118T120000
DTEND;TZID=America/Halifax:20271118T160000
DTSTAMP:20260419T175151
CREATED:20241223T235700Z
LAST-MODIFIED:20241223T235700Z
UID:10000775-1826539200-1826553600@norwestchc.org
SUMMARY:LifeLabs
DESCRIPTION:
URL:https://norwestchc.org/event/lifelabs/2027-11-18/
LOCATION:NorWest CHC (Kakabeka Falls)\, 4785 ON-11 Unit B\, Kakabeka Falls\, ONTARIO\, P0T 1W0\, Canada
CATEGORIES:Kakabeka
ORGANIZER;CN="Shaun Peirce":MAILTO:speirce@norwestchc.org
END:VEVENT
BEGIN:VEVENT
DTSTART;TZID=America/Halifax:20271122T100000
DTEND;TZID=America/Halifax:20271122T110000
DTSTAMP:20260419T175151
CREATED:20250509T183232Z
LAST-MODIFIED:20250925T145330Z
UID:10003291-1826877600-1826881200@norwestchc.org
SUMMARY:Chair Yoga
DESCRIPTION:Monday’s @ 10am Virtually or in Kam or O’Connor  \nO’Connor Community Centre: 330 ON-595\, Kakabeka Falls\, ON P0T 1W0 \nKam Hall: 6197 Dawson Road\, Kaministiquia\, ON P0T 1X0
URL:https://norwestchc.org/event/chair-yoga-2/2027-11-22/
LOCATION:O’Connor Community Centre\, 330 ON-595\, Kakabeka Falls\, ON\, ONTARIO\, P0T 1W0\, Canada
CATEGORIES:Kakabeka
ORGANIZER;CN="Shaun Peirce":MAILTO:speirce@norwestchc.org
END:VEVENT
BEGIN:VEVENT
DTSTART;TZID=America/Halifax:20271123T094500
DTEND;TZID=America/Halifax:20271123T110000
DTSTAMP:20260419T175151
CREATED:20241007T202456Z
LAST-MODIFIED:20251030T194252Z
UID:10003550-1826963100-1826967600@norwestchc.org
SUMMARY:Fly the C.O.O.P Walking Group
DESCRIPTION:Fly the COOP Walking Group – Outdoor Walking – Tues/Thurs  9:45 am – 11am \n🕘 When & Where We Meet • Tuesdays & Thursdays • Meet at 9:45 AM at NorWest Community Health Centres – 4785 Hwy 11-17 for carpooling (4 park passes available) • Or meet at 10:00 AM at Mountain Portage Trailhead\, Kakabeka Falls Provincial Park
URL:https://norwestchc.org/event/fly-the-c-o-o-p-walking-group/2027-11-23/
LOCATION:NorWest CHC (Kakabeka Falls)\, 4785 ON-11 Unit B\, Kakabeka Falls\, ONTARIO\, P0T 1W0\, Canada
CATEGORIES:Kakabeka
ORGANIZER;CN="Shaun Peirce":MAILTO:speirce@norwestchc.org
END:VEVENT
BEGIN:VEVENT
DTSTART;TZID=America/Halifax:20271125T094500
DTEND;TZID=America/Halifax:20271125T110000
DTSTAMP:20260419T175151
CREATED:20250627T133041Z
LAST-MODIFIED:20251210T201045Z
UID:10003811-1827135900-1827140400@norwestchc.org
SUMMARY:Fly the C.O.O.P Walking Group (Thurs)
DESCRIPTION:Fly the COOP Walking Group – Outdoor Walking – Tues/Thurs  9:45 am – 11am \n🕘 When & Where We Meet • Tuesdays & Thursdays • Meet at 9:45 AM at NorWest Community Health Centres – 4785 Hwy 11-17 for carpooling (4 park passes available) • Or meet at 10:00 AM at Mountain Portage Trailhead\, Kakabeka Falls Provincial Park
URL:https://norwestchc.org/event/fly-the-c-o-o-p-walking-group-thurs-2/2027-11-25/
LOCATION:NorWest CHC (Kakabeka Falls)\, 4785 ON-11 Unit B\, Kakabeka Falls\, ONTARIO\, P0T 1W0\, Canada
CATEGORIES:Kakabeka
ORGANIZER;CN="Shaun Peirce":MAILTO:speirce@norwestchc.org
END:VEVENT
BEGIN:VEVENT
DTSTART;TZID=America/Halifax:20271125T120000
DTEND;TZID=America/Halifax:20271125T160000
DTSTAMP:20260419T175151
CREATED:20241223T235700Z
LAST-MODIFIED:20241223T235700Z
UID:10000776-1827144000-1827158400@norwestchc.org
SUMMARY:LifeLabs
DESCRIPTION:
URL:https://norwestchc.org/event/lifelabs/2027-11-25/
LOCATION:NorWest CHC (Kakabeka Falls)\, 4785 ON-11 Unit B\, Kakabeka Falls\, ONTARIO\, P0T 1W0\, Canada
CATEGORIES:Kakabeka
ORGANIZER;CN="Shaun Peirce":MAILTO:speirce@norwestchc.org
END:VEVENT
BEGIN:VEVENT
DTSTART;TZID=America/Halifax:20271129T100000
DTEND;TZID=America/Halifax:20271129T110000
DTSTAMP:20260419T175151
CREATED:20250509T183232Z
LAST-MODIFIED:20250925T145330Z
UID:10003292-1827482400-1827486000@norwestchc.org
SUMMARY:Chair Yoga
DESCRIPTION:Monday’s @ 10am Virtually or in Kam or O’Connor  \nO’Connor Community Centre: 330 ON-595\, Kakabeka Falls\, ON P0T 1W0 \nKam Hall: 6197 Dawson Road\, Kaministiquia\, ON P0T 1X0
URL:https://norwestchc.org/event/chair-yoga-2/2027-11-29/
LOCATION:O’Connor Community Centre\, 330 ON-595\, Kakabeka Falls\, ON\, ONTARIO\, P0T 1W0\, Canada
CATEGORIES:Kakabeka
ORGANIZER;CN="Shaun Peirce":MAILTO:speirce@norwestchc.org
END:VEVENT
BEGIN:VEVENT
DTSTART;TZID=America/Halifax:20271130T094500
DTEND;TZID=America/Halifax:20271130T110000
DTSTAMP:20260419T175151
CREATED:20241007T202456Z
LAST-MODIFIED:20251030T194252Z
UID:10003551-1827567900-1827572400@norwestchc.org
SUMMARY:Fly the C.O.O.P Walking Group
DESCRIPTION:Fly the COOP Walking Group – Outdoor Walking – Tues/Thurs  9:45 am – 11am \n🕘 When & Where We Meet • Tuesdays & Thursdays • Meet at 9:45 AM at NorWest Community Health Centres – 4785 Hwy 11-17 for carpooling (4 park passes available) • Or meet at 10:00 AM at Mountain Portage Trailhead\, Kakabeka Falls Provincial Park
URL:https://norwestchc.org/event/fly-the-c-o-o-p-walking-group/2027-11-30/
LOCATION:NorWest CHC (Kakabeka Falls)\, 4785 ON-11 Unit B\, Kakabeka Falls\, ONTARIO\, P0T 1W0\, Canada
CATEGORIES:Kakabeka
ORGANIZER;CN="Shaun Peirce":MAILTO:speirce@norwestchc.org
END:VEVENT
BEGIN:VEVENT
DTSTART;TZID=America/Halifax:20271202T094500
DTEND;TZID=America/Halifax:20271202T110000
DTSTAMP:20260419T175151
CREATED:20250627T133041Z
LAST-MODIFIED:20251210T201045Z
UID:10003812-1827740700-1827745200@norwestchc.org
SUMMARY:Fly the C.O.O.P Walking Group (Thurs)
DESCRIPTION:Fly the COOP Walking Group – Outdoor Walking – Tues/Thurs  9:45 am – 11am \n🕘 When & Where We Meet • Tuesdays & Thursdays • Meet at 9:45 AM at NorWest Community Health Centres – 4785 Hwy 11-17 for carpooling (4 park passes available) • Or meet at 10:00 AM at Mountain Portage Trailhead\, Kakabeka Falls Provincial Park
URL:https://norwestchc.org/event/fly-the-c-o-o-p-walking-group-thurs-2/2027-12-02/
LOCATION:NorWest CHC (Kakabeka Falls)\, 4785 ON-11 Unit B\, Kakabeka Falls\, ONTARIO\, P0T 1W0\, Canada
CATEGORIES:Kakabeka
ORGANIZER;CN="Shaun Peirce":MAILTO:speirce@norwestchc.org
END:VEVENT
BEGIN:VEVENT
DTSTART;TZID=America/Halifax:20271202T120000
DTEND;TZID=America/Halifax:20271202T160000
DTSTAMP:20260419T175151
CREATED:20241223T235700Z
LAST-MODIFIED:20241223T235700Z
UID:10000777-1827748800-1827763200@norwestchc.org
SUMMARY:LifeLabs
DESCRIPTION:
URL:https://norwestchc.org/event/lifelabs/2027-12-02/
LOCATION:NorWest CHC (Kakabeka Falls)\, 4785 ON-11 Unit B\, Kakabeka Falls\, ONTARIO\, P0T 1W0\, Canada
CATEGORIES:Kakabeka
ORGANIZER;CN="Shaun Peirce":MAILTO:speirce@norwestchc.org
END:VEVENT
BEGIN:VEVENT
DTSTART;TZID=America/Halifax:20271206T100000
DTEND;TZID=America/Halifax:20271206T110000
DTSTAMP:20260419T175151
CREATED:20250509T183232Z
LAST-MODIFIED:20250925T145330Z
UID:10003293-1828087200-1828090800@norwestchc.org
SUMMARY:Chair Yoga
DESCRIPTION:Monday’s @ 10am Virtually or in Kam or O’Connor  \nO’Connor Community Centre: 330 ON-595\, Kakabeka Falls\, ON P0T 1W0 \nKam Hall: 6197 Dawson Road\, Kaministiquia\, ON P0T 1X0
URL:https://norwestchc.org/event/chair-yoga-2/2027-12-06/
LOCATION:O’Connor Community Centre\, 330 ON-595\, Kakabeka Falls\, ON\, ONTARIO\, P0T 1W0\, Canada
CATEGORIES:Kakabeka
ORGANIZER;CN="Shaun Peirce":MAILTO:speirce@norwestchc.org
END:VEVENT
BEGIN:VEVENT
DTSTART;TZID=America/Halifax:20271207T094500
DTEND;TZID=America/Halifax:20271207T110000
DTSTAMP:20260419T175151
CREATED:20241007T202456Z
LAST-MODIFIED:20251030T194252Z
UID:10003552-1828172700-1828177200@norwestchc.org
SUMMARY:Fly the C.O.O.P Walking Group
DESCRIPTION:Fly the COOP Walking Group – Outdoor Walking – Tues/Thurs  9:45 am – 11am \n🕘 When & Where We Meet • Tuesdays & Thursdays • Meet at 9:45 AM at NorWest Community Health Centres – 4785 Hwy 11-17 for carpooling (4 park passes available) • Or meet at 10:00 AM at Mountain Portage Trailhead\, Kakabeka Falls Provincial Park
URL:https://norwestchc.org/event/fly-the-c-o-o-p-walking-group/2027-12-07/
LOCATION:NorWest CHC (Kakabeka Falls)\, 4785 ON-11 Unit B\, Kakabeka Falls\, ONTARIO\, P0T 1W0\, Canada
CATEGORIES:Kakabeka
ORGANIZER;CN="Shaun Peirce":MAILTO:speirce@norwestchc.org
END:VEVENT
BEGIN:VEVENT
DTSTART;TZID=America/Halifax:20271209T094500
DTEND;TZID=America/Halifax:20271209T110000
DTSTAMP:20260419T175151
CREATED:20250627T133041Z
LAST-MODIFIED:20251210T201045Z
UID:10003813-1828345500-1828350000@norwestchc.org
SUMMARY:Fly the C.O.O.P Walking Group (Thurs)
DESCRIPTION:Fly the COOP Walking Group – Outdoor Walking – Tues/Thurs  9:45 am – 11am \n🕘 When & Where We Meet • Tuesdays & Thursdays • Meet at 9:45 AM at NorWest Community Health Centres – 4785 Hwy 11-17 for carpooling (4 park passes available) • Or meet at 10:00 AM at Mountain Portage Trailhead\, Kakabeka Falls Provincial Park
URL:https://norwestchc.org/event/fly-the-c-o-o-p-walking-group-thurs-2/2027-12-09/
LOCATION:NorWest CHC (Kakabeka Falls)\, 4785 ON-11 Unit B\, Kakabeka Falls\, ONTARIO\, P0T 1W0\, Canada
CATEGORIES:Kakabeka
ORGANIZER;CN="Shaun Peirce":MAILTO:speirce@norwestchc.org
END:VEVENT
BEGIN:VEVENT
DTSTART;TZID=America/Halifax:20271209T120000
DTEND;TZID=America/Halifax:20271209T160000
DTSTAMP:20260419T175151
CREATED:20241223T235700Z
LAST-MODIFIED:20241223T235700Z
UID:10000778-1828353600-1828368000@norwestchc.org
SUMMARY:LifeLabs
DESCRIPTION:
URL:https://norwestchc.org/event/lifelabs/2027-12-09/
LOCATION:NorWest CHC (Kakabeka Falls)\, 4785 ON-11 Unit B\, Kakabeka Falls\, ONTARIO\, P0T 1W0\, Canada
CATEGORIES:Kakabeka
ORGANIZER;CN="Shaun Peirce":MAILTO:speirce@norwestchc.org
END:VEVENT
BEGIN:VEVENT
DTSTART;TZID=America/Halifax:20271213T100000
DTEND;TZID=America/Halifax:20271213T110000
DTSTAMP:20260419T175151
CREATED:20250509T183232Z
LAST-MODIFIED:20250925T145330Z
UID:10003294-1828692000-1828695600@norwestchc.org
SUMMARY:Chair Yoga
DESCRIPTION:Monday’s @ 10am Virtually or in Kam or O’Connor  \nO’Connor Community Centre: 330 ON-595\, Kakabeka Falls\, ON P0T 1W0 \nKam Hall: 6197 Dawson Road\, Kaministiquia\, ON P0T 1X0
URL:https://norwestchc.org/event/chair-yoga-2/2027-12-13/
LOCATION:O’Connor Community Centre\, 330 ON-595\, Kakabeka Falls\, ON\, ONTARIO\, P0T 1W0\, Canada
CATEGORIES:Kakabeka
ORGANIZER;CN="Shaun Peirce":MAILTO:speirce@norwestchc.org
END:VEVENT
BEGIN:VEVENT
DTSTART;TZID=America/Halifax:20271214T094500
DTEND;TZID=America/Halifax:20271214T110000
DTSTAMP:20260419T175151
CREATED:20241007T202456Z
LAST-MODIFIED:20251030T194252Z
UID:10003553-1828777500-1828782000@norwestchc.org
SUMMARY:Fly the C.O.O.P Walking Group
DESCRIPTION:Fly the COOP Walking Group – Outdoor Walking – Tues/Thurs  9:45 am – 11am \n🕘 When & Where We Meet • Tuesdays & Thursdays • Meet at 9:45 AM at NorWest Community Health Centres – 4785 Hwy 11-17 for carpooling (4 park passes available) • Or meet at 10:00 AM at Mountain Portage Trailhead\, Kakabeka Falls Provincial Park
URL:https://norwestchc.org/event/fly-the-c-o-o-p-walking-group/2027-12-14/
LOCATION:NorWest CHC (Kakabeka Falls)\, 4785 ON-11 Unit B\, Kakabeka Falls\, ONTARIO\, P0T 1W0\, Canada
CATEGORIES:Kakabeka
ORGANIZER;CN="Shaun Peirce":MAILTO:speirce@norwestchc.org
END:VEVENT
BEGIN:VEVENT
DTSTART;TZID=America/Halifax:20271216T094500
DTEND;TZID=America/Halifax:20271216T110000
DTSTAMP:20260419T175151
CREATED:20250627T133041Z
LAST-MODIFIED:20251210T201045Z
UID:10003814-1828950300-1828954800@norwestchc.org
SUMMARY:Fly the C.O.O.P Walking Group (Thurs)
DESCRIPTION:Fly the COOP Walking Group – Outdoor Walking – Tues/Thurs  9:45 am – 11am \n🕘 When & Where We Meet • Tuesdays & Thursdays • Meet at 9:45 AM at NorWest Community Health Centres – 4785 Hwy 11-17 for carpooling (4 park passes available) • Or meet at 10:00 AM at Mountain Portage Trailhead\, Kakabeka Falls Provincial Park
URL:https://norwestchc.org/event/fly-the-c-o-o-p-walking-group-thurs-2/2027-12-16/
LOCATION:NorWest CHC (Kakabeka Falls)\, 4785 ON-11 Unit B\, Kakabeka Falls\, ONTARIO\, P0T 1W0\, Canada
CATEGORIES:Kakabeka
ORGANIZER;CN="Shaun Peirce":MAILTO:speirce@norwestchc.org
END:VEVENT
BEGIN:VEVENT
DTSTART;TZID=America/Halifax:20271216T120000
DTEND;TZID=America/Halifax:20271216T160000
DTSTAMP:20260419T175151
CREATED:20241223T235700Z
LAST-MODIFIED:20241223T235700Z
UID:10000779-1828958400-1828972800@norwestchc.org
SUMMARY:LifeLabs
DESCRIPTION:
URL:https://norwestchc.org/event/lifelabs/2027-12-16/
LOCATION:NorWest CHC (Kakabeka Falls)\, 4785 ON-11 Unit B\, Kakabeka Falls\, ONTARIO\, P0T 1W0\, Canada
CATEGORIES:Kakabeka
ORGANIZER;CN="Shaun Peirce":MAILTO:speirce@norwestchc.org
END:VEVENT
BEGIN:VEVENT
DTSTART;TZID=America/Halifax:20271220T100000
DTEND;TZID=America/Halifax:20271220T110000
DTSTAMP:20260419T175151
CREATED:20250509T183232Z
LAST-MODIFIED:20250925T145330Z
UID:10003295-1829296800-1829300400@norwestchc.org
SUMMARY:Chair Yoga
DESCRIPTION:Monday’s @ 10am Virtually or in Kam or O’Connor  \nO’Connor Community Centre: 330 ON-595\, Kakabeka Falls\, ON P0T 1W0 \nKam Hall: 6197 Dawson Road\, Kaministiquia\, ON P0T 1X0
URL:https://norwestchc.org/event/chair-yoga-2/2027-12-20/
LOCATION:O’Connor Community Centre\, 330 ON-595\, Kakabeka Falls\, ON\, ONTARIO\, P0T 1W0\, Canada
CATEGORIES:Kakabeka
ORGANIZER;CN="Shaun Peirce":MAILTO:speirce@norwestchc.org
END:VEVENT
BEGIN:VEVENT
DTSTART;TZID=America/Halifax:20271221T094500
DTEND;TZID=America/Halifax:20271221T110000
DTSTAMP:20260419T175151
CREATED:20241007T202456Z
LAST-MODIFIED:20251030T194252Z
UID:10003554-1829382300-1829386800@norwestchc.org
SUMMARY:Fly the C.O.O.P Walking Group
DESCRIPTION:Fly the COOP Walking Group – Outdoor Walking – Tues/Thurs  9:45 am – 11am \n🕘 When & Where We Meet • Tuesdays & Thursdays • Meet at 9:45 AM at NorWest Community Health Centres – 4785 Hwy 11-17 for carpooling (4 park passes available) • Or meet at 10:00 AM at Mountain Portage Trailhead\, Kakabeka Falls Provincial Park
URL:https://norwestchc.org/event/fly-the-c-o-o-p-walking-group/2027-12-21/
LOCATION:NorWest CHC (Kakabeka Falls)\, 4785 ON-11 Unit B\, Kakabeka Falls\, ONTARIO\, P0T 1W0\, Canada
CATEGORIES:Kakabeka
ORGANIZER;CN="Shaun Peirce":MAILTO:speirce@norwestchc.org
END:VEVENT
BEGIN:VEVENT
DTSTART;TZID=America/Halifax:20271223T094500
DTEND;TZID=America/Halifax:20271223T110000
DTSTAMP:20260419T175151
CREATED:20250627T133041Z
LAST-MODIFIED:20251210T201045Z
UID:10003815-1829555100-1829559600@norwestchc.org
SUMMARY:Fly the C.O.O.P Walking Group (Thurs)
DESCRIPTION:Fly the COOP Walking Group – Outdoor Walking – Tues/Thurs  9:45 am – 11am \n🕘 When & Where We Meet • Tuesdays & Thursdays • Meet at 9:45 AM at NorWest Community Health Centres – 4785 Hwy 11-17 for carpooling (4 park passes available) • Or meet at 10:00 AM at Mountain Portage Trailhead\, Kakabeka Falls Provincial Park
URL:https://norwestchc.org/event/fly-the-c-o-o-p-walking-group-thurs-2/2027-12-23/
LOCATION:NorWest CHC (Kakabeka Falls)\, 4785 ON-11 Unit B\, Kakabeka Falls\, ONTARIO\, P0T 1W0\, Canada
CATEGORIES:Kakabeka
ORGANIZER;CN="Shaun Peirce":MAILTO:speirce@norwestchc.org
END:VEVENT
BEGIN:VEVENT
DTSTART;TZID=America/Halifax:20271223T120000
DTEND;TZID=America/Halifax:20271223T160000
DTSTAMP:20260419T175151
CREATED:20241223T235700Z
LAST-MODIFIED:20241223T235700Z
UID:10000780-1829563200-1829577600@norwestchc.org
SUMMARY:LifeLabs
DESCRIPTION:
URL:https://norwestchc.org/event/lifelabs/2027-12-23/
LOCATION:NorWest CHC (Kakabeka Falls)\, 4785 ON-11 Unit B\, Kakabeka Falls\, ONTARIO\, P0T 1W0\, Canada
CATEGORIES:Kakabeka
ORGANIZER;CN="Shaun Peirce":MAILTO:speirce@norwestchc.org
END:VEVENT
BEGIN:VEVENT
DTSTART;TZID=America/Halifax:20271227T100000
DTEND;TZID=America/Halifax:20271227T110000
DTSTAMP:20260419T175151
CREATED:20250509T183232Z
LAST-MODIFIED:20250925T145330Z
UID:10003296-1829901600-1829905200@norwestchc.org
SUMMARY:Chair Yoga
DESCRIPTION:Monday’s @ 10am Virtually or in Kam or O’Connor  \nO’Connor Community Centre: 330 ON-595\, Kakabeka Falls\, ON P0T 1W0 \nKam Hall: 6197 Dawson Road\, Kaministiquia\, ON P0T 1X0
URL:https://norwestchc.org/event/chair-yoga-2/2027-12-27/
LOCATION:O’Connor Community Centre\, 330 ON-595\, Kakabeka Falls\, ON\, ONTARIO\, P0T 1W0\, Canada
CATEGORIES:Kakabeka
ORGANIZER;CN="Shaun Peirce":MAILTO:speirce@norwestchc.org
END:VEVENT
BEGIN:VEVENT
DTSTART;TZID=America/Halifax:20271228T094500
DTEND;TZID=America/Halifax:20271228T110000
DTSTAMP:20260419T175151
CREATED:20241007T202456Z
LAST-MODIFIED:20251030T194252Z
UID:10003555-1829987100-1829991600@norwestchc.org
SUMMARY:Fly the C.O.O.P Walking Group
DESCRIPTION:Fly the COOP Walking Group – Outdoor Walking – Tues/Thurs  9:45 am – 11am \n🕘 When & Where We Meet • Tuesdays & Thursdays • Meet at 9:45 AM at NorWest Community Health Centres – 4785 Hwy 11-17 for carpooling (4 park passes available) • Or meet at 10:00 AM at Mountain Portage Trailhead\, Kakabeka Falls Provincial Park
URL:https://norwestchc.org/event/fly-the-c-o-o-p-walking-group/2027-12-28/
LOCATION:NorWest CHC (Kakabeka Falls)\, 4785 ON-11 Unit B\, Kakabeka Falls\, ONTARIO\, P0T 1W0\, Canada
CATEGORIES:Kakabeka
ORGANIZER;CN="Shaun Peirce":MAILTO:speirce@norwestchc.org
END:VEVENT
END:VCALENDAR