BEGIN:VCALENDAR
VERSION:2.0
PRODID:-//NorWest Community Health Centres - ECPv6.15.18//NONSGML v1.0//EN
CALSCALE:GREGORIAN
METHOD:PUBLISH
X-WR-CALNAME:NorWest Community Health Centres
X-ORIGINAL-URL:https://norwestchc.org
X-WR-CALDESC:Events for NorWest Community Health Centres
REFRESH-INTERVAL;VALUE=DURATION:PT1H
X-Robots-Tag:noindex
X-PUBLISHED-TTL:PT1H
BEGIN:VTIMEZONE
TZID:America/Halifax
BEGIN:DAYLIGHT
TZOFFSETFROM:-0400
TZOFFSETTO:-0300
TZNAME:ADT
DTSTART:20280312T060000
END:DAYLIGHT
BEGIN:STANDARD
TZOFFSETFROM:-0300
TZOFFSETTO:-0400
TZNAME:AST
DTSTART:20281105T050000
END:STANDARD
BEGIN:DAYLIGHT
TZOFFSETFROM:-0400
TZOFFSETTO:-0300
TZNAME:ADT
DTSTART:20290311T060000
END:DAYLIGHT
BEGIN:STANDARD
TZOFFSETFROM:-0300
TZOFFSETTO:-0400
TZNAME:AST
DTSTART:20291104T050000
END:STANDARD
BEGIN:DAYLIGHT
TZOFFSETFROM:-0400
TZOFFSETTO:-0300
TZNAME:ADT
DTSTART:20300310T060000
END:DAYLIGHT
BEGIN:STANDARD
TZOFFSETFROM:-0300
TZOFFSETTO:-0400
TZNAME:AST
DTSTART:20301103T050000
END:STANDARD
END:VTIMEZONE
BEGIN:VEVENT
DTSTART;TZID=America/Halifax:20290308T094500
DTEND;TZID=America/Halifax:20290308T110000
DTSTAMP:20260421T175506
CREATED:20250627T133041Z
LAST-MODIFIED:20251210T201045Z
UID:10003878-1867657500-1867662000@norwestchc.org
SUMMARY:Fly the C.O.O.P Walking Group (Thurs)
DESCRIPTION:Fly the COOP Walking Group – Outdoor Walking – Tues/Thurs  9:45 am – 11am \n🕘 When & Where We Meet • Tuesdays & Thursdays • Meet at 9:45 AM at NorWest Community Health Centres – 4785 Hwy 11-17 for carpooling (4 park passes available) • Or meet at 10:00 AM at Mountain Portage Trailhead\, Kakabeka Falls Provincial Park
URL:https://norwestchc.org/event/fly-the-c-o-o-p-walking-group-thurs-2/2029-03-08/
LOCATION:NorWest CHC (Kakabeka Falls)\, 4785 ON-11 Unit B\, Kakabeka Falls\, ONTARIO\, P0T 1W0\, Canada
CATEGORIES:Kakabeka
ORGANIZER;CN="Shaun Peirce":MAILTO:speirce@norwestchc.org
END:VEVENT
BEGIN:VEVENT
DTSTART;TZID=America/Halifax:20290308T120000
DTEND;TZID=America/Halifax:20290308T160000
DTSTAMP:20260421T175506
CREATED:20241223T235700Z
LAST-MODIFIED:20241223T235700Z
UID:10000843-1867665600-1867680000@norwestchc.org
SUMMARY:LifeLabs
DESCRIPTION:
URL:https://norwestchc.org/event/lifelabs/2029-03-08/
LOCATION:NorWest CHC (Kakabeka Falls)\, 4785 ON-11 Unit B\, Kakabeka Falls\, ONTARIO\, P0T 1W0\, Canada
CATEGORIES:Kakabeka
ORGANIZER;CN="Shaun Peirce":MAILTO:speirce@norwestchc.org
END:VEVENT
BEGIN:VEVENT
DTSTART;TZID=America/Halifax:20290312T100000
DTEND;TZID=America/Halifax:20290312T110000
DTSTAMP:20260421T175506
CREATED:20250509T183232Z
LAST-MODIFIED:20250925T145330Z
UID:10003359-1868004000-1868007600@norwestchc.org
SUMMARY:Chair Yoga
DESCRIPTION:Monday’s @ 10am Virtually or in Kam or O’Connor  \nO’Connor Community Centre: 330 ON-595\, Kakabeka Falls\, ON P0T 1W0 \nKam Hall: 6197 Dawson Road\, Kaministiquia\, ON P0T 1X0
URL:https://norwestchc.org/event/chair-yoga-2/2029-03-12/
LOCATION:O’Connor Community Centre\, 330 ON-595\, Kakabeka Falls\, ON\, ONTARIO\, P0T 1W0\, Canada
CATEGORIES:Kakabeka
ORGANIZER;CN="Shaun Peirce":MAILTO:speirce@norwestchc.org
END:VEVENT
BEGIN:VEVENT
DTSTART;TZID=America/Halifax:20290313T094500
DTEND;TZID=America/Halifax:20290313T110000
DTSTAMP:20260421T175506
CREATED:20241007T202456Z
LAST-MODIFIED:20251030T194252Z
UID:10003618-1868089500-1868094000@norwestchc.org
SUMMARY:Fly the C.O.O.P Walking Group
DESCRIPTION:Fly the COOP Walking Group – Outdoor Walking – Tues/Thurs  9:45 am – 11am \n🕘 When & Where We Meet • Tuesdays & Thursdays • Meet at 9:45 AM at NorWest Community Health Centres – 4785 Hwy 11-17 for carpooling (4 park passes available) • Or meet at 10:00 AM at Mountain Portage Trailhead\, Kakabeka Falls Provincial Park
URL:https://norwestchc.org/event/fly-the-c-o-o-p-walking-group/2029-03-13/
LOCATION:NorWest CHC (Kakabeka Falls)\, 4785 ON-11 Unit B\, Kakabeka Falls\, ONTARIO\, P0T 1W0\, Canada
CATEGORIES:Kakabeka
ORGANIZER;CN="Shaun Peirce":MAILTO:speirce@norwestchc.org
END:VEVENT
BEGIN:VEVENT
DTSTART;TZID=America/Halifax:20290315T094500
DTEND;TZID=America/Halifax:20290315T110000
DTSTAMP:20260421T175506
CREATED:20250627T133041Z
LAST-MODIFIED:20251210T201045Z
UID:10003879-1868262300-1868266800@norwestchc.org
SUMMARY:Fly the C.O.O.P Walking Group (Thurs)
DESCRIPTION:Fly the COOP Walking Group – Outdoor Walking – Tues/Thurs  9:45 am – 11am \n🕘 When & Where We Meet • Tuesdays & Thursdays • Meet at 9:45 AM at NorWest Community Health Centres – 4785 Hwy 11-17 for carpooling (4 park passes available) • Or meet at 10:00 AM at Mountain Portage Trailhead\, Kakabeka Falls Provincial Park
URL:https://norwestchc.org/event/fly-the-c-o-o-p-walking-group-thurs-2/2029-03-15/
LOCATION:NorWest CHC (Kakabeka Falls)\, 4785 ON-11 Unit B\, Kakabeka Falls\, ONTARIO\, P0T 1W0\, Canada
CATEGORIES:Kakabeka
ORGANIZER;CN="Shaun Peirce":MAILTO:speirce@norwestchc.org
END:VEVENT
BEGIN:VEVENT
DTSTART;TZID=America/Halifax:20290315T120000
DTEND;TZID=America/Halifax:20290315T160000
DTSTAMP:20260421T175506
CREATED:20241223T235700Z
LAST-MODIFIED:20241223T235700Z
UID:10000844-1868270400-1868284800@norwestchc.org
SUMMARY:LifeLabs
DESCRIPTION:
URL:https://norwestchc.org/event/lifelabs/2029-03-15/
LOCATION:NorWest CHC (Kakabeka Falls)\, 4785 ON-11 Unit B\, Kakabeka Falls\, ONTARIO\, P0T 1W0\, Canada
CATEGORIES:Kakabeka
ORGANIZER;CN="Shaun Peirce":MAILTO:speirce@norwestchc.org
END:VEVENT
BEGIN:VEVENT
DTSTART;TZID=America/Halifax:20290319T100000
DTEND;TZID=America/Halifax:20290319T110000
DTSTAMP:20260421T175506
CREATED:20250509T183232Z
LAST-MODIFIED:20250925T145330Z
UID:10003360-1868608800-1868612400@norwestchc.org
SUMMARY:Chair Yoga
DESCRIPTION:Monday’s @ 10am Virtually or in Kam or O’Connor  \nO’Connor Community Centre: 330 ON-595\, Kakabeka Falls\, ON P0T 1W0 \nKam Hall: 6197 Dawson Road\, Kaministiquia\, ON P0T 1X0
URL:https://norwestchc.org/event/chair-yoga-2/2029-03-19/
LOCATION:O’Connor Community Centre\, 330 ON-595\, Kakabeka Falls\, ON\, ONTARIO\, P0T 1W0\, Canada
CATEGORIES:Kakabeka
ORGANIZER;CN="Shaun Peirce":MAILTO:speirce@norwestchc.org
END:VEVENT
BEGIN:VEVENT
DTSTART;TZID=America/Halifax:20290320T094500
DTEND;TZID=America/Halifax:20290320T110000
DTSTAMP:20260421T175506
CREATED:20241007T202456Z
LAST-MODIFIED:20251030T194252Z
UID:10003619-1868694300-1868698800@norwestchc.org
SUMMARY:Fly the C.O.O.P Walking Group
DESCRIPTION:Fly the COOP Walking Group – Outdoor Walking – Tues/Thurs  9:45 am – 11am \n🕘 When & Where We Meet • Tuesdays & Thursdays • Meet at 9:45 AM at NorWest Community Health Centres – 4785 Hwy 11-17 for carpooling (4 park passes available) • Or meet at 10:00 AM at Mountain Portage Trailhead\, Kakabeka Falls Provincial Park
URL:https://norwestchc.org/event/fly-the-c-o-o-p-walking-group/2029-03-20/
LOCATION:NorWest CHC (Kakabeka Falls)\, 4785 ON-11 Unit B\, Kakabeka Falls\, ONTARIO\, P0T 1W0\, Canada
CATEGORIES:Kakabeka
ORGANIZER;CN="Shaun Peirce":MAILTO:speirce@norwestchc.org
END:VEVENT
BEGIN:VEVENT
DTSTART;TZID=America/Halifax:20290322T094500
DTEND;TZID=America/Halifax:20290322T110000
DTSTAMP:20260421T175506
CREATED:20250627T133041Z
LAST-MODIFIED:20251210T201045Z
UID:10003880-1868867100-1868871600@norwestchc.org
SUMMARY:Fly the C.O.O.P Walking Group (Thurs)
DESCRIPTION:Fly the COOP Walking Group – Outdoor Walking – Tues/Thurs  9:45 am – 11am \n🕘 When & Where We Meet • Tuesdays & Thursdays • Meet at 9:45 AM at NorWest Community Health Centres – 4785 Hwy 11-17 for carpooling (4 park passes available) • Or meet at 10:00 AM at Mountain Portage Trailhead\, Kakabeka Falls Provincial Park
URL:https://norwestchc.org/event/fly-the-c-o-o-p-walking-group-thurs-2/2029-03-22/
LOCATION:NorWest CHC (Kakabeka Falls)\, 4785 ON-11 Unit B\, Kakabeka Falls\, ONTARIO\, P0T 1W0\, Canada
CATEGORIES:Kakabeka
ORGANIZER;CN="Shaun Peirce":MAILTO:speirce@norwestchc.org
END:VEVENT
BEGIN:VEVENT
DTSTART;TZID=America/Halifax:20290322T120000
DTEND;TZID=America/Halifax:20290322T160000
DTSTAMP:20260421T175506
CREATED:20241223T235700Z
LAST-MODIFIED:20241223T235700Z
UID:10000845-1868875200-1868889600@norwestchc.org
SUMMARY:LifeLabs
DESCRIPTION:
URL:https://norwestchc.org/event/lifelabs/2029-03-22/
LOCATION:NorWest CHC (Kakabeka Falls)\, 4785 ON-11 Unit B\, Kakabeka Falls\, ONTARIO\, P0T 1W0\, Canada
CATEGORIES:Kakabeka
ORGANIZER;CN="Shaun Peirce":MAILTO:speirce@norwestchc.org
END:VEVENT
BEGIN:VEVENT
DTSTART;TZID=America/Halifax:20290326T100000
DTEND;TZID=America/Halifax:20290326T110000
DTSTAMP:20260421T175506
CREATED:20250509T183232Z
LAST-MODIFIED:20250925T145330Z
UID:10003361-1869213600-1869217200@norwestchc.org
SUMMARY:Chair Yoga
DESCRIPTION:Monday’s @ 10am Virtually or in Kam or O’Connor  \nO’Connor Community Centre: 330 ON-595\, Kakabeka Falls\, ON P0T 1W0 \nKam Hall: 6197 Dawson Road\, Kaministiquia\, ON P0T 1X0
URL:https://norwestchc.org/event/chair-yoga-2/2029-03-26/
LOCATION:O’Connor Community Centre\, 330 ON-595\, Kakabeka Falls\, ON\, ONTARIO\, P0T 1W0\, Canada
CATEGORIES:Kakabeka
ORGANIZER;CN="Shaun Peirce":MAILTO:speirce@norwestchc.org
END:VEVENT
BEGIN:VEVENT
DTSTART;TZID=America/Halifax:20290327T094500
DTEND;TZID=America/Halifax:20290327T110000
DTSTAMP:20260421T175506
CREATED:20241007T202456Z
LAST-MODIFIED:20251030T194252Z
UID:10003620-1869299100-1869303600@norwestchc.org
SUMMARY:Fly the C.O.O.P Walking Group
DESCRIPTION:Fly the COOP Walking Group – Outdoor Walking – Tues/Thurs  9:45 am – 11am \n🕘 When & Where We Meet • Tuesdays & Thursdays • Meet at 9:45 AM at NorWest Community Health Centres – 4785 Hwy 11-17 for carpooling (4 park passes available) • Or meet at 10:00 AM at Mountain Portage Trailhead\, Kakabeka Falls Provincial Park
URL:https://norwestchc.org/event/fly-the-c-o-o-p-walking-group/2029-03-27/
LOCATION:NorWest CHC (Kakabeka Falls)\, 4785 ON-11 Unit B\, Kakabeka Falls\, ONTARIO\, P0T 1W0\, Canada
CATEGORIES:Kakabeka
ORGANIZER;CN="Shaun Peirce":MAILTO:speirce@norwestchc.org
END:VEVENT
BEGIN:VEVENT
DTSTART;TZID=America/Halifax:20290329T094500
DTEND;TZID=America/Halifax:20290329T110000
DTSTAMP:20260421T175506
CREATED:20250627T133041Z
LAST-MODIFIED:20251210T201045Z
UID:10003881-1869471900-1869476400@norwestchc.org
SUMMARY:Fly the C.O.O.P Walking Group (Thurs)
DESCRIPTION:Fly the COOP Walking Group – Outdoor Walking – Tues/Thurs  9:45 am – 11am \n🕘 When & Where We Meet • Tuesdays & Thursdays • Meet at 9:45 AM at NorWest Community Health Centres – 4785 Hwy 11-17 for carpooling (4 park passes available) • Or meet at 10:00 AM at Mountain Portage Trailhead\, Kakabeka Falls Provincial Park
URL:https://norwestchc.org/event/fly-the-c-o-o-p-walking-group-thurs-2/2029-03-29/
LOCATION:NorWest CHC (Kakabeka Falls)\, 4785 ON-11 Unit B\, Kakabeka Falls\, ONTARIO\, P0T 1W0\, Canada
CATEGORIES:Kakabeka
ORGANIZER;CN="Shaun Peirce":MAILTO:speirce@norwestchc.org
END:VEVENT
BEGIN:VEVENT
DTSTART;TZID=America/Halifax:20290329T120000
DTEND;TZID=America/Halifax:20290329T160000
DTSTAMP:20260421T175506
CREATED:20241223T235700Z
LAST-MODIFIED:20241223T235700Z
UID:10000846-1869480000-1869494400@norwestchc.org
SUMMARY:LifeLabs
DESCRIPTION:
URL:https://norwestchc.org/event/lifelabs/2029-03-29/
LOCATION:NorWest CHC (Kakabeka Falls)\, 4785 ON-11 Unit B\, Kakabeka Falls\, ONTARIO\, P0T 1W0\, Canada
CATEGORIES:Kakabeka
ORGANIZER;CN="Shaun Peirce":MAILTO:speirce@norwestchc.org
END:VEVENT
BEGIN:VEVENT
DTSTART;TZID=America/Halifax:20290402T100000
DTEND;TZID=America/Halifax:20290402T110000
DTSTAMP:20260421T175506
CREATED:20250509T183232Z
LAST-MODIFIED:20250925T145330Z
UID:10003362-1869818400-1869822000@norwestchc.org
SUMMARY:Chair Yoga
DESCRIPTION:Monday’s @ 10am Virtually or in Kam or O’Connor  \nO’Connor Community Centre: 330 ON-595\, Kakabeka Falls\, ON P0T 1W0 \nKam Hall: 6197 Dawson Road\, Kaministiquia\, ON P0T 1X0
URL:https://norwestchc.org/event/chair-yoga-2/2029-04-02/
LOCATION:O’Connor Community Centre\, 330 ON-595\, Kakabeka Falls\, ON\, ONTARIO\, P0T 1W0\, Canada
CATEGORIES:Kakabeka
ORGANIZER;CN="Shaun Peirce":MAILTO:speirce@norwestchc.org
END:VEVENT
BEGIN:VEVENT
DTSTART;TZID=America/Halifax:20290403T094500
DTEND;TZID=America/Halifax:20290403T110000
DTSTAMP:20260421T175506
CREATED:20241007T202456Z
LAST-MODIFIED:20251030T194252Z
UID:10003621-1869903900-1869908400@norwestchc.org
SUMMARY:Fly the C.O.O.P Walking Group
DESCRIPTION:Fly the COOP Walking Group – Outdoor Walking – Tues/Thurs  9:45 am – 11am \n🕘 When & Where We Meet • Tuesdays & Thursdays • Meet at 9:45 AM at NorWest Community Health Centres – 4785 Hwy 11-17 for carpooling (4 park passes available) • Or meet at 10:00 AM at Mountain Portage Trailhead\, Kakabeka Falls Provincial Park
URL:https://norwestchc.org/event/fly-the-c-o-o-p-walking-group/2029-04-03/
LOCATION:NorWest CHC (Kakabeka Falls)\, 4785 ON-11 Unit B\, Kakabeka Falls\, ONTARIO\, P0T 1W0\, Canada
CATEGORIES:Kakabeka
ORGANIZER;CN="Shaun Peirce":MAILTO:speirce@norwestchc.org
END:VEVENT
BEGIN:VEVENT
DTSTART;TZID=America/Halifax:20290405T094500
DTEND;TZID=America/Halifax:20290405T110000
DTSTAMP:20260421T175506
CREATED:20250627T133041Z
LAST-MODIFIED:20251210T201045Z
UID:10003882-1870076700-1870081200@norwestchc.org
SUMMARY:Fly the C.O.O.P Walking Group (Thurs)
DESCRIPTION:Fly the COOP Walking Group – Outdoor Walking – Tues/Thurs  9:45 am – 11am \n🕘 When & Where We Meet • Tuesdays & Thursdays • Meet at 9:45 AM at NorWest Community Health Centres – 4785 Hwy 11-17 for carpooling (4 park passes available) • Or meet at 10:00 AM at Mountain Portage Trailhead\, Kakabeka Falls Provincial Park
URL:https://norwestchc.org/event/fly-the-c-o-o-p-walking-group-thurs-2/2029-04-05/
LOCATION:NorWest CHC (Kakabeka Falls)\, 4785 ON-11 Unit B\, Kakabeka Falls\, ONTARIO\, P0T 1W0\, Canada
CATEGORIES:Kakabeka
ORGANIZER;CN="Shaun Peirce":MAILTO:speirce@norwestchc.org
END:VEVENT
BEGIN:VEVENT
DTSTART;TZID=America/Halifax:20290405T120000
DTEND;TZID=America/Halifax:20290405T160000
DTSTAMP:20260421T175506
CREATED:20241223T235700Z
LAST-MODIFIED:20241223T235700Z
UID:10000847-1870084800-1870099200@norwestchc.org
SUMMARY:LifeLabs
DESCRIPTION:
URL:https://norwestchc.org/event/lifelabs/2029-04-05/
LOCATION:NorWest CHC (Kakabeka Falls)\, 4785 ON-11 Unit B\, Kakabeka Falls\, ONTARIO\, P0T 1W0\, Canada
CATEGORIES:Kakabeka
ORGANIZER;CN="Shaun Peirce":MAILTO:speirce@norwestchc.org
END:VEVENT
BEGIN:VEVENT
DTSTART;TZID=America/Halifax:20290409T100000
DTEND;TZID=America/Halifax:20290409T110000
DTSTAMP:20260421T175506
CREATED:20250509T183232Z
LAST-MODIFIED:20250925T145330Z
UID:10003363-1870423200-1870426800@norwestchc.org
SUMMARY:Chair Yoga
DESCRIPTION:Monday’s @ 10am Virtually or in Kam or O’Connor  \nO’Connor Community Centre: 330 ON-595\, Kakabeka Falls\, ON P0T 1W0 \nKam Hall: 6197 Dawson Road\, Kaministiquia\, ON P0T 1X0
URL:https://norwestchc.org/event/chair-yoga-2/2029-04-09/
LOCATION:O’Connor Community Centre\, 330 ON-595\, Kakabeka Falls\, ON\, ONTARIO\, P0T 1W0\, Canada
CATEGORIES:Kakabeka
ORGANIZER;CN="Shaun Peirce":MAILTO:speirce@norwestchc.org
END:VEVENT
BEGIN:VEVENT
DTSTART;TZID=America/Halifax:20290410T094500
DTEND;TZID=America/Halifax:20290410T110000
DTSTAMP:20260421T175506
CREATED:20241007T202456Z
LAST-MODIFIED:20251030T194252Z
UID:10003622-1870508700-1870513200@norwestchc.org
SUMMARY:Fly the C.O.O.P Walking Group
DESCRIPTION:Fly the COOP Walking Group – Outdoor Walking – Tues/Thurs  9:45 am – 11am \n🕘 When & Where We Meet • Tuesdays & Thursdays • Meet at 9:45 AM at NorWest Community Health Centres – 4785 Hwy 11-17 for carpooling (4 park passes available) • Or meet at 10:00 AM at Mountain Portage Trailhead\, Kakabeka Falls Provincial Park
URL:https://norwestchc.org/event/fly-the-c-o-o-p-walking-group/2029-04-10/
LOCATION:NorWest CHC (Kakabeka Falls)\, 4785 ON-11 Unit B\, Kakabeka Falls\, ONTARIO\, P0T 1W0\, Canada
CATEGORIES:Kakabeka
ORGANIZER;CN="Shaun Peirce":MAILTO:speirce@norwestchc.org
END:VEVENT
BEGIN:VEVENT
DTSTART;TZID=America/Halifax:20290412T094500
DTEND;TZID=America/Halifax:20290412T110000
DTSTAMP:20260421T175506
CREATED:20250627T133041Z
LAST-MODIFIED:20251210T201045Z
UID:10003883-1870681500-1870686000@norwestchc.org
SUMMARY:Fly the C.O.O.P Walking Group (Thurs)
DESCRIPTION:Fly the COOP Walking Group – Outdoor Walking – Tues/Thurs  9:45 am – 11am \n🕘 When & Where We Meet • Tuesdays & Thursdays • Meet at 9:45 AM at NorWest Community Health Centres – 4785 Hwy 11-17 for carpooling (4 park passes available) • Or meet at 10:00 AM at Mountain Portage Trailhead\, Kakabeka Falls Provincial Park
URL:https://norwestchc.org/event/fly-the-c-o-o-p-walking-group-thurs-2/2029-04-12/
LOCATION:NorWest CHC (Kakabeka Falls)\, 4785 ON-11 Unit B\, Kakabeka Falls\, ONTARIO\, P0T 1W0\, Canada
CATEGORIES:Kakabeka
ORGANIZER;CN="Shaun Peirce":MAILTO:speirce@norwestchc.org
END:VEVENT
BEGIN:VEVENT
DTSTART;TZID=America/Halifax:20290412T120000
DTEND;TZID=America/Halifax:20290412T160000
DTSTAMP:20260421T175506
CREATED:20241223T235700Z
LAST-MODIFIED:20241223T235700Z
UID:10000848-1870689600-1870704000@norwestchc.org
SUMMARY:LifeLabs
DESCRIPTION:
URL:https://norwestchc.org/event/lifelabs/2029-04-12/
LOCATION:NorWest CHC (Kakabeka Falls)\, 4785 ON-11 Unit B\, Kakabeka Falls\, ONTARIO\, P0T 1W0\, Canada
CATEGORIES:Kakabeka
ORGANIZER;CN="Shaun Peirce":MAILTO:speirce@norwestchc.org
END:VEVENT
BEGIN:VEVENT
DTSTART;TZID=America/Halifax:20290416T100000
DTEND;TZID=America/Halifax:20290416T110000
DTSTAMP:20260421T175506
CREATED:20250509T183232Z
LAST-MODIFIED:20250925T145330Z
UID:10003364-1871028000-1871031600@norwestchc.org
SUMMARY:Chair Yoga
DESCRIPTION:Monday’s @ 10am Virtually or in Kam or O’Connor  \nO’Connor Community Centre: 330 ON-595\, Kakabeka Falls\, ON P0T 1W0 \nKam Hall: 6197 Dawson Road\, Kaministiquia\, ON P0T 1X0
URL:https://norwestchc.org/event/chair-yoga-2/2029-04-16/
LOCATION:O’Connor Community Centre\, 330 ON-595\, Kakabeka Falls\, ON\, ONTARIO\, P0T 1W0\, Canada
CATEGORIES:Kakabeka
ORGANIZER;CN="Shaun Peirce":MAILTO:speirce@norwestchc.org
END:VEVENT
BEGIN:VEVENT
DTSTART;TZID=America/Halifax:20290417T094500
DTEND;TZID=America/Halifax:20290417T110000
DTSTAMP:20260421T175506
CREATED:20241007T202456Z
LAST-MODIFIED:20251030T194252Z
UID:10003623-1871113500-1871118000@norwestchc.org
SUMMARY:Fly the C.O.O.P Walking Group
DESCRIPTION:Fly the COOP Walking Group – Outdoor Walking – Tues/Thurs  9:45 am – 11am \n🕘 When & Where We Meet • Tuesdays & Thursdays • Meet at 9:45 AM at NorWest Community Health Centres – 4785 Hwy 11-17 for carpooling (4 park passes available) • Or meet at 10:00 AM at Mountain Portage Trailhead\, Kakabeka Falls Provincial Park
URL:https://norwestchc.org/event/fly-the-c-o-o-p-walking-group/2029-04-17/
LOCATION:NorWest CHC (Kakabeka Falls)\, 4785 ON-11 Unit B\, Kakabeka Falls\, ONTARIO\, P0T 1W0\, Canada
CATEGORIES:Kakabeka
ORGANIZER;CN="Shaun Peirce":MAILTO:speirce@norwestchc.org
END:VEVENT
BEGIN:VEVENT
DTSTART;TZID=America/Halifax:20290419T094500
DTEND;TZID=America/Halifax:20290419T110000
DTSTAMP:20260421T175506
CREATED:20250627T133041Z
LAST-MODIFIED:20251210T201045Z
UID:10003884-1871286300-1871290800@norwestchc.org
SUMMARY:Fly the C.O.O.P Walking Group (Thurs)
DESCRIPTION:Fly the COOP Walking Group – Outdoor Walking – Tues/Thurs  9:45 am – 11am \n🕘 When & Where We Meet • Tuesdays & Thursdays • Meet at 9:45 AM at NorWest Community Health Centres – 4785 Hwy 11-17 for carpooling (4 park passes available) • Or meet at 10:00 AM at Mountain Portage Trailhead\, Kakabeka Falls Provincial Park
URL:https://norwestchc.org/event/fly-the-c-o-o-p-walking-group-thurs-2/2029-04-19/
LOCATION:NorWest CHC (Kakabeka Falls)\, 4785 ON-11 Unit B\, Kakabeka Falls\, ONTARIO\, P0T 1W0\, Canada
CATEGORIES:Kakabeka
ORGANIZER;CN="Shaun Peirce":MAILTO:speirce@norwestchc.org
END:VEVENT
BEGIN:VEVENT
DTSTART;TZID=America/Halifax:20290419T120000
DTEND;TZID=America/Halifax:20290419T160000
DTSTAMP:20260421T175506
CREATED:20241223T235700Z
LAST-MODIFIED:20241223T235700Z
UID:10000849-1871294400-1871308800@norwestchc.org
SUMMARY:LifeLabs
DESCRIPTION:
URL:https://norwestchc.org/event/lifelabs/2029-04-19/
LOCATION:NorWest CHC (Kakabeka Falls)\, 4785 ON-11 Unit B\, Kakabeka Falls\, ONTARIO\, P0T 1W0\, Canada
CATEGORIES:Kakabeka
ORGANIZER;CN="Shaun Peirce":MAILTO:speirce@norwestchc.org
END:VEVENT
BEGIN:VEVENT
DTSTART;TZID=America/Halifax:20290423T100000
DTEND;TZID=America/Halifax:20290423T110000
DTSTAMP:20260421T175506
CREATED:20250509T183232Z
LAST-MODIFIED:20250925T145330Z
UID:10003365-1871632800-1871636400@norwestchc.org
SUMMARY:Chair Yoga
DESCRIPTION:Monday’s @ 10am Virtually or in Kam or O’Connor  \nO’Connor Community Centre: 330 ON-595\, Kakabeka Falls\, ON P0T 1W0 \nKam Hall: 6197 Dawson Road\, Kaministiquia\, ON P0T 1X0
URL:https://norwestchc.org/event/chair-yoga-2/2029-04-23/
LOCATION:O’Connor Community Centre\, 330 ON-595\, Kakabeka Falls\, ON\, ONTARIO\, P0T 1W0\, Canada
CATEGORIES:Kakabeka
ORGANIZER;CN="Shaun Peirce":MAILTO:speirce@norwestchc.org
END:VEVENT
BEGIN:VEVENT
DTSTART;TZID=America/Halifax:20290424T094500
DTEND;TZID=America/Halifax:20290424T110000
DTSTAMP:20260421T175506
CREATED:20241007T202456Z
LAST-MODIFIED:20251030T194252Z
UID:10003624-1871718300-1871722800@norwestchc.org
SUMMARY:Fly the C.O.O.P Walking Group
DESCRIPTION:Fly the COOP Walking Group – Outdoor Walking – Tues/Thurs  9:45 am – 11am \n🕘 When & Where We Meet • Tuesdays & Thursdays • Meet at 9:45 AM at NorWest Community Health Centres – 4785 Hwy 11-17 for carpooling (4 park passes available) • Or meet at 10:00 AM at Mountain Portage Trailhead\, Kakabeka Falls Provincial Park
URL:https://norwestchc.org/event/fly-the-c-o-o-p-walking-group/2029-04-24/
LOCATION:NorWest CHC (Kakabeka Falls)\, 4785 ON-11 Unit B\, Kakabeka Falls\, ONTARIO\, P0T 1W0\, Canada
CATEGORIES:Kakabeka
ORGANIZER;CN="Shaun Peirce":MAILTO:speirce@norwestchc.org
END:VEVENT
BEGIN:VEVENT
DTSTART;TZID=America/Halifax:20290426T094500
DTEND;TZID=America/Halifax:20290426T110000
DTSTAMP:20260421T175506
CREATED:20250627T133041Z
LAST-MODIFIED:20251210T201045Z
UID:10003885-1871891100-1871895600@norwestchc.org
SUMMARY:Fly the C.O.O.P Walking Group (Thurs)
DESCRIPTION:Fly the COOP Walking Group – Outdoor Walking – Tues/Thurs  9:45 am – 11am \n🕘 When & Where We Meet • Tuesdays & Thursdays • Meet at 9:45 AM at NorWest Community Health Centres – 4785 Hwy 11-17 for carpooling (4 park passes available) • Or meet at 10:00 AM at Mountain Portage Trailhead\, Kakabeka Falls Provincial Park
URL:https://norwestchc.org/event/fly-the-c-o-o-p-walking-group-thurs-2/2029-04-26/
LOCATION:NorWest CHC (Kakabeka Falls)\, 4785 ON-11 Unit B\, Kakabeka Falls\, ONTARIO\, P0T 1W0\, Canada
CATEGORIES:Kakabeka
ORGANIZER;CN="Shaun Peirce":MAILTO:speirce@norwestchc.org
END:VEVENT
BEGIN:VEVENT
DTSTART;TZID=America/Halifax:20290426T120000
DTEND;TZID=America/Halifax:20290426T160000
DTSTAMP:20260421T175506
CREATED:20241223T235700Z
LAST-MODIFIED:20241223T235700Z
UID:10000850-1871899200-1871913600@norwestchc.org
SUMMARY:LifeLabs
DESCRIPTION:
URL:https://norwestchc.org/event/lifelabs/2029-04-26/
LOCATION:NorWest CHC (Kakabeka Falls)\, 4785 ON-11 Unit B\, Kakabeka Falls\, ONTARIO\, P0T 1W0\, Canada
CATEGORIES:Kakabeka
ORGANIZER;CN="Shaun Peirce":MAILTO:speirce@norwestchc.org
END:VEVENT
END:VCALENDAR