BEGIN:VCALENDAR
VERSION:2.0
PRODID:-//NorWest Community Health Centres - ECPv6.15.18//NONSGML v1.0//EN
CALSCALE:GREGORIAN
METHOD:PUBLISH
X-WR-CALNAME:NorWest Community Health Centres
X-ORIGINAL-URL:https://norwestchc.org
X-WR-CALDESC:Events for NorWest Community Health Centres
REFRESH-INTERVAL;VALUE=DURATION:PT1H
X-Robots-Tag:noindex
X-PUBLISHED-TTL:PT1H
BEGIN:VTIMEZONE
TZID:America/Halifax
BEGIN:DAYLIGHT
TZOFFSETFROM:-0400
TZOFFSETTO:-0300
TZNAME:ADT
DTSTART:20280312T060000
END:DAYLIGHT
BEGIN:STANDARD
TZOFFSETFROM:-0300
TZOFFSETTO:-0400
TZNAME:AST
DTSTART:20281105T050000
END:STANDARD
BEGIN:DAYLIGHT
TZOFFSETFROM:-0400
TZOFFSETTO:-0300
TZNAME:ADT
DTSTART:20290311T060000
END:DAYLIGHT
BEGIN:STANDARD
TZOFFSETFROM:-0300
TZOFFSETTO:-0400
TZNAME:AST
DTSTART:20291104T050000
END:STANDARD
BEGIN:DAYLIGHT
TZOFFSETFROM:-0400
TZOFFSETTO:-0300
TZNAME:ADT
DTSTART:20300310T060000
END:DAYLIGHT
BEGIN:STANDARD
TZOFFSETFROM:-0300
TZOFFSETTO:-0400
TZNAME:AST
DTSTART:20301103T050000
END:STANDARD
END:VTIMEZONE
BEGIN:VEVENT
DTSTART;TZID=America/Halifax:20291025T094500
DTEND;TZID=America/Halifax:20291025T110000
DTSTAMP:20260422T203948
CREATED:20250627T133041Z
LAST-MODIFIED:20251210T201045Z
UID:10003911-1887615900-1887620400@norwestchc.org
SUMMARY:Fly the C.O.O.P Walking Group (Thurs)
DESCRIPTION:Fly the COOP Walking Group – Outdoor Walking – Tues/Thurs  9:45 am – 11am \n🕘 When & Where We Meet • Tuesdays & Thursdays • Meet at 9:45 AM at NorWest Community Health Centres – 4785 Hwy 11-17 for carpooling (4 park passes available) • Or meet at 10:00 AM at Mountain Portage Trailhead\, Kakabeka Falls Provincial Park
URL:https://norwestchc.org/event/fly-the-c-o-o-p-walking-group-thurs-2/2029-10-25/
LOCATION:NorWest CHC (Kakabeka Falls)\, 4785 ON-11 Unit B\, Kakabeka Falls\, ONTARIO\, P0T 1W0\, Canada
CATEGORIES:Kakabeka
ORGANIZER;CN="Shaun Peirce":MAILTO:speirce@norwestchc.org
END:VEVENT
BEGIN:VEVENT
DTSTART;TZID=America/Halifax:20291025T120000
DTEND;TZID=America/Halifax:20291025T160000
DTSTAMP:20260422T203948
CREATED:20241223T235700Z
LAST-MODIFIED:20241223T235700Z
UID:10000876-1887624000-1887638400@norwestchc.org
SUMMARY:LifeLabs
DESCRIPTION:
URL:https://norwestchc.org/event/lifelabs/2029-10-25/
LOCATION:NorWest CHC (Kakabeka Falls)\, 4785 ON-11 Unit B\, Kakabeka Falls\, ONTARIO\, P0T 1W0\, Canada
CATEGORIES:Kakabeka
ORGANIZER;CN="Shaun Peirce":MAILTO:speirce@norwestchc.org
END:VEVENT
BEGIN:VEVENT
DTSTART;TZID=America/Halifax:20291029T100000
DTEND;TZID=America/Halifax:20291029T110000
DTSTAMP:20260422T203948
CREATED:20250509T183232Z
LAST-MODIFIED:20250925T145330Z
UID:10003392-1887962400-1887966000@norwestchc.org
SUMMARY:Chair Yoga
DESCRIPTION:Monday’s @ 10am Virtually or in Kam or O’Connor  \nO’Connor Community Centre: 330 ON-595\, Kakabeka Falls\, ON P0T 1W0 \nKam Hall: 6197 Dawson Road\, Kaministiquia\, ON P0T 1X0
URL:https://norwestchc.org/event/chair-yoga-2/2029-10-29/
LOCATION:O’Connor Community Centre\, 330 ON-595\, Kakabeka Falls\, ON\, ONTARIO\, P0T 1W0\, Canada
CATEGORIES:Kakabeka
ORGANIZER;CN="Shaun Peirce":MAILTO:speirce@norwestchc.org
END:VEVENT
BEGIN:VEVENT
DTSTART;TZID=America/Halifax:20291030T094500
DTEND;TZID=America/Halifax:20291030T110000
DTSTAMP:20260422T203948
CREATED:20241007T202456Z
LAST-MODIFIED:20251030T194252Z
UID:10003651-1888047900-1888052400@norwestchc.org
SUMMARY:Fly the C.O.O.P Walking Group
DESCRIPTION:Fly the COOP Walking Group – Outdoor Walking – Tues/Thurs  9:45 am – 11am \n🕘 When & Where We Meet • Tuesdays & Thursdays • Meet at 9:45 AM at NorWest Community Health Centres – 4785 Hwy 11-17 for carpooling (4 park passes available) • Or meet at 10:00 AM at Mountain Portage Trailhead\, Kakabeka Falls Provincial Park
URL:https://norwestchc.org/event/fly-the-c-o-o-p-walking-group/2029-10-30/
LOCATION:NorWest CHC (Kakabeka Falls)\, 4785 ON-11 Unit B\, Kakabeka Falls\, ONTARIO\, P0T 1W0\, Canada
CATEGORIES:Kakabeka
ORGANIZER;CN="Shaun Peirce":MAILTO:speirce@norwestchc.org
END:VEVENT
BEGIN:VEVENT
DTSTART;TZID=America/Halifax:20291101T094500
DTEND;TZID=America/Halifax:20291101T110000
DTSTAMP:20260422T203948
CREATED:20250627T133041Z
LAST-MODIFIED:20251210T201045Z
UID:10003912-1888220700-1888225200@norwestchc.org
SUMMARY:Fly the C.O.O.P Walking Group (Thurs)
DESCRIPTION:Fly the COOP Walking Group – Outdoor Walking – Tues/Thurs  9:45 am – 11am \n🕘 When & Where We Meet • Tuesdays & Thursdays • Meet at 9:45 AM at NorWest Community Health Centres – 4785 Hwy 11-17 for carpooling (4 park passes available) • Or meet at 10:00 AM at Mountain Portage Trailhead\, Kakabeka Falls Provincial Park
URL:https://norwestchc.org/event/fly-the-c-o-o-p-walking-group-thurs-2/2029-11-01/
LOCATION:NorWest CHC (Kakabeka Falls)\, 4785 ON-11 Unit B\, Kakabeka Falls\, ONTARIO\, P0T 1W0\, Canada
CATEGORIES:Kakabeka
ORGANIZER;CN="Shaun Peirce":MAILTO:speirce@norwestchc.org
END:VEVENT
BEGIN:VEVENT
DTSTART;TZID=America/Halifax:20291101T120000
DTEND;TZID=America/Halifax:20291101T160000
DTSTAMP:20260422T203948
CREATED:20241223T235700Z
LAST-MODIFIED:20241223T235700Z
UID:10000877-1888228800-1888243200@norwestchc.org
SUMMARY:LifeLabs
DESCRIPTION:
URL:https://norwestchc.org/event/lifelabs/2029-11-01/
LOCATION:NorWest CHC (Kakabeka Falls)\, 4785 ON-11 Unit B\, Kakabeka Falls\, ONTARIO\, P0T 1W0\, Canada
CATEGORIES:Kakabeka
ORGANIZER;CN="Shaun Peirce":MAILTO:speirce@norwestchc.org
END:VEVENT
BEGIN:VEVENT
DTSTART;TZID=America/Halifax:20291105T100000
DTEND;TZID=America/Halifax:20291105T110000
DTSTAMP:20260422T203948
CREATED:20250509T183232Z
LAST-MODIFIED:20250925T145330Z
UID:10003393-1888567200-1888570800@norwestchc.org
SUMMARY:Chair Yoga
DESCRIPTION:Monday’s @ 10am Virtually or in Kam or O’Connor  \nO’Connor Community Centre: 330 ON-595\, Kakabeka Falls\, ON P0T 1W0 \nKam Hall: 6197 Dawson Road\, Kaministiquia\, ON P0T 1X0
URL:https://norwestchc.org/event/chair-yoga-2/2029-11-05/
LOCATION:O’Connor Community Centre\, 330 ON-595\, Kakabeka Falls\, ON\, ONTARIO\, P0T 1W0\, Canada
CATEGORIES:Kakabeka
ORGANIZER;CN="Shaun Peirce":MAILTO:speirce@norwestchc.org
END:VEVENT
BEGIN:VEVENT
DTSTART;TZID=America/Halifax:20291106T094500
DTEND;TZID=America/Halifax:20291106T110000
DTSTAMP:20260422T203948
CREATED:20241007T202456Z
LAST-MODIFIED:20251030T194252Z
UID:10003652-1888652700-1888657200@norwestchc.org
SUMMARY:Fly the C.O.O.P Walking Group
DESCRIPTION:Fly the COOP Walking Group – Outdoor Walking – Tues/Thurs  9:45 am – 11am \n🕘 When & Where We Meet • Tuesdays & Thursdays • Meet at 9:45 AM at NorWest Community Health Centres – 4785 Hwy 11-17 for carpooling (4 park passes available) • Or meet at 10:00 AM at Mountain Portage Trailhead\, Kakabeka Falls Provincial Park
URL:https://norwestchc.org/event/fly-the-c-o-o-p-walking-group/2029-11-06/
LOCATION:NorWest CHC (Kakabeka Falls)\, 4785 ON-11 Unit B\, Kakabeka Falls\, ONTARIO\, P0T 1W0\, Canada
CATEGORIES:Kakabeka
ORGANIZER;CN="Shaun Peirce":MAILTO:speirce@norwestchc.org
END:VEVENT
BEGIN:VEVENT
DTSTART;TZID=America/Halifax:20291108T094500
DTEND;TZID=America/Halifax:20291108T110000
DTSTAMP:20260422T203948
CREATED:20250627T133041Z
LAST-MODIFIED:20251210T201045Z
UID:10003913-1888825500-1888830000@norwestchc.org
SUMMARY:Fly the C.O.O.P Walking Group (Thurs)
DESCRIPTION:Fly the COOP Walking Group – Outdoor Walking – Tues/Thurs  9:45 am – 11am \n🕘 When & Where We Meet • Tuesdays & Thursdays • Meet at 9:45 AM at NorWest Community Health Centres – 4785 Hwy 11-17 for carpooling (4 park passes available) • Or meet at 10:00 AM at Mountain Portage Trailhead\, Kakabeka Falls Provincial Park
URL:https://norwestchc.org/event/fly-the-c-o-o-p-walking-group-thurs-2/2029-11-08/
LOCATION:NorWest CHC (Kakabeka Falls)\, 4785 ON-11 Unit B\, Kakabeka Falls\, ONTARIO\, P0T 1W0\, Canada
CATEGORIES:Kakabeka
ORGANIZER;CN="Shaun Peirce":MAILTO:speirce@norwestchc.org
END:VEVENT
BEGIN:VEVENT
DTSTART;TZID=America/Halifax:20291108T120000
DTEND;TZID=America/Halifax:20291108T160000
DTSTAMP:20260422T203948
CREATED:20241223T235700Z
LAST-MODIFIED:20241223T235700Z
UID:10000878-1888833600-1888848000@norwestchc.org
SUMMARY:LifeLabs
DESCRIPTION:
URL:https://norwestchc.org/event/lifelabs/2029-11-08/
LOCATION:NorWest CHC (Kakabeka Falls)\, 4785 ON-11 Unit B\, Kakabeka Falls\, ONTARIO\, P0T 1W0\, Canada
CATEGORIES:Kakabeka
ORGANIZER;CN="Shaun Peirce":MAILTO:speirce@norwestchc.org
END:VEVENT
BEGIN:VEVENT
DTSTART;TZID=America/Halifax:20291112T100000
DTEND;TZID=America/Halifax:20291112T110000
DTSTAMP:20260422T203948
CREATED:20250509T183232Z
LAST-MODIFIED:20250925T145330Z
UID:10003394-1889172000-1889175600@norwestchc.org
SUMMARY:Chair Yoga
DESCRIPTION:Monday’s @ 10am Virtually or in Kam or O’Connor  \nO’Connor Community Centre: 330 ON-595\, Kakabeka Falls\, ON P0T 1W0 \nKam Hall: 6197 Dawson Road\, Kaministiquia\, ON P0T 1X0
URL:https://norwestchc.org/event/chair-yoga-2/2029-11-12/
LOCATION:O’Connor Community Centre\, 330 ON-595\, Kakabeka Falls\, ON\, ONTARIO\, P0T 1W0\, Canada
CATEGORIES:Kakabeka
ORGANIZER;CN="Shaun Peirce":MAILTO:speirce@norwestchc.org
END:VEVENT
BEGIN:VEVENT
DTSTART;TZID=America/Halifax:20291113T094500
DTEND;TZID=America/Halifax:20291113T110000
DTSTAMP:20260422T203948
CREATED:20241007T202456Z
LAST-MODIFIED:20251030T194252Z
UID:10003653-1889257500-1889262000@norwestchc.org
SUMMARY:Fly the C.O.O.P Walking Group
DESCRIPTION:Fly the COOP Walking Group – Outdoor Walking – Tues/Thurs  9:45 am – 11am \n🕘 When & Where We Meet • Tuesdays & Thursdays • Meet at 9:45 AM at NorWest Community Health Centres – 4785 Hwy 11-17 for carpooling (4 park passes available) • Or meet at 10:00 AM at Mountain Portage Trailhead\, Kakabeka Falls Provincial Park
URL:https://norwestchc.org/event/fly-the-c-o-o-p-walking-group/2029-11-13/
LOCATION:NorWest CHC (Kakabeka Falls)\, 4785 ON-11 Unit B\, Kakabeka Falls\, ONTARIO\, P0T 1W0\, Canada
CATEGORIES:Kakabeka
ORGANIZER;CN="Shaun Peirce":MAILTO:speirce@norwestchc.org
END:VEVENT
BEGIN:VEVENT
DTSTART;TZID=America/Halifax:20291115T094500
DTEND;TZID=America/Halifax:20291115T110000
DTSTAMP:20260422T203948
CREATED:20250627T133041Z
LAST-MODIFIED:20251210T201045Z
UID:10003914-1889430300-1889434800@norwestchc.org
SUMMARY:Fly the C.O.O.P Walking Group (Thurs)
DESCRIPTION:Fly the COOP Walking Group – Outdoor Walking – Tues/Thurs  9:45 am – 11am \n🕘 When & Where We Meet • Tuesdays & Thursdays • Meet at 9:45 AM at NorWest Community Health Centres – 4785 Hwy 11-17 for carpooling (4 park passes available) • Or meet at 10:00 AM at Mountain Portage Trailhead\, Kakabeka Falls Provincial Park
URL:https://norwestchc.org/event/fly-the-c-o-o-p-walking-group-thurs-2/2029-11-15/
LOCATION:NorWest CHC (Kakabeka Falls)\, 4785 ON-11 Unit B\, Kakabeka Falls\, ONTARIO\, P0T 1W0\, Canada
CATEGORIES:Kakabeka
ORGANIZER;CN="Shaun Peirce":MAILTO:speirce@norwestchc.org
END:VEVENT
BEGIN:VEVENT
DTSTART;TZID=America/Halifax:20291115T120000
DTEND;TZID=America/Halifax:20291115T160000
DTSTAMP:20260422T203948
CREATED:20241223T235700Z
LAST-MODIFIED:20241223T235700Z
UID:10000879-1889438400-1889452800@norwestchc.org
SUMMARY:LifeLabs
DESCRIPTION:
URL:https://norwestchc.org/event/lifelabs/2029-11-15/
LOCATION:NorWest CHC (Kakabeka Falls)\, 4785 ON-11 Unit B\, Kakabeka Falls\, ONTARIO\, P0T 1W0\, Canada
CATEGORIES:Kakabeka
ORGANIZER;CN="Shaun Peirce":MAILTO:speirce@norwestchc.org
END:VEVENT
BEGIN:VEVENT
DTSTART;TZID=America/Halifax:20291119T100000
DTEND;TZID=America/Halifax:20291119T110000
DTSTAMP:20260422T203948
CREATED:20250509T183232Z
LAST-MODIFIED:20250925T145330Z
UID:10003395-1889776800-1889780400@norwestchc.org
SUMMARY:Chair Yoga
DESCRIPTION:Monday’s @ 10am Virtually or in Kam or O’Connor  \nO’Connor Community Centre: 330 ON-595\, Kakabeka Falls\, ON P0T 1W0 \nKam Hall: 6197 Dawson Road\, Kaministiquia\, ON P0T 1X0
URL:https://norwestchc.org/event/chair-yoga-2/2029-11-19/
LOCATION:O’Connor Community Centre\, 330 ON-595\, Kakabeka Falls\, ON\, ONTARIO\, P0T 1W0\, Canada
CATEGORIES:Kakabeka
ORGANIZER;CN="Shaun Peirce":MAILTO:speirce@norwestchc.org
END:VEVENT
BEGIN:VEVENT
DTSTART;TZID=America/Halifax:20291120T094500
DTEND;TZID=America/Halifax:20291120T110000
DTSTAMP:20260422T203948
CREATED:20241007T202456Z
LAST-MODIFIED:20251030T194252Z
UID:10003654-1889862300-1889866800@norwestchc.org
SUMMARY:Fly the C.O.O.P Walking Group
DESCRIPTION:Fly the COOP Walking Group – Outdoor Walking – Tues/Thurs  9:45 am – 11am \n🕘 When & Where We Meet • Tuesdays & Thursdays • Meet at 9:45 AM at NorWest Community Health Centres – 4785 Hwy 11-17 for carpooling (4 park passes available) • Or meet at 10:00 AM at Mountain Portage Trailhead\, Kakabeka Falls Provincial Park
URL:https://norwestchc.org/event/fly-the-c-o-o-p-walking-group/2029-11-20/
LOCATION:NorWest CHC (Kakabeka Falls)\, 4785 ON-11 Unit B\, Kakabeka Falls\, ONTARIO\, P0T 1W0\, Canada
CATEGORIES:Kakabeka
ORGANIZER;CN="Shaun Peirce":MAILTO:speirce@norwestchc.org
END:VEVENT
BEGIN:VEVENT
DTSTART;TZID=America/Halifax:20291122T094500
DTEND;TZID=America/Halifax:20291122T110000
DTSTAMP:20260422T203948
CREATED:20250627T133041Z
LAST-MODIFIED:20251210T201045Z
UID:10003915-1890035100-1890039600@norwestchc.org
SUMMARY:Fly the C.O.O.P Walking Group (Thurs)
DESCRIPTION:Fly the COOP Walking Group – Outdoor Walking – Tues/Thurs  9:45 am – 11am \n🕘 When & Where We Meet • Tuesdays & Thursdays • Meet at 9:45 AM at NorWest Community Health Centres – 4785 Hwy 11-17 for carpooling (4 park passes available) • Or meet at 10:00 AM at Mountain Portage Trailhead\, Kakabeka Falls Provincial Park
URL:https://norwestchc.org/event/fly-the-c-o-o-p-walking-group-thurs-2/2029-11-22/
LOCATION:NorWest CHC (Kakabeka Falls)\, 4785 ON-11 Unit B\, Kakabeka Falls\, ONTARIO\, P0T 1W0\, Canada
CATEGORIES:Kakabeka
ORGANIZER;CN="Shaun Peirce":MAILTO:speirce@norwestchc.org
END:VEVENT
BEGIN:VEVENT
DTSTART;TZID=America/Halifax:20291122T120000
DTEND;TZID=America/Halifax:20291122T160000
DTSTAMP:20260422T203948
CREATED:20241223T235700Z
LAST-MODIFIED:20241223T235700Z
UID:10000880-1890043200-1890057600@norwestchc.org
SUMMARY:LifeLabs
DESCRIPTION:
URL:https://norwestchc.org/event/lifelabs/2029-11-22/
LOCATION:NorWest CHC (Kakabeka Falls)\, 4785 ON-11 Unit B\, Kakabeka Falls\, ONTARIO\, P0T 1W0\, Canada
CATEGORIES:Kakabeka
ORGANIZER;CN="Shaun Peirce":MAILTO:speirce@norwestchc.org
END:VEVENT
BEGIN:VEVENT
DTSTART;TZID=America/Halifax:20291126T100000
DTEND;TZID=America/Halifax:20291126T110000
DTSTAMP:20260422T203948
CREATED:20250509T183232Z
LAST-MODIFIED:20250925T145330Z
UID:10003396-1890381600-1890385200@norwestchc.org
SUMMARY:Chair Yoga
DESCRIPTION:Monday’s @ 10am Virtually or in Kam or O’Connor  \nO’Connor Community Centre: 330 ON-595\, Kakabeka Falls\, ON P0T 1W0 \nKam Hall: 6197 Dawson Road\, Kaministiquia\, ON P0T 1X0
URL:https://norwestchc.org/event/chair-yoga-2/2029-11-26/
LOCATION:O’Connor Community Centre\, 330 ON-595\, Kakabeka Falls\, ON\, ONTARIO\, P0T 1W0\, Canada
CATEGORIES:Kakabeka
ORGANIZER;CN="Shaun Peirce":MAILTO:speirce@norwestchc.org
END:VEVENT
BEGIN:VEVENT
DTSTART;TZID=America/Halifax:20291127T094500
DTEND;TZID=America/Halifax:20291127T110000
DTSTAMP:20260422T203948
CREATED:20241007T202456Z
LAST-MODIFIED:20251030T194252Z
UID:10003655-1890467100-1890471600@norwestchc.org
SUMMARY:Fly the C.O.O.P Walking Group
DESCRIPTION:Fly the COOP Walking Group – Outdoor Walking – Tues/Thurs  9:45 am – 11am \n🕘 When & Where We Meet • Tuesdays & Thursdays • Meet at 9:45 AM at NorWest Community Health Centres – 4785 Hwy 11-17 for carpooling (4 park passes available) • Or meet at 10:00 AM at Mountain Portage Trailhead\, Kakabeka Falls Provincial Park
URL:https://norwestchc.org/event/fly-the-c-o-o-p-walking-group/2029-11-27/
LOCATION:NorWest CHC (Kakabeka Falls)\, 4785 ON-11 Unit B\, Kakabeka Falls\, ONTARIO\, P0T 1W0\, Canada
CATEGORIES:Kakabeka
ORGANIZER;CN="Shaun Peirce":MAILTO:speirce@norwestchc.org
END:VEVENT
BEGIN:VEVENT
DTSTART;TZID=America/Halifax:20291129T094500
DTEND;TZID=America/Halifax:20291129T110000
DTSTAMP:20260422T203948
CREATED:20250627T133041Z
LAST-MODIFIED:20251210T201045Z
UID:10003916-1890639900-1890644400@norwestchc.org
SUMMARY:Fly the C.O.O.P Walking Group (Thurs)
DESCRIPTION:Fly the COOP Walking Group – Outdoor Walking – Tues/Thurs  9:45 am – 11am \n🕘 When & Where We Meet • Tuesdays & Thursdays • Meet at 9:45 AM at NorWest Community Health Centres – 4785 Hwy 11-17 for carpooling (4 park passes available) • Or meet at 10:00 AM at Mountain Portage Trailhead\, Kakabeka Falls Provincial Park
URL:https://norwestchc.org/event/fly-the-c-o-o-p-walking-group-thurs-2/2029-11-29/
LOCATION:NorWest CHC (Kakabeka Falls)\, 4785 ON-11 Unit B\, Kakabeka Falls\, ONTARIO\, P0T 1W0\, Canada
CATEGORIES:Kakabeka
ORGANIZER;CN="Shaun Peirce":MAILTO:speirce@norwestchc.org
END:VEVENT
BEGIN:VEVENT
DTSTART;TZID=America/Halifax:20291129T120000
DTEND;TZID=America/Halifax:20291129T160000
DTSTAMP:20260422T203948
CREATED:20241223T235700Z
LAST-MODIFIED:20241223T235700Z
UID:10000881-1890648000-1890662400@norwestchc.org
SUMMARY:LifeLabs
DESCRIPTION:
URL:https://norwestchc.org/event/lifelabs/2029-11-29/
LOCATION:NorWest CHC (Kakabeka Falls)\, 4785 ON-11 Unit B\, Kakabeka Falls\, ONTARIO\, P0T 1W0\, Canada
CATEGORIES:Kakabeka
ORGANIZER;CN="Shaun Peirce":MAILTO:speirce@norwestchc.org
END:VEVENT
BEGIN:VEVENT
DTSTART;TZID=America/Halifax:20291203T100000
DTEND;TZID=America/Halifax:20291203T110000
DTSTAMP:20260422T203948
CREATED:20250509T183232Z
LAST-MODIFIED:20250925T145330Z
UID:10003397-1890986400-1890990000@norwestchc.org
SUMMARY:Chair Yoga
DESCRIPTION:Monday’s @ 10am Virtually or in Kam or O’Connor  \nO’Connor Community Centre: 330 ON-595\, Kakabeka Falls\, ON P0T 1W0 \nKam Hall: 6197 Dawson Road\, Kaministiquia\, ON P0T 1X0
URL:https://norwestchc.org/event/chair-yoga-2/2029-12-03/
LOCATION:O’Connor Community Centre\, 330 ON-595\, Kakabeka Falls\, ON\, ONTARIO\, P0T 1W0\, Canada
CATEGORIES:Kakabeka
ORGANIZER;CN="Shaun Peirce":MAILTO:speirce@norwestchc.org
END:VEVENT
BEGIN:VEVENT
DTSTART;TZID=America/Halifax:20291204T094500
DTEND;TZID=America/Halifax:20291204T110000
DTSTAMP:20260422T203948
CREATED:20241007T202456Z
LAST-MODIFIED:20251030T194252Z
UID:10003656-1891071900-1891076400@norwestchc.org
SUMMARY:Fly the C.O.O.P Walking Group
DESCRIPTION:Fly the COOP Walking Group – Outdoor Walking – Tues/Thurs  9:45 am – 11am \n🕘 When & Where We Meet • Tuesdays & Thursdays • Meet at 9:45 AM at NorWest Community Health Centres – 4785 Hwy 11-17 for carpooling (4 park passes available) • Or meet at 10:00 AM at Mountain Portage Trailhead\, Kakabeka Falls Provincial Park
URL:https://norwestchc.org/event/fly-the-c-o-o-p-walking-group/2029-12-04/
LOCATION:NorWest CHC (Kakabeka Falls)\, 4785 ON-11 Unit B\, Kakabeka Falls\, ONTARIO\, P0T 1W0\, Canada
CATEGORIES:Kakabeka
ORGANIZER;CN="Shaun Peirce":MAILTO:speirce@norwestchc.org
END:VEVENT
BEGIN:VEVENT
DTSTART;TZID=America/Halifax:20291206T094500
DTEND;TZID=America/Halifax:20291206T110000
DTSTAMP:20260422T203948
CREATED:20250627T133041Z
LAST-MODIFIED:20251210T201045Z
UID:10003917-1891244700-1891249200@norwestchc.org
SUMMARY:Fly the C.O.O.P Walking Group (Thurs)
DESCRIPTION:Fly the COOP Walking Group – Outdoor Walking – Tues/Thurs  9:45 am – 11am \n🕘 When & Where We Meet • Tuesdays & Thursdays • Meet at 9:45 AM at NorWest Community Health Centres – 4785 Hwy 11-17 for carpooling (4 park passes available) • Or meet at 10:00 AM at Mountain Portage Trailhead\, Kakabeka Falls Provincial Park
URL:https://norwestchc.org/event/fly-the-c-o-o-p-walking-group-thurs-2/2029-12-06/
LOCATION:NorWest CHC (Kakabeka Falls)\, 4785 ON-11 Unit B\, Kakabeka Falls\, ONTARIO\, P0T 1W0\, Canada
CATEGORIES:Kakabeka
ORGANIZER;CN="Shaun Peirce":MAILTO:speirce@norwestchc.org
END:VEVENT
BEGIN:VEVENT
DTSTART;TZID=America/Halifax:20291206T120000
DTEND;TZID=America/Halifax:20291206T160000
DTSTAMP:20260422T203948
CREATED:20241223T235700Z
LAST-MODIFIED:20241223T235700Z
UID:10000882-1891252800-1891267200@norwestchc.org
SUMMARY:LifeLabs
DESCRIPTION:
URL:https://norwestchc.org/event/lifelabs/2029-12-06/
LOCATION:NorWest CHC (Kakabeka Falls)\, 4785 ON-11 Unit B\, Kakabeka Falls\, ONTARIO\, P0T 1W0\, Canada
CATEGORIES:Kakabeka
ORGANIZER;CN="Shaun Peirce":MAILTO:speirce@norwestchc.org
END:VEVENT
BEGIN:VEVENT
DTSTART;TZID=America/Halifax:20291210T100000
DTEND;TZID=America/Halifax:20291210T110000
DTSTAMP:20260422T203948
CREATED:20250509T183232Z
LAST-MODIFIED:20250925T145330Z
UID:10003398-1891591200-1891594800@norwestchc.org
SUMMARY:Chair Yoga
DESCRIPTION:Monday’s @ 10am Virtually or in Kam or O’Connor  \nO’Connor Community Centre: 330 ON-595\, Kakabeka Falls\, ON P0T 1W0 \nKam Hall: 6197 Dawson Road\, Kaministiquia\, ON P0T 1X0
URL:https://norwestchc.org/event/chair-yoga-2/2029-12-10/
LOCATION:O’Connor Community Centre\, 330 ON-595\, Kakabeka Falls\, ON\, ONTARIO\, P0T 1W0\, Canada
CATEGORIES:Kakabeka
ORGANIZER;CN="Shaun Peirce":MAILTO:speirce@norwestchc.org
END:VEVENT
BEGIN:VEVENT
DTSTART;TZID=America/Halifax:20291211T094500
DTEND;TZID=America/Halifax:20291211T110000
DTSTAMP:20260422T203948
CREATED:20241007T202456Z
LAST-MODIFIED:20251030T194252Z
UID:10003657-1891676700-1891681200@norwestchc.org
SUMMARY:Fly the C.O.O.P Walking Group
DESCRIPTION:Fly the COOP Walking Group – Outdoor Walking – Tues/Thurs  9:45 am – 11am \n🕘 When & Where We Meet • Tuesdays & Thursdays • Meet at 9:45 AM at NorWest Community Health Centres – 4785 Hwy 11-17 for carpooling (4 park passes available) • Or meet at 10:00 AM at Mountain Portage Trailhead\, Kakabeka Falls Provincial Park
URL:https://norwestchc.org/event/fly-the-c-o-o-p-walking-group/2029-12-11/
LOCATION:NorWest CHC (Kakabeka Falls)\, 4785 ON-11 Unit B\, Kakabeka Falls\, ONTARIO\, P0T 1W0\, Canada
CATEGORIES:Kakabeka
ORGANIZER;CN="Shaun Peirce":MAILTO:speirce@norwestchc.org
END:VEVENT
BEGIN:VEVENT
DTSTART;TZID=America/Halifax:20291213T094500
DTEND;TZID=America/Halifax:20291213T110000
DTSTAMP:20260422T203948
CREATED:20250627T133041Z
LAST-MODIFIED:20251210T201045Z
UID:10003918-1891849500-1891854000@norwestchc.org
SUMMARY:Fly the C.O.O.P Walking Group (Thurs)
DESCRIPTION:Fly the COOP Walking Group – Outdoor Walking – Tues/Thurs  9:45 am – 11am \n🕘 When & Where We Meet • Tuesdays & Thursdays • Meet at 9:45 AM at NorWest Community Health Centres – 4785 Hwy 11-17 for carpooling (4 park passes available) • Or meet at 10:00 AM at Mountain Portage Trailhead\, Kakabeka Falls Provincial Park
URL:https://norwestchc.org/event/fly-the-c-o-o-p-walking-group-thurs-2/2029-12-13/
LOCATION:NorWest CHC (Kakabeka Falls)\, 4785 ON-11 Unit B\, Kakabeka Falls\, ONTARIO\, P0T 1W0\, Canada
CATEGORIES:Kakabeka
ORGANIZER;CN="Shaun Peirce":MAILTO:speirce@norwestchc.org
END:VEVENT
BEGIN:VEVENT
DTSTART;TZID=America/Halifax:20291213T120000
DTEND;TZID=America/Halifax:20291213T160000
DTSTAMP:20260422T203948
CREATED:20241223T235700Z
LAST-MODIFIED:20241223T235700Z
UID:10000883-1891857600-1891872000@norwestchc.org
SUMMARY:LifeLabs
DESCRIPTION:
URL:https://norwestchc.org/event/lifelabs/2029-12-13/
LOCATION:NorWest CHC (Kakabeka Falls)\, 4785 ON-11 Unit B\, Kakabeka Falls\, ONTARIO\, P0T 1W0\, Canada
CATEGORIES:Kakabeka
ORGANIZER;CN="Shaun Peirce":MAILTO:speirce@norwestchc.org
END:VEVENT
END:VCALENDAR