BEGIN:VCALENDAR
VERSION:2.0
PRODID:-//NorWest Community Health Centres - ECPv6.15.18//NONSGML v1.0//EN
CALSCALE:GREGORIAN
METHOD:PUBLISH
X-ORIGINAL-URL:https://norwestchc.org
X-WR-CALDESC:Events for NorWest Community Health Centres
REFRESH-INTERVAL;VALUE=DURATION:PT1H
X-Robots-Tag:noindex
X-PUBLISHED-TTL:PT1H
BEGIN:VTIMEZONE
TZID:America/Halifax
BEGIN:DAYLIGHT
TZOFFSETFROM:-0400
TZOFFSETTO:-0300
TZNAME:ADT
DTSTART:20240310T060000
END:DAYLIGHT
BEGIN:STANDARD
TZOFFSETFROM:-0300
TZOFFSETTO:-0400
TZNAME:AST
DTSTART:20241103T050000
END:STANDARD
BEGIN:DAYLIGHT
TZOFFSETFROM:-0400
TZOFFSETTO:-0300
TZNAME:ADT
DTSTART:20250309T060000
END:DAYLIGHT
BEGIN:STANDARD
TZOFFSETFROM:-0300
TZOFFSETTO:-0400
TZNAME:AST
DTSTART:20251102T050000
END:STANDARD
BEGIN:DAYLIGHT
TZOFFSETFROM:-0400
TZOFFSETTO:-0300
TZNAME:ADT
DTSTART:20260308T060000
END:DAYLIGHT
BEGIN:STANDARD
TZOFFSETFROM:-0300
TZOFFSETTO:-0400
TZNAME:AST
DTSTART:20261101T050000
END:STANDARD
END:VTIMEZONE
BEGIN:VEVENT
DTSTART;TZID=America/Halifax:20250401T180000
DTEND;TZID=America/Halifax:20250401T190000
DTSTAMP:20260421T121608
CREATED:20250324T023832Z
LAST-MODIFIED:20250324T023832Z
UID:10001100-1743530400-1743534000@norwestchc.org
SUMMARY:Kids in the Kitchen
DESCRIPTION:Calling kids ages 4-7\, learn how to make healthy spring snacks\, and participate in interactive nutritional education and crafts
URL:https://norwestchc.org/event/kids-in-the-kitchen/2025-04-01/
LOCATION:NorWest CHC (Longlac)\, 99 Skinner Ave\,\, Longlac\, ON\, P0T 2A0\, Canada
CATEGORIES:Longlac
END:VEVENT
BEGIN:VEVENT
DTSTART;TZID=America/Halifax:20250403T103000
DTEND;TZID=America/Halifax:20250403T110000
DTSTAMP:20260421T121608
CREATED:20250107T211305Z
LAST-MODIFIED:20250107T211337Z
UID:10000905-1743676200-1743678000@norwestchc.org
SUMMARY:Adult Balance - Low Impact Exercise
DESCRIPTION:
URL:https://norwestchc.org/event/adult-balance-low-impact-exercise/2025-04-03/
LOCATION:NorWest CHC (Longlac)\, 99 Skinner Ave\,\, Longlac\, ON\, P0T 2A0\, Canada
CATEGORIES:Longlac
ORGANIZER;CN="Sandra Abernot":MAILTO:sabernot@norwestchc.org
END:VEVENT
BEGIN:VEVENT
DTSTART;TZID=America/Halifax:20250405T100000
DTEND;TZID=America/Halifax:20250405T123000
DTSTAMP:20260421T121608
CREATED:20250304T141947Z
LAST-MODIFIED:20250304T141947Z
UID:10001089-1743847200-1743856200@norwestchc.org
SUMMARY:Chronic Disease Self-Management Program Workshop Series (SATURDAYS)
DESCRIPTION:
URL:https://norwestchc.org/event/chronic-disease-self-management-program-workshop-series-saturdays/2025-04-05/
CATEGORIES:Armstrong,Kakabeka,Longlac,Online,Thunder Bay
ATTACH;FMTTYPE=image/jpeg:https://norwestchc.org/wp-content/uploads/2025/03/CDSMP-Top.jpg
LOCATION:https://norwestchc.org/event/chronic-disease-self-management-program-workshop-series-saturdays/2025-04-05/
END:VEVENT
BEGIN:VEVENT
DTSTART;TZID=America/Halifax:20250408T180000
DTEND;TZID=America/Halifax:20250408T190000
DTSTAMP:20260421T121608
CREATED:20250324T023832Z
LAST-MODIFIED:20250324T023832Z
UID:10001101-1744135200-1744138800@norwestchc.org
SUMMARY:Kids in the Kitchen
DESCRIPTION:Calling kids ages 4-7\, learn how to make healthy spring snacks\, and participate in interactive nutritional education and crafts
URL:https://norwestchc.org/event/kids-in-the-kitchen/2025-04-08/
LOCATION:NorWest CHC (Longlac)\, 99 Skinner Ave\,\, Longlac\, ON\, P0T 2A0\, Canada
CATEGORIES:Longlac
END:VEVENT
BEGIN:VEVENT
DTSTART;TZID=America/Halifax:20250410T103000
DTEND;TZID=America/Halifax:20250410T110000
DTSTAMP:20260421T121608
CREATED:20250107T211305Z
LAST-MODIFIED:20250107T211337Z
UID:10000906-1744281000-1744282800@norwestchc.org
SUMMARY:Adult Balance - Low Impact Exercise
DESCRIPTION:
URL:https://norwestchc.org/event/adult-balance-low-impact-exercise/2025-04-10/
LOCATION:NorWest CHC (Longlac)\, 99 Skinner Ave\,\, Longlac\, ON\, P0T 2A0\, Canada
CATEGORIES:Longlac
ORGANIZER;CN="Sandra Abernot":MAILTO:sabernot@norwestchc.org
END:VEVENT
BEGIN:VEVENT
DTSTART;TZID=America/Halifax:20250412T100000
DTEND;TZID=America/Halifax:20250412T123000
DTSTAMP:20260421T121608
CREATED:20250304T141947Z
LAST-MODIFIED:20250304T141947Z
UID:10001090-1744452000-1744461000@norwestchc.org
SUMMARY:Chronic Disease Self-Management Program Workshop Series (SATURDAYS)
DESCRIPTION:
URL:https://norwestchc.org/event/chronic-disease-self-management-program-workshop-series-saturdays/2025-04-12/
CATEGORIES:Armstrong,Kakabeka,Longlac,Online,Thunder Bay
ATTACH;FMTTYPE=image/jpeg:https://norwestchc.org/wp-content/uploads/2025/03/CDSMP-Top.jpg
LOCATION:https://norwestchc.org/event/chronic-disease-self-management-program-workshop-series-saturdays/2025-04-12/
END:VEVENT
BEGIN:VEVENT
DTSTART;TZID=America/Halifax:20250415T180000
DTEND;TZID=America/Halifax:20250415T190000
DTSTAMP:20260421T121608
CREATED:20250324T023832Z
LAST-MODIFIED:20250324T023832Z
UID:10001102-1744740000-1744743600@norwestchc.org
SUMMARY:Kids in the Kitchen
DESCRIPTION:Calling kids ages 4-7\, learn how to make healthy spring snacks\, and participate in interactive nutritional education and crafts
URL:https://norwestchc.org/event/kids-in-the-kitchen/2025-04-15/
LOCATION:NorWest CHC (Longlac)\, 99 Skinner Ave\,\, Longlac\, ON\, P0T 2A0\, Canada
CATEGORIES:Longlac
END:VEVENT
BEGIN:VEVENT
DTSTART;TZID=America/Halifax:20250417T100000
DTEND;TZID=America/Halifax:20250417T110000
DTSTAMP:20260421T121608
CREATED:20250409T182820Z
LAST-MODIFIED:20250409T182820Z
UID:10001149-1744884000-1744887600@norwestchc.org
SUMMARY:Friends of the North Nutrition
DESCRIPTION:
URL:https://norwestchc.org/event/friends-of-the-north-nutrition-3/
LOCATION:NorWest CHC (Longlac)\, 99 Skinner Ave\,\, Longlac\, ON\, P0T 2A0\, Canada
CATEGORIES:Longlac
END:VEVENT
BEGIN:VEVENT
DTSTART;TZID=America/Halifax:20250417T103000
DTEND;TZID=America/Halifax:20250417T110000
DTSTAMP:20260421T121608
CREATED:20250107T211305Z
LAST-MODIFIED:20250107T211337Z
UID:10000907-1744885800-1744887600@norwestchc.org
SUMMARY:Adult Balance - Low Impact Exercise
DESCRIPTION:
URL:https://norwestchc.org/event/adult-balance-low-impact-exercise/2025-04-17/
LOCATION:NorWest CHC (Longlac)\, 99 Skinner Ave\,\, Longlac\, ON\, P0T 2A0\, Canada
CATEGORIES:Longlac
ORGANIZER;CN="Sandra Abernot":MAILTO:sabernot@norwestchc.org
END:VEVENT
BEGIN:VEVENT
DTSTART;TZID=America/Halifax:20250419T100000
DTEND;TZID=America/Halifax:20250419T123000
DTSTAMP:20260421T121608
CREATED:20250304T141947Z
LAST-MODIFIED:20250304T141947Z
UID:10001091-1745056800-1745065800@norwestchc.org
SUMMARY:Chronic Disease Self-Management Program Workshop Series (SATURDAYS)
DESCRIPTION:
URL:https://norwestchc.org/event/chronic-disease-self-management-program-workshop-series-saturdays/2025-04-19/
CATEGORIES:Armstrong,Kakabeka,Longlac,Online,Thunder Bay
ATTACH;FMTTYPE=image/jpeg:https://norwestchc.org/wp-content/uploads/2025/03/CDSMP-Top.jpg
LOCATION:https://norwestchc.org/event/chronic-disease-self-management-program-workshop-series-saturdays/2025-04-19/
END:VEVENT
BEGIN:VEVENT
DTSTART;TZID=America/Halifax:20250422T180000
DTEND;TZID=America/Halifax:20250422T190000
DTSTAMP:20260421T121609
CREATED:20250324T023832Z
LAST-MODIFIED:20250324T023832Z
UID:10001103-1745344800-1745348400@norwestchc.org
SUMMARY:Kids in the Kitchen
DESCRIPTION:Calling kids ages 4-7\, learn how to make healthy spring snacks\, and participate in interactive nutritional education and crafts
URL:https://norwestchc.org/event/kids-in-the-kitchen/2025-04-22/
LOCATION:NorWest CHC (Longlac)\, 99 Skinner Ave\,\, Longlac\, ON\, P0T 2A0\, Canada
CATEGORIES:Longlac
END:VEVENT
BEGIN:VEVENT
DTSTART;TZID=America/Halifax:20250424T103000
DTEND;TZID=America/Halifax:20250424T110000
DTSTAMP:20260421T121609
CREATED:20250107T211305Z
LAST-MODIFIED:20250107T211337Z
UID:10000908-1745490600-1745492400@norwestchc.org
SUMMARY:Adult Balance - Low Impact Exercise
DESCRIPTION:
URL:https://norwestchc.org/event/adult-balance-low-impact-exercise/2025-04-24/
LOCATION:NorWest CHC (Longlac)\, 99 Skinner Ave\,\, Longlac\, ON\, P0T 2A0\, Canada
CATEGORIES:Longlac
ORGANIZER;CN="Sandra Abernot":MAILTO:sabernot@norwestchc.org
END:VEVENT
BEGIN:VEVENT
DTSTART;TZID=America/Halifax:20250426T100000
DTEND;TZID=America/Halifax:20250426T123000
DTSTAMP:20260421T121609
CREATED:20250304T141947Z
LAST-MODIFIED:20250304T141947Z
UID:10001092-1745661600-1745670600@norwestchc.org
SUMMARY:Chronic Disease Self-Management Program Workshop Series (SATURDAYS)
DESCRIPTION:
URL:https://norwestchc.org/event/chronic-disease-self-management-program-workshop-series-saturdays/2025-04-26/
CATEGORIES:Armstrong,Kakabeka,Longlac,Online,Thunder Bay
ATTACH;FMTTYPE=image/jpeg:https://norwestchc.org/wp-content/uploads/2025/03/CDSMP-Top.jpg
LOCATION:https://norwestchc.org/event/chronic-disease-self-management-program-workshop-series-saturdays/2025-04-26/
END:VEVENT
BEGIN:VEVENT
DTSTART;TZID=America/Halifax:20250429T180000
DTEND;TZID=America/Halifax:20250429T190000
DTSTAMP:20260421T121609
CREATED:20250324T023832Z
LAST-MODIFIED:20250324T023832Z
UID:10001104-1745949600-1745953200@norwestchc.org
SUMMARY:Kids in the Kitchen
DESCRIPTION:Calling kids ages 4-7\, learn how to make healthy spring snacks\, and participate in interactive nutritional education and crafts
URL:https://norwestchc.org/event/kids-in-the-kitchen/2025-04-29/
LOCATION:NorWest CHC (Longlac)\, 99 Skinner Ave\,\, Longlac\, ON\, P0T 2A0\, Canada
CATEGORIES:Longlac
END:VEVENT
END:VCALENDAR