BEGIN:VCALENDAR
VERSION:2.0
PRODID:-//NorWest Community Health Centres - ECPv6.15.18//NONSGML v1.0//EN
CALSCALE:GREGORIAN
METHOD:PUBLISH
X-ORIGINAL-URL:https://norwestchc.org
X-WR-CALDESC:Events for NorWest Community Health Centres
REFRESH-INTERVAL;VALUE=DURATION:PT1H
X-Robots-Tag:noindex
X-PUBLISHED-TTL:PT1H
BEGIN:VTIMEZONE
TZID:America/Halifax
BEGIN:DAYLIGHT
TZOFFSETFROM:-0400
TZOFFSETTO:-0300
TZNAME:ADT
DTSTART:20270314T060000
END:DAYLIGHT
BEGIN:STANDARD
TZOFFSETFROM:-0300
TZOFFSETTO:-0400
TZNAME:AST
DTSTART:20271107T050000
END:STANDARD
BEGIN:DAYLIGHT
TZOFFSETFROM:-0400
TZOFFSETTO:-0300
TZNAME:ADT
DTSTART:20280312T060000
END:DAYLIGHT
BEGIN:STANDARD
TZOFFSETFROM:-0300
TZOFFSETTO:-0400
TZNAME:AST
DTSTART:20281105T050000
END:STANDARD
BEGIN:DAYLIGHT
TZOFFSETFROM:-0400
TZOFFSETTO:-0300
TZNAME:ADT
DTSTART:20290311T060000
END:DAYLIGHT
BEGIN:STANDARD
TZOFFSETFROM:-0300
TZOFFSETTO:-0400
TZNAME:AST
DTSTART:20291104T050000
END:STANDARD
END:VTIMEZONE
BEGIN:VEVENT
DTSTART;TZID=America/Halifax:20280905T103000
DTEND;TZID=America/Halifax:20280905T113000
DTSTAMP:20260422T024655
CREATED:20250513T144427Z
LAST-MODIFIED:20251030T194351Z
UID:10001418-1851762600-1851766200@norwestchc.org
SUMMARY:Walk the Block
DESCRIPTION:
URL:https://norwestchc.org/event/walk-the-block-2/2028-09-05/
LOCATION:NorWest CHC (Longlac)\, 99 Skinner Ave\,\, Longlac\, ON\, P0T 2A0\, Canada
CATEGORIES:Longlac
END:VEVENT
BEGIN:VEVENT
DTSTART;TZID=America/Halifax:20280912T103000
DTEND;TZID=America/Halifax:20280912T113000
DTSTAMP:20260422T024655
CREATED:20250513T144427Z
LAST-MODIFIED:20251030T194351Z
UID:10001419-1852367400-1852371000@norwestchc.org
SUMMARY:Walk the Block
DESCRIPTION:
URL:https://norwestchc.org/event/walk-the-block-2/2028-09-12/
LOCATION:NorWest CHC (Longlac)\, 99 Skinner Ave\,\, Longlac\, ON\, P0T 2A0\, Canada
CATEGORIES:Longlac
END:VEVENT
BEGIN:VEVENT
DTSTART;TZID=America/Halifax:20280919T103000
DTEND;TZID=America/Halifax:20280919T113000
DTSTAMP:20260422T024655
CREATED:20250513T144427Z
LAST-MODIFIED:20251030T194351Z
UID:10001420-1852972200-1852975800@norwestchc.org
SUMMARY:Walk the Block
DESCRIPTION:
URL:https://norwestchc.org/event/walk-the-block-2/2028-09-19/
LOCATION:NorWest CHC (Longlac)\, 99 Skinner Ave\,\, Longlac\, ON\, P0T 2A0\, Canada
CATEGORIES:Longlac
END:VEVENT
BEGIN:VEVENT
DTSTART;TZID=America/Halifax:20280926T103000
DTEND;TZID=America/Halifax:20280926T113000
DTSTAMP:20260422T024655
CREATED:20250513T144427Z
LAST-MODIFIED:20251030T194351Z
UID:10001421-1853577000-1853580600@norwestchc.org
SUMMARY:Walk the Block
DESCRIPTION:
URL:https://norwestchc.org/event/walk-the-block-2/2028-09-26/
LOCATION:NorWest CHC (Longlac)\, 99 Skinner Ave\,\, Longlac\, ON\, P0T 2A0\, Canada
CATEGORIES:Longlac
END:VEVENT
END:VCALENDAR