BEGIN:VCALENDAR
VERSION:2.0
PRODID:-//NorWest Community Health Centres - ECPv6.15.18//NONSGML v1.0//EN
CALSCALE:GREGORIAN
METHOD:PUBLISH
X-ORIGINAL-URL:https://norwestchc.org
X-WR-CALDESC:Events for NorWest Community Health Centres
REFRESH-INTERVAL;VALUE=DURATION:PT1H
X-Robots-Tag:noindex
X-PUBLISHED-TTL:PT1H
BEGIN:VTIMEZONE
TZID:America/Halifax
BEGIN:DAYLIGHT
TZOFFSETFROM:-0400
TZOFFSETTO:-0300
TZNAME:ADT
DTSTART:20270314T060000
END:DAYLIGHT
BEGIN:STANDARD
TZOFFSETFROM:-0300
TZOFFSETTO:-0400
TZNAME:AST
DTSTART:20271107T050000
END:STANDARD
BEGIN:DAYLIGHT
TZOFFSETFROM:-0400
TZOFFSETTO:-0300
TZNAME:ADT
DTSTART:20280312T060000
END:DAYLIGHT
BEGIN:STANDARD
TZOFFSETFROM:-0300
TZOFFSETTO:-0400
TZNAME:AST
DTSTART:20281105T050000
END:STANDARD
BEGIN:DAYLIGHT
TZOFFSETFROM:-0400
TZOFFSETTO:-0300
TZNAME:ADT
DTSTART:20290311T060000
END:DAYLIGHT
BEGIN:STANDARD
TZOFFSETFROM:-0300
TZOFFSETTO:-0400
TZNAME:AST
DTSTART:20291104T050000
END:STANDARD
END:VTIMEZONE
BEGIN:VEVENT
DTSTART;TZID=America/Halifax:20281107T103000
DTEND;TZID=America/Halifax:20281107T113000
DTSTAMP:20260422T083435
CREATED:20250513T144427Z
LAST-MODIFIED:20251030T194351Z
UID:10001427-1857205800-1857209400@norwestchc.org
SUMMARY:Walk the Block
DESCRIPTION:
URL:https://norwestchc.org/event/walk-the-block-2/2028-11-07/
LOCATION:NorWest CHC (Longlac)\, 99 Skinner Ave\,\, Longlac\, ON\, P0T 2A0\, Canada
CATEGORIES:Longlac
END:VEVENT
BEGIN:VEVENT
DTSTART;TZID=America/Halifax:20281114T103000
DTEND;TZID=America/Halifax:20281114T113000
DTSTAMP:20260422T083435
CREATED:20250513T144427Z
LAST-MODIFIED:20251030T194351Z
UID:10001428-1857810600-1857814200@norwestchc.org
SUMMARY:Walk the Block
DESCRIPTION:
URL:https://norwestchc.org/event/walk-the-block-2/2028-11-14/
LOCATION:NorWest CHC (Longlac)\, 99 Skinner Ave\,\, Longlac\, ON\, P0T 2A0\, Canada
CATEGORIES:Longlac
END:VEVENT
BEGIN:VEVENT
DTSTART;TZID=America/Halifax:20281121T103000
DTEND;TZID=America/Halifax:20281121T113000
DTSTAMP:20260422T083435
CREATED:20250513T144427Z
LAST-MODIFIED:20251030T194351Z
UID:10001429-1858415400-1858419000@norwestchc.org
SUMMARY:Walk the Block
DESCRIPTION:
URL:https://norwestchc.org/event/walk-the-block-2/2028-11-21/
LOCATION:NorWest CHC (Longlac)\, 99 Skinner Ave\,\, Longlac\, ON\, P0T 2A0\, Canada
CATEGORIES:Longlac
END:VEVENT
BEGIN:VEVENT
DTSTART;TZID=America/Halifax:20281128T103000
DTEND;TZID=America/Halifax:20281128T113000
DTSTAMP:20260422T083435
CREATED:20250513T144427Z
LAST-MODIFIED:20251030T194351Z
UID:10001430-1859020200-1859023800@norwestchc.org
SUMMARY:Walk the Block
DESCRIPTION:
URL:https://norwestchc.org/event/walk-the-block-2/2028-11-28/
LOCATION:NorWest CHC (Longlac)\, 99 Skinner Ave\,\, Longlac\, ON\, P0T 2A0\, Canada
CATEGORIES:Longlac
END:VEVENT
END:VCALENDAR