BEGIN:VCALENDAR
VERSION:2.0
PRODID:-//NorWest Community Health Centres - ECPv6.15.18//NONSGML v1.0//EN
CALSCALE:GREGORIAN
METHOD:PUBLISH
X-ORIGINAL-URL:https://norwestchc.org
X-WR-CALDESC:Events for NorWest Community Health Centres
REFRESH-INTERVAL;VALUE=DURATION:PT1H
X-Robots-Tag:noindex
X-PUBLISHED-TTL:PT1H
BEGIN:VTIMEZONE
TZID:America/Halifax
BEGIN:DAYLIGHT
TZOFFSETFROM:-0400
TZOFFSETTO:-0300
TZNAME:ADT
DTSTART:20280312T060000
END:DAYLIGHT
BEGIN:STANDARD
TZOFFSETFROM:-0300
TZOFFSETTO:-0400
TZNAME:AST
DTSTART:20281105T050000
END:STANDARD
BEGIN:DAYLIGHT
TZOFFSETFROM:-0400
TZOFFSETTO:-0300
TZNAME:ADT
DTSTART:20290311T060000
END:DAYLIGHT
BEGIN:STANDARD
TZOFFSETFROM:-0300
TZOFFSETTO:-0400
TZNAME:AST
DTSTART:20291104T050000
END:STANDARD
BEGIN:DAYLIGHT
TZOFFSETFROM:-0400
TZOFFSETTO:-0300
TZNAME:ADT
DTSTART:20300310T060000
END:DAYLIGHT
BEGIN:STANDARD
TZOFFSETFROM:-0300
TZOFFSETTO:-0400
TZNAME:AST
DTSTART:20301103T050000
END:STANDARD
END:VTIMEZONE
BEGIN:VEVENT
DTSTART;TZID=America/Halifax:20291002T103000
DTEND;TZID=America/Halifax:20291002T113000
DTSTAMP:20260423T002159
CREATED:20250513T144427Z
LAST-MODIFIED:20251030T194351Z
UID:10001474-1885631400-1885635000@norwestchc.org
SUMMARY:Walk the Block
DESCRIPTION:
URL:https://norwestchc.org/event/walk-the-block-2/2029-10-02/
LOCATION:NorWest CHC (Longlac)\, 99 Skinner Ave\,\, Longlac\, ON\, P0T 2A0\, Canada
CATEGORIES:Longlac
END:VEVENT
BEGIN:VEVENT
DTSTART;TZID=America/Halifax:20291009T103000
DTEND;TZID=America/Halifax:20291009T113000
DTSTAMP:20260423T002159
CREATED:20250513T144427Z
LAST-MODIFIED:20251030T194351Z
UID:10001475-1886236200-1886239800@norwestchc.org
SUMMARY:Walk the Block
DESCRIPTION:
URL:https://norwestchc.org/event/walk-the-block-2/2029-10-09/
LOCATION:NorWest CHC (Longlac)\, 99 Skinner Ave\,\, Longlac\, ON\, P0T 2A0\, Canada
CATEGORIES:Longlac
END:VEVENT
BEGIN:VEVENT
DTSTART;TZID=America/Halifax:20291016T103000
DTEND;TZID=America/Halifax:20291016T113000
DTSTAMP:20260423T002159
CREATED:20250513T144427Z
LAST-MODIFIED:20251030T194351Z
UID:10001476-1886841000-1886844600@norwestchc.org
SUMMARY:Walk the Block
DESCRIPTION:
URL:https://norwestchc.org/event/walk-the-block-2/2029-10-16/
LOCATION:NorWest CHC (Longlac)\, 99 Skinner Ave\,\, Longlac\, ON\, P0T 2A0\, Canada
CATEGORIES:Longlac
END:VEVENT
BEGIN:VEVENT
DTSTART;TZID=America/Halifax:20291023T103000
DTEND;TZID=America/Halifax:20291023T113000
DTSTAMP:20260423T002159
CREATED:20250513T144427Z
LAST-MODIFIED:20251030T194351Z
UID:10001477-1887445800-1887449400@norwestchc.org
SUMMARY:Walk the Block
DESCRIPTION:
URL:https://norwestchc.org/event/walk-the-block-2/2029-10-23/
LOCATION:NorWest CHC (Longlac)\, 99 Skinner Ave\,\, Longlac\, ON\, P0T 2A0\, Canada
CATEGORIES:Longlac
END:VEVENT
BEGIN:VEVENT
DTSTART;TZID=America/Halifax:20291030T103000
DTEND;TZID=America/Halifax:20291030T113000
DTSTAMP:20260423T002159
CREATED:20250513T144427Z
LAST-MODIFIED:20251030T194351Z
UID:10001478-1888050600-1888054200@norwestchc.org
SUMMARY:Walk the Block
DESCRIPTION:
URL:https://norwestchc.org/event/walk-the-block-2/2029-10-30/
LOCATION:NorWest CHC (Longlac)\, 99 Skinner Ave\,\, Longlac\, ON\, P0T 2A0\, Canada
CATEGORIES:Longlac
END:VEVENT
END:VCALENDAR