BEGIN:VCALENDAR
VERSION:2.0
PRODID:-//NorWest Community Health Centres - ECPv6.15.18//NONSGML v1.0//EN
CALSCALE:GREGORIAN
METHOD:PUBLISH
X-ORIGINAL-URL:https://norwestchc.org
X-WR-CALDESC:Events for NorWest Community Health Centres
REFRESH-INTERVAL;VALUE=DURATION:PT1H
X-Robots-Tag:noindex
X-PUBLISHED-TTL:PT1H
BEGIN:VTIMEZONE
TZID:America/Halifax
BEGIN:DAYLIGHT
TZOFFSETFROM:-0400
TZOFFSETTO:-0300
TZNAME:ADT
DTSTART:20230312T060000
END:DAYLIGHT
BEGIN:STANDARD
TZOFFSETFROM:-0300
TZOFFSETTO:-0400
TZNAME:AST
DTSTART:20231105T050000
END:STANDARD
BEGIN:DAYLIGHT
TZOFFSETFROM:-0400
TZOFFSETTO:-0300
TZNAME:ADT
DTSTART:20240310T060000
END:DAYLIGHT
BEGIN:STANDARD
TZOFFSETFROM:-0300
TZOFFSETTO:-0400
TZNAME:AST
DTSTART:20241103T050000
END:STANDARD
BEGIN:DAYLIGHT
TZOFFSETFROM:-0400
TZOFFSETTO:-0300
TZNAME:ADT
DTSTART:20250309T060000
END:DAYLIGHT
BEGIN:STANDARD
TZOFFSETFROM:-0300
TZOFFSETTO:-0400
TZNAME:AST
DTSTART:20251102T050000
END:STANDARD
END:VTIMEZONE
BEGIN:VEVENT
DTSTART;TZID=America/Halifax:20241017T100000
DTEND;TZID=America/Halifax:20241017T103000
DTSTAMP:20260419T135542
CREATED:20241009T131759Z
LAST-MODIFIED:20241009T131759Z
UID:10000433-1729159200-1729161000@norwestchc.org
SUMMARY:Healthy Nutrition (schools)
DESCRIPTION:
URL:https://norwestchc.org/event/healthy-nutrition-schools/2024-10-17/
CATEGORIES:Longlac
END:VEVENT
BEGIN:VEVENT
DTSTART;TZID=America/Halifax:20241017T133000
DTEND;TZID=America/Halifax:20241017T143000
DTSTAMP:20260419T135542
CREATED:20241009T131149Z
LAST-MODIFIED:20241009T131149Z
UID:10000421-1729171800-1729175400@norwestchc.org
SUMMARY:TBCFC Nutrition
DESCRIPTION:
URL:https://norwestchc.org/event/tbcfc-nutrition/2024-10-17/
LOCATION:NorWest CHC (Longlac)\, 99 Skinner Ave\,\, Longlac\, ON\, P0T 2A0\, Canada
CATEGORIES:Longlac
ORGANIZER;CN="Sandra Abernot":MAILTO:sabernot@norwestchc.org
END:VEVENT
END:VCALENDAR