BEGIN:VCALENDAR
VERSION:2.0
PRODID:-//NorWest Community Health Centres - ECPv6.15.18//NONSGML v1.0//EN
CALSCALE:GREGORIAN
METHOD:PUBLISH
X-WR-CALNAME:NorWest Community Health Centres
X-ORIGINAL-URL:https://norwestchc.org
X-WR-CALDESC:Events for NorWest Community Health Centres
REFRESH-INTERVAL;VALUE=DURATION:PT1H
X-Robots-Tag:noindex
X-PUBLISHED-TTL:PT1H
BEGIN:VTIMEZONE
TZID:America/Halifax
BEGIN:DAYLIGHT
TZOFFSETFROM:-0400
TZOFFSETTO:-0300
TZNAME:ADT
DTSTART:20230312T060000
END:DAYLIGHT
BEGIN:STANDARD
TZOFFSETFROM:-0300
TZOFFSETTO:-0400
TZNAME:AST
DTSTART:20231105T050000
END:STANDARD
BEGIN:DAYLIGHT
TZOFFSETFROM:-0400
TZOFFSETTO:-0300
TZNAME:ADT
DTSTART:20240310T060000
END:DAYLIGHT
BEGIN:STANDARD
TZOFFSETFROM:-0300
TZOFFSETTO:-0400
TZNAME:AST
DTSTART:20241103T050000
END:STANDARD
BEGIN:DAYLIGHT
TZOFFSETFROM:-0400
TZOFFSETTO:-0300
TZNAME:ADT
DTSTART:20250309T060000
END:DAYLIGHT
BEGIN:STANDARD
TZOFFSETFROM:-0300
TZOFFSETTO:-0400
TZNAME:AST
DTSTART:20251102T050000
END:STANDARD
END:VTIMEZONE
BEGIN:VTIMEZONE
TZID:America/Toronto
BEGIN:DAYLIGHT
TZOFFSETFROM:-0500
TZOFFSETTO:-0400
TZNAME:EDT
DTSTART:20230312T070000
END:DAYLIGHT
BEGIN:STANDARD
TZOFFSETFROM:-0400
TZOFFSETTO:-0500
TZNAME:EST
DTSTART:20231105T060000
END:STANDARD
BEGIN:DAYLIGHT
TZOFFSETFROM:-0500
TZOFFSETTO:-0400
TZNAME:EDT
DTSTART:20240310T070000
END:DAYLIGHT
BEGIN:STANDARD
TZOFFSETFROM:-0400
TZOFFSETTO:-0500
TZNAME:EST
DTSTART:20241103T060000
END:STANDARD
BEGIN:DAYLIGHT
TZOFFSETFROM:-0500
TZOFFSETTO:-0400
TZNAME:EDT
DTSTART:20250309T070000
END:DAYLIGHT
BEGIN:STANDARD
TZOFFSETFROM:-0400
TZOFFSETTO:-0500
TZNAME:EST
DTSTART:20251102T060000
END:STANDARD
END:VTIMEZONE
BEGIN:VEVENT
DTSTART;TZID=America/Halifax:20241022T100000
DTEND;TZID=America/Halifax:20241022T103000
DTSTAMP:20260419T135455
CREATED:20241009T132406Z
LAST-MODIFIED:20241009T132406Z
UID:10000441-1729591200-1729593000@norwestchc.org
SUMMARY:Senior Balance Exercise
DESCRIPTION:
URL:https://norwestchc.org/event/senior-balance-exercise/2024-10-22/
LOCATION:NorWest CHC (Longlac)\, 99 Skinner Ave\,\, Longlac\, ON\, P0T 2A0\, Canada
CATEGORIES:Longlac
ORGANIZER;CN="Sandra Abernot":MAILTO:sabernot@norwestchc.org
END:VEVENT
BEGIN:VEVENT
DTSTART;TZID=America/Toronto:20241022T103000
DTEND;TZID=America/Toronto:20241022T123000
DTSTAMP:20260419T135455
CREATED:20241002T174535Z
LAST-MODIFIED:20241002T174535Z
UID:10000387-1729593000-1729600200@norwestchc.org
SUMMARY:All-sites Community Cleanup
DESCRIPTION:
URL:https://norwestchc.org/event/all-sites-community-cleanup/
CATEGORIES:Armstrong,Kakabeka,Longlac,Thunder Bay
END:VEVENT
BEGIN:VEVENT
DTSTART;TZID=America/Halifax:20241022T130000
DTEND;TZID=America/Halifax:20241022T140000
DTSTAMP:20260419T135455
CREATED:20241009T132118Z
LAST-MODIFIED:20241009T132200Z
UID:10000438-1729602000-1729605600@norwestchc.org
SUMMARY:Food for Families
DESCRIPTION:
URL:https://norwestchc.org/event/food-for-families-2/2024-10-22/
LOCATION:NorWest CHC (Longlac)\, 99 Skinner Ave\,\, Longlac\, ON\, P0T 2A0\, Canada
CATEGORIES:Longlac
END:VEVENT
END:VCALENDAR