BEGIN:VCALENDAR
VERSION:2.0
PRODID:-//NorWest Community Health Centres - ECPv6.15.18//NONSGML v1.0//EN
CALSCALE:GREGORIAN
METHOD:PUBLISH
X-ORIGINAL-URL:https://norwestchc.org
X-WR-CALDESC:Events for NorWest Community Health Centres
REFRESH-INTERVAL;VALUE=DURATION:PT1H
X-Robots-Tag:noindex
X-PUBLISHED-TTL:PT1H
BEGIN:VTIMEZONE
TZID:America/Halifax
BEGIN:DAYLIGHT
TZOFFSETFROM:-0400
TZOFFSETTO:-0300
TZNAME:ADT
DTSTART:20240310T060000
END:DAYLIGHT
BEGIN:STANDARD
TZOFFSETFROM:-0300
TZOFFSETTO:-0400
TZNAME:AST
DTSTART:20241103T050000
END:STANDARD
BEGIN:DAYLIGHT
TZOFFSETFROM:-0400
TZOFFSETTO:-0300
TZNAME:ADT
DTSTART:20250309T060000
END:DAYLIGHT
BEGIN:STANDARD
TZOFFSETFROM:-0300
TZOFFSETTO:-0400
TZNAME:AST
DTSTART:20251102T050000
END:STANDARD
BEGIN:DAYLIGHT
TZOFFSETFROM:-0400
TZOFFSETTO:-0300
TZNAME:ADT
DTSTART:20260308T060000
END:DAYLIGHT
BEGIN:STANDARD
TZOFFSETFROM:-0300
TZOFFSETTO:-0400
TZNAME:AST
DTSTART:20261101T050000
END:STANDARD
END:VTIMEZONE
BEGIN:VEVENT
DTSTART;TZID=America/Halifax:20250527T083000
DTEND;TZID=America/Halifax:20250527T163000
DTSTAMP:20260421T151508
CREATED:20250513T172228Z
LAST-MODIFIED:20250513T181013Z
UID:10001580-1748334600-1748363400@norwestchc.org
SUMMARY:RAAM
DESCRIPTION:
URL:https://norwestchc.org/event/raam-2/2025-05-27/
LOCATION:NorWest CHC (Longlac)\, 99 Skinner Ave\,\, Longlac\, ON\, P0T 2A0\, Canada
CATEGORIES:Longlac
ORGANIZER;CN="Sandra Abernot":MAILTO:sabernot@norwestchc.org
END:VEVENT
BEGIN:VEVENT
DTSTART;TZID=America/Halifax:20250527T100000
DTEND;TZID=America/Halifax:20250527T103000
DTSTAMP:20260421T151508
CREATED:20250513T171955Z
LAST-MODIFIED:20250513T171955Z
UID:10001520-1748340000-1748341800@norwestchc.org
SUMMARY:Seniors Balancing Exercise
DESCRIPTION:
URL:https://norwestchc.org/event/seniors-balancing-exercise/2025-05-27/
LOCATION:NorWest CHC (Longlac)\, 99 Skinner Ave\,\, Longlac\, ON\, P0T 2A0\, Canada
CATEGORIES:Longlac
ORGANIZER;CN="Sandra Abernot":MAILTO:sabernot@norwestchc.org
END:VEVENT
BEGIN:VEVENT
DTSTART;TZID=America/Halifax:20250527T103000
DTEND;TZID=America/Halifax:20250527T113000
DTSTAMP:20260421T151508
CREATED:20250513T144427Z
LAST-MODIFIED:20251030T194351Z
UID:10001247-1748341800-1748345400@norwestchc.org
SUMMARY:Walk the Block
DESCRIPTION:
URL:https://norwestchc.org/event/walk-the-block-2/2025-05-27/
LOCATION:NorWest CHC (Longlac)\, 99 Skinner Ave\,\, Longlac\, ON\, P0T 2A0\, Canada
CATEGORIES:Longlac
END:VEVENT
BEGIN:VEVENT
DTSTART;TZID=America/Halifax:20250527T130000
DTEND;TZID=America/Halifax:20250527T150000
DTSTAMP:20260421T151508
CREATED:20250513T171626Z
LAST-MODIFIED:20250513T171626Z
UID:10001513-1748350800-1748358000@norwestchc.org
SUMMARY:Food for Families
DESCRIPTION:
URL:https://norwestchc.org/event/food-for-families-4/2025-05-27/
LOCATION:NorWest CHC (Longlac)\, 99 Skinner Ave\,\, Longlac\, ON\, P0T 2A0\, Canada
CATEGORIES:Longlac
END:VEVENT
END:VCALENDAR