BEGIN:VCALENDAR
VERSION:2.0
PRODID:-//NorWest Community Health Centres - ECPv6.15.18//NONSGML v1.0//EN
CALSCALE:GREGORIAN
METHOD:PUBLISH
X-WR-CALNAME:NorWest Community Health Centres
X-ORIGINAL-URL:https://norwestchc.org
X-WR-CALDESC:Events for NorWest Community Health Centres
REFRESH-INTERVAL;VALUE=DURATION:PT1H
X-Robots-Tag:noindex
X-PUBLISHED-TTL:PT1H
BEGIN:VTIMEZONE
TZID:America/Halifax
BEGIN:DAYLIGHT
TZOFFSETFROM:-0400
TZOFFSETTO:-0300
TZNAME:ADT
DTSTART:20240310T060000
END:DAYLIGHT
BEGIN:STANDARD
TZOFFSETFROM:-0300
TZOFFSETTO:-0400
TZNAME:AST
DTSTART:20241103T050000
END:STANDARD
BEGIN:DAYLIGHT
TZOFFSETFROM:-0400
TZOFFSETTO:-0300
TZNAME:ADT
DTSTART:20250309T060000
END:DAYLIGHT
BEGIN:STANDARD
TZOFFSETFROM:-0300
TZOFFSETTO:-0400
TZNAME:AST
DTSTART:20251102T050000
END:STANDARD
BEGIN:DAYLIGHT
TZOFFSETFROM:-0400
TZOFFSETTO:-0300
TZNAME:ADT
DTSTART:20260308T060000
END:DAYLIGHT
BEGIN:STANDARD
TZOFFSETFROM:-0300
TZOFFSETTO:-0400
TZNAME:AST
DTSTART:20261101T050000
END:STANDARD
END:VTIMEZONE
BEGIN:VEVENT
DTSTART;TZID=America/Halifax:20250605T083000
DTEND;TZID=America/Halifax:20250605T163000
DTSTAMP:20260421T163059
CREATED:20250513T172228Z
LAST-MODIFIED:20250513T181013Z
UID:10001583-1749112200-1749141000@norwestchc.org
SUMMARY:RAAM
DESCRIPTION:
URL:https://norwestchc.org/event/raam-2/2025-06-05/
LOCATION:NorWest CHC (Longlac)\, 99 Skinner Ave\,\, Longlac\, ON\, P0T 2A0\, Canada
CATEGORIES:Longlac
ORGANIZER;CN="Sandra Abernot":MAILTO:sabernot@norwestchc.org
END:VEVENT
BEGIN:VEVENT
DTSTART;TZID=America/Halifax:20250605T093000
DTEND;TZID=America/Halifax:20250605T120000
DTSTAMP:20260421T163059
CREATED:20250408T192506Z
LAST-MODIFIED:20250408T192557Z
UID:10001145-1749115800-1749124800@norwestchc.org
SUMMARY:Diabetes Self-Management Program Virtual Workshop Series (May 8-June 10)
DESCRIPTION:The DSMP is designed to empower individuals with diabetes by providing essential skills\, knowledge\, and support for effective self-management. Workshop Objectives\n\nEmpower participants with tools for diabetes management.\nEnhance knowledge about diabetes and healthy living.\nFoster a supportive community through peer interaction.\n\nKey Components \n\nInteractive Sessions covering:\n\nUnderstanding diabetes and its management.\nNutrition and meal planning.\nPhysical activity and stress management.\nMonitoring blood sugar and medication management.\n\n\nPeer Support: Connect with fellow participants for shared experiences.\n\nTarget Audience: Adults with Type 1 or Type 2 diabetes\, caregivers\, and family members.\nBenefits\n\nImproved self-management and health outcomes.\nIncreased confidence in managing diabetes.\nOngoing support network.\n\nDuration & Schedule \n\nLength: 6 weeks\, 2.5 hours per session.\nFlexible Options: Weekday and weekend sessions available.\n\nRegister through Zoom link.
URL:https://norwestchc.org/event/diabetes-self-management-program-virtual-workshop-series-may-8-june-10/2025-06-05/
CATEGORIES:Armstrong,Kakabeka,Longlac,Online,Thunder Bay
LOCATION:
END:VEVENT
BEGIN:VEVENT
DTSTART;TZID=America/Halifax:20250605T180000
DTEND;TZID=America/Halifax:20250605T190000
DTSTAMP:20260421T163059
CREATED:20250513T181925Z
LAST-MODIFIED:20250513T181925Z
UID:10001609-1749146400-1749150000@norwestchc.org
SUMMARY:Make it Grow (Kids Gardening Program)
DESCRIPTION:
URL:https://norwestchc.org/event/make-it-grow-kids-gardening-program/
LOCATION:Thunderbird Friendship Centre\, PO Box 758\, Longlac\, Ontario\, P0T 2A0\, Canada
CATEGORIES:Longlac
END:VEVENT
END:VCALENDAR