BEGIN:VCALENDAR
VERSION:2.0
PRODID:-//NorWest Community Health Centres - ECPv6.15.18//NONSGML v1.0//EN
CALSCALE:GREGORIAN
METHOD:PUBLISH
X-ORIGINAL-URL:https://norwestchc.org
X-WR-CALDESC:Events for NorWest Community Health Centres
REFRESH-INTERVAL;VALUE=DURATION:PT1H
X-Robots-Tag:noindex
X-PUBLISHED-TTL:PT1H
BEGIN:VTIMEZONE
TZID:America/Toronto
BEGIN:DAYLIGHT
TZOFFSETFROM:-0500
TZOFFSETTO:-0400
TZNAME:EDT
DTSTART:20230312T070000
END:DAYLIGHT
BEGIN:STANDARD
TZOFFSETFROM:-0400
TZOFFSETTO:-0500
TZNAME:EST
DTSTART:20231105T060000
END:STANDARD
BEGIN:DAYLIGHT
TZOFFSETFROM:-0500
TZOFFSETTO:-0400
TZNAME:EDT
DTSTART:20240310T070000
END:DAYLIGHT
BEGIN:STANDARD
TZOFFSETFROM:-0400
TZOFFSETTO:-0500
TZNAME:EST
DTSTART:20241103T060000
END:STANDARD
BEGIN:DAYLIGHT
TZOFFSETFROM:-0500
TZOFFSETTO:-0400
TZNAME:EDT
DTSTART:20250309T070000
END:DAYLIGHT
BEGIN:STANDARD
TZOFFSETFROM:-0400
TZOFFSETTO:-0500
TZNAME:EST
DTSTART:20251102T060000
END:STANDARD
END:VTIMEZONE
BEGIN:VEVENT
DTSTART;TZID=America/Toronto:20241031T143000
DTEND;TZID=America/Toronto:20241031T160000
DTSTAMP:20260425T090044
CREATED:20241002T175922Z
LAST-MODIFIED:20241002T180511Z
UID:10000389-1730385000-1730390400@norwestchc.org
SUMMARY:Getting the Most from your Healthcare Appointment (Virtual Workshop)
DESCRIPTION:This workshop prepares and empowers individuals to communicate more effectively with their health care provider(s). The goal of the presentation is to empower people to take an active role when working with their healthcare providers.
URL:https://norwestchc.org/event/getting-the-most-from-your-healthcare-appointment-virtual-workshop/
CATEGORIES:Online
LOCATION:https://us02web.zoom.us/j/85342974861?pwd=lliUGghe0iUT99EGbmVN4bvR6k57dV.1
END:VEVENT
END:VCALENDAR