BEGIN:VCALENDAR
VERSION:2.0
PRODID:-//NorWest Community Health Centres - ECPv6.15.18//NONSGML v1.0//EN
CALSCALE:GREGORIAN
METHOD:PUBLISH
X-ORIGINAL-URL:https://norwestchc.org
X-WR-CALDESC:Events for NorWest Community Health Centres
REFRESH-INTERVAL;VALUE=DURATION:PT1H
X-Robots-Tag:noindex
X-PUBLISHED-TTL:PT1H
BEGIN:VTIMEZONE
TZID:America/Halifax
BEGIN:DAYLIGHT
TZOFFSETFROM:-0400
TZOFFSETTO:-0300
TZNAME:ADT
DTSTART:20250309T060000
END:DAYLIGHT
BEGIN:STANDARD
TZOFFSETFROM:-0300
TZOFFSETTO:-0400
TZNAME:AST
DTSTART:20251102T050000
END:STANDARD
BEGIN:DAYLIGHT
TZOFFSETFROM:-0400
TZOFFSETTO:-0300
TZNAME:ADT
DTSTART:20260308T060000
END:DAYLIGHT
BEGIN:STANDARD
TZOFFSETFROM:-0300
TZOFFSETTO:-0400
TZNAME:AST
DTSTART:20261101T050000
END:STANDARD
BEGIN:DAYLIGHT
TZOFFSETFROM:-0400
TZOFFSETTO:-0300
TZNAME:ADT
DTSTART:20270314T060000
END:DAYLIGHT
BEGIN:STANDARD
TZOFFSETFROM:-0300
TZOFFSETTO:-0400
TZNAME:AST
DTSTART:20271107T050000
END:STANDARD
END:VTIMEZONE
BEGIN:VEVENT
DTSTART;TZID=America/Halifax:20260526T130000
DTEND;TZID=America/Halifax:20260526T140000
DTSTAMP:20260424T152224
CREATED:20250610T180252Z
LAST-MODIFIED:20251201T135820Z
UID:10002083-1779800400-1779804000@norwestchc.org
SUMMARY:N'doo'owe Binesi Sharing Circle
DESCRIPTION:Please join us for traditional healing programming delivered by a Cultural Practitioner from Nanaandawe’ewin traditional healing team\, Indigenous Health
URL:https://norwestchc.org/event/ndooowe-binesi-sharing-circle-2/2026-05-26/
LOCATION:NorWest CHC\, 525 Simpson Street\, Thunder Bay\, Ontario\, P7C 3J6\, Canada
CATEGORIES:Thunder Bay
ORGANIZER;CN="Nicole Taylor":MAILTO:ntaylor@norwestchc.org
END:VEVENT
BEGIN:VEVENT
DTSTART;TZID=America/Halifax:20260526T130000
DTEND;TZID=America/Halifax:20260526T143000
DTSTAMP:20260424T152224
CREATED:20260317T181137Z
LAST-MODIFIED:20260317T181137Z
UID:10004820-1779800400-1779805800@norwestchc.org
SUMMARY:Digital Skills for Older Adults (at TBPL)
DESCRIPTION:Technology changes fast\, but you do not have to figure it out alone. Join us at the Thunder Bay Public Library for a 10-session\, hands-on class designed to help you build digital confidence. Whether you want to safely manage your banking\, keep in touch with family\, or just figure out why your phone is running slow\, we are here to help. \nIn this relaxed\, step-by-step program\, you will learn how to: \n\n\nUse Your Device: Master the basics of your smartphone or tablet\, adjust settings for easier reading\, and organize your photos. \n\n\nStay Safe Online: Spot fake text messages\, avoid scams\, and protect your passwords. \n\n\nUse Daily Apps: Safely tap to pay\, navigate health portals\, and borrow free library books right on your device. \n\n\nExplore New Tech: Learn about helpful smart home setups and simple AI tools\, plus get a special hands-on chance to try the Meta Quest 3S Mixed Reality headset! \n\n\nWhen: Tuesdays\, 1:00 PM – 2:30 PM \n\n\nApril: 7\, 14\, 21 \n\n\nMay: 5\, 12\, 19\, 26 \n\n\nJune: 9\, 16\, 23 \n\n\nTechnology should work for you. By the end of this spring\, you will know how to use your devices safely\, easily\, and with complete peace of mind.
URL:https://norwestchc.org/event/digital-skills-for-older-adults-at-tbpl/2026-05-26/
LOCATION:Thunder Bay Public Library\, 901 Edward St S\, Thunder Bay\, Ontario\, P7E 6R2\, Canada
CATEGORIES:Thunder Bay
ATTACH;FMTTYPE=image/jpeg:https://norwestchc.org/wp-content/uploads/2026/03/DSOA_AprJune2026.jpg
END:VEVENT
END:VCALENDAR