BEGIN:VCALENDAR
VERSION:2.0
PRODID:-//NorWest Community Health Centres - ECPv6.15.18//NONSGML v1.0//EN
CALSCALE:GREGORIAN
METHOD:PUBLISH
X-ORIGINAL-URL:https://norwestchc.org
X-WR-CALDESC:Events for NorWest Community Health Centres
REFRESH-INTERVAL;VALUE=DURATION:PT1H
X-Robots-Tag:noindex
X-PUBLISHED-TTL:PT1H
BEGIN:VTIMEZONE
TZID:America/Halifax
BEGIN:DAYLIGHT
TZOFFSETFROM:-0400
TZOFFSETTO:-0300
TZNAME:ADT
DTSTART:20270314T060000
END:DAYLIGHT
BEGIN:STANDARD
TZOFFSETFROM:-0300
TZOFFSETTO:-0400
TZNAME:AST
DTSTART:20271107T050000
END:STANDARD
BEGIN:DAYLIGHT
TZOFFSETFROM:-0400
TZOFFSETTO:-0300
TZNAME:ADT
DTSTART:20280312T060000
END:DAYLIGHT
BEGIN:STANDARD
TZOFFSETFROM:-0300
TZOFFSETTO:-0400
TZNAME:AST
DTSTART:20281105T050000
END:STANDARD
BEGIN:DAYLIGHT
TZOFFSETFROM:-0400
TZOFFSETTO:-0300
TZNAME:ADT
DTSTART:20290311T060000
END:DAYLIGHT
BEGIN:STANDARD
TZOFFSETFROM:-0300
TZOFFSETTO:-0400
TZNAME:AST
DTSTART:20291104T050000
END:STANDARD
BEGIN:DAYLIGHT
TZOFFSETFROM:-0400
TZOFFSETTO:-0300
TZNAME:ADT
DTSTART:20300310T060000
END:DAYLIGHT
BEGIN:STANDARD
TZOFFSETFROM:-0300
TZOFFSETTO:-0400
TZNAME:AST
DTSTART:20301103T050000
END:STANDARD
END:VTIMEZONE
BEGIN:VEVENT
DTSTART;TZID=America/Halifax:20281226T130000
DTEND;TZID=America/Halifax:20281226T140000
DTSTAMP:20260426T003731
CREATED:20250610T180252Z
LAST-MODIFIED:20251201T135820Z
UID:10002218-1861448400-1861452000@norwestchc.org
SUMMARY:N'doo'owe Binesi Sharing Circle
DESCRIPTION:Please join us for traditional healing programming delivered by a Cultural Practitioner from Nanaandawe’ewin traditional healing team\, Indigenous Health
URL:https://norwestchc.org/event/ndooowe-binesi-sharing-circle-2/2028-12-26/
LOCATION:NorWest CHC\, 525 Simpson Street\, Thunder Bay\, Ontario\, P7C 3J6\, Canada
CATEGORIES:Thunder Bay
ORGANIZER;CN="Nicole Taylor":MAILTO:ntaylor@norwestchc.org
END:VEVENT
BEGIN:VEVENT
DTSTART;TZID=America/Halifax:20290102T130000
DTEND;TZID=America/Halifax:20290102T140000
DTSTAMP:20260426T003731
CREATED:20250610T180252Z
LAST-MODIFIED:20251201T135820Z
UID:10002219-1862053200-1862056800@norwestchc.org
SUMMARY:N'doo'owe Binesi Sharing Circle
DESCRIPTION:Please join us for traditional healing programming delivered by a Cultural Practitioner from Nanaandawe’ewin traditional healing team\, Indigenous Health
URL:https://norwestchc.org/event/ndooowe-binesi-sharing-circle-2/2029-01-02/
LOCATION:NorWest CHC\, 525 Simpson Street\, Thunder Bay\, Ontario\, P7C 3J6\, Canada
CATEGORIES:Thunder Bay
ORGANIZER;CN="Nicole Taylor":MAILTO:ntaylor@norwestchc.org
END:VEVENT
BEGIN:VEVENT
DTSTART;TZID=America/Halifax:20290109T130000
DTEND;TZID=America/Halifax:20290109T140000
DTSTAMP:20260426T003731
CREATED:20250610T180252Z
LAST-MODIFIED:20251201T135820Z
UID:10002220-1862658000-1862661600@norwestchc.org
SUMMARY:N'doo'owe Binesi Sharing Circle
DESCRIPTION:Please join us for traditional healing programming delivered by a Cultural Practitioner from Nanaandawe’ewin traditional healing team\, Indigenous Health
URL:https://norwestchc.org/event/ndooowe-binesi-sharing-circle-2/2029-01-09/
LOCATION:NorWest CHC\, 525 Simpson Street\, Thunder Bay\, Ontario\, P7C 3J6\, Canada
CATEGORIES:Thunder Bay
ORGANIZER;CN="Nicole Taylor":MAILTO:ntaylor@norwestchc.org
END:VEVENT
BEGIN:VEVENT
DTSTART;TZID=America/Halifax:20290116T130000
DTEND;TZID=America/Halifax:20290116T140000
DTSTAMP:20260426T003731
CREATED:20250610T180252Z
LAST-MODIFIED:20251201T135820Z
UID:10002221-1863262800-1863266400@norwestchc.org
SUMMARY:N'doo'owe Binesi Sharing Circle
DESCRIPTION:Please join us for traditional healing programming delivered by a Cultural Practitioner from Nanaandawe’ewin traditional healing team\, Indigenous Health
URL:https://norwestchc.org/event/ndooowe-binesi-sharing-circle-2/2029-01-16/
LOCATION:NorWest CHC\, 525 Simpson Street\, Thunder Bay\, Ontario\, P7C 3J6\, Canada
CATEGORIES:Thunder Bay
ORGANIZER;CN="Nicole Taylor":MAILTO:ntaylor@norwestchc.org
END:VEVENT
BEGIN:VEVENT
DTSTART;TZID=America/Halifax:20290123T130000
DTEND;TZID=America/Halifax:20290123T140000
DTSTAMP:20260426T003731
CREATED:20250610T180252Z
LAST-MODIFIED:20251201T135820Z
UID:10002222-1863867600-1863871200@norwestchc.org
SUMMARY:N'doo'owe Binesi Sharing Circle
DESCRIPTION:Please join us for traditional healing programming delivered by a Cultural Practitioner from Nanaandawe’ewin traditional healing team\, Indigenous Health
URL:https://norwestchc.org/event/ndooowe-binesi-sharing-circle-2/2029-01-23/
LOCATION:NorWest CHC\, 525 Simpson Street\, Thunder Bay\, Ontario\, P7C 3J6\, Canada
CATEGORIES:Thunder Bay
ORGANIZER;CN="Nicole Taylor":MAILTO:ntaylor@norwestchc.org
END:VEVENT
BEGIN:VEVENT
DTSTART;TZID=America/Halifax:20290130T130000
DTEND;TZID=America/Halifax:20290130T140000
DTSTAMP:20260426T003731
CREATED:20250610T180252Z
LAST-MODIFIED:20251201T135820Z
UID:10002223-1864472400-1864476000@norwestchc.org
SUMMARY:N'doo'owe Binesi Sharing Circle
DESCRIPTION:Please join us for traditional healing programming delivered by a Cultural Practitioner from Nanaandawe’ewin traditional healing team\, Indigenous Health
URL:https://norwestchc.org/event/ndooowe-binesi-sharing-circle-2/2029-01-30/
LOCATION:NorWest CHC\, 525 Simpson Street\, Thunder Bay\, Ontario\, P7C 3J6\, Canada
CATEGORIES:Thunder Bay
ORGANIZER;CN="Nicole Taylor":MAILTO:ntaylor@norwestchc.org
END:VEVENT
BEGIN:VEVENT
DTSTART;TZID=America/Halifax:20290206T130000
DTEND;TZID=America/Halifax:20290206T140000
DTSTAMP:20260426T003731
CREATED:20250610T180252Z
LAST-MODIFIED:20251201T135820Z
UID:10002224-1865077200-1865080800@norwestchc.org
SUMMARY:N'doo'owe Binesi Sharing Circle
DESCRIPTION:Please join us for traditional healing programming delivered by a Cultural Practitioner from Nanaandawe’ewin traditional healing team\, Indigenous Health
URL:https://norwestchc.org/event/ndooowe-binesi-sharing-circle-2/2029-02-06/
LOCATION:NorWest CHC\, 525 Simpson Street\, Thunder Bay\, Ontario\, P7C 3J6\, Canada
CATEGORIES:Thunder Bay
ORGANIZER;CN="Nicole Taylor":MAILTO:ntaylor@norwestchc.org
END:VEVENT
BEGIN:VEVENT
DTSTART;TZID=America/Halifax:20290213T130000
DTEND;TZID=America/Halifax:20290213T140000
DTSTAMP:20260426T003731
CREATED:20250610T180252Z
LAST-MODIFIED:20251201T135820Z
UID:10002225-1865682000-1865685600@norwestchc.org
SUMMARY:N'doo'owe Binesi Sharing Circle
DESCRIPTION:Please join us for traditional healing programming delivered by a Cultural Practitioner from Nanaandawe’ewin traditional healing team\, Indigenous Health
URL:https://norwestchc.org/event/ndooowe-binesi-sharing-circle-2/2029-02-13/
LOCATION:NorWest CHC\, 525 Simpson Street\, Thunder Bay\, Ontario\, P7C 3J6\, Canada
CATEGORIES:Thunder Bay
ORGANIZER;CN="Nicole Taylor":MAILTO:ntaylor@norwestchc.org
END:VEVENT
BEGIN:VEVENT
DTSTART;TZID=America/Halifax:20290220T130000
DTEND;TZID=America/Halifax:20290220T140000
DTSTAMP:20260426T003731
CREATED:20250610T180252Z
LAST-MODIFIED:20251201T135820Z
UID:10002226-1866286800-1866290400@norwestchc.org
SUMMARY:N'doo'owe Binesi Sharing Circle
DESCRIPTION:Please join us for traditional healing programming delivered by a Cultural Practitioner from Nanaandawe’ewin traditional healing team\, Indigenous Health
URL:https://norwestchc.org/event/ndooowe-binesi-sharing-circle-2/2029-02-20/
LOCATION:NorWest CHC\, 525 Simpson Street\, Thunder Bay\, Ontario\, P7C 3J6\, Canada
CATEGORIES:Thunder Bay
ORGANIZER;CN="Nicole Taylor":MAILTO:ntaylor@norwestchc.org
END:VEVENT
BEGIN:VEVENT
DTSTART;TZID=America/Halifax:20290227T130000
DTEND;TZID=America/Halifax:20290227T140000
DTSTAMP:20260426T003731
CREATED:20250610T180252Z
LAST-MODIFIED:20251201T135820Z
UID:10002227-1866891600-1866895200@norwestchc.org
SUMMARY:N'doo'owe Binesi Sharing Circle
DESCRIPTION:Please join us for traditional healing programming delivered by a Cultural Practitioner from Nanaandawe’ewin traditional healing team\, Indigenous Health
URL:https://norwestchc.org/event/ndooowe-binesi-sharing-circle-2/2029-02-27/
LOCATION:NorWest CHC\, 525 Simpson Street\, Thunder Bay\, Ontario\, P7C 3J6\, Canada
CATEGORIES:Thunder Bay
ORGANIZER;CN="Nicole Taylor":MAILTO:ntaylor@norwestchc.org
END:VEVENT
BEGIN:VEVENT
DTSTART;TZID=America/Halifax:20290306T130000
DTEND;TZID=America/Halifax:20290306T140000
DTSTAMP:20260426T003731
CREATED:20250610T180252Z
LAST-MODIFIED:20251201T135820Z
UID:10002228-1867496400-1867500000@norwestchc.org
SUMMARY:N'doo'owe Binesi Sharing Circle
DESCRIPTION:Please join us for traditional healing programming delivered by a Cultural Practitioner from Nanaandawe’ewin traditional healing team\, Indigenous Health
URL:https://norwestchc.org/event/ndooowe-binesi-sharing-circle-2/2029-03-06/
LOCATION:NorWest CHC\, 525 Simpson Street\, Thunder Bay\, Ontario\, P7C 3J6\, Canada
CATEGORIES:Thunder Bay
ORGANIZER;CN="Nicole Taylor":MAILTO:ntaylor@norwestchc.org
END:VEVENT
BEGIN:VEVENT
DTSTART;TZID=America/Halifax:20290313T130000
DTEND;TZID=America/Halifax:20290313T140000
DTSTAMP:20260426T003731
CREATED:20250610T180252Z
LAST-MODIFIED:20251201T135820Z
UID:10002229-1868101200-1868104800@norwestchc.org
SUMMARY:N'doo'owe Binesi Sharing Circle
DESCRIPTION:Please join us for traditional healing programming delivered by a Cultural Practitioner from Nanaandawe’ewin traditional healing team\, Indigenous Health
URL:https://norwestchc.org/event/ndooowe-binesi-sharing-circle-2/2029-03-13/
LOCATION:NorWest CHC\, 525 Simpson Street\, Thunder Bay\, Ontario\, P7C 3J6\, Canada
CATEGORIES:Thunder Bay
ORGANIZER;CN="Nicole Taylor":MAILTO:ntaylor@norwestchc.org
END:VEVENT
BEGIN:VEVENT
DTSTART;TZID=America/Halifax:20290320T130000
DTEND;TZID=America/Halifax:20290320T140000
DTSTAMP:20260426T003731
CREATED:20250610T180252Z
LAST-MODIFIED:20251201T135820Z
UID:10002230-1868706000-1868709600@norwestchc.org
SUMMARY:N'doo'owe Binesi Sharing Circle
DESCRIPTION:Please join us for traditional healing programming delivered by a Cultural Practitioner from Nanaandawe’ewin traditional healing team\, Indigenous Health
URL:https://norwestchc.org/event/ndooowe-binesi-sharing-circle-2/2029-03-20/
LOCATION:NorWest CHC\, 525 Simpson Street\, Thunder Bay\, Ontario\, P7C 3J6\, Canada
CATEGORIES:Thunder Bay
ORGANIZER;CN="Nicole Taylor":MAILTO:ntaylor@norwestchc.org
END:VEVENT
BEGIN:VEVENT
DTSTART;TZID=America/Halifax:20290327T130000
DTEND;TZID=America/Halifax:20290327T140000
DTSTAMP:20260426T003731
CREATED:20250610T180252Z
LAST-MODIFIED:20251201T135820Z
UID:10002231-1869310800-1869314400@norwestchc.org
SUMMARY:N'doo'owe Binesi Sharing Circle
DESCRIPTION:Please join us for traditional healing programming delivered by a Cultural Practitioner from Nanaandawe’ewin traditional healing team\, Indigenous Health
URL:https://norwestchc.org/event/ndooowe-binesi-sharing-circle-2/2029-03-27/
LOCATION:NorWest CHC\, 525 Simpson Street\, Thunder Bay\, Ontario\, P7C 3J6\, Canada
CATEGORIES:Thunder Bay
ORGANIZER;CN="Nicole Taylor":MAILTO:ntaylor@norwestchc.org
END:VEVENT
BEGIN:VEVENT
DTSTART;TZID=America/Halifax:20290403T130000
DTEND;TZID=America/Halifax:20290403T140000
DTSTAMP:20260426T003731
CREATED:20250610T180252Z
LAST-MODIFIED:20251201T135820Z
UID:10002232-1869915600-1869919200@norwestchc.org
SUMMARY:N'doo'owe Binesi Sharing Circle
DESCRIPTION:Please join us for traditional healing programming delivered by a Cultural Practitioner from Nanaandawe’ewin traditional healing team\, Indigenous Health
URL:https://norwestchc.org/event/ndooowe-binesi-sharing-circle-2/2029-04-03/
LOCATION:NorWest CHC\, 525 Simpson Street\, Thunder Bay\, Ontario\, P7C 3J6\, Canada
CATEGORIES:Thunder Bay
ORGANIZER;CN="Nicole Taylor":MAILTO:ntaylor@norwestchc.org
END:VEVENT
BEGIN:VEVENT
DTSTART;TZID=America/Halifax:20290410T130000
DTEND;TZID=America/Halifax:20290410T140000
DTSTAMP:20260426T003731
CREATED:20250610T180252Z
LAST-MODIFIED:20251201T135820Z
UID:10002233-1870520400-1870524000@norwestchc.org
SUMMARY:N'doo'owe Binesi Sharing Circle
DESCRIPTION:Please join us for traditional healing programming delivered by a Cultural Practitioner from Nanaandawe’ewin traditional healing team\, Indigenous Health
URL:https://norwestchc.org/event/ndooowe-binesi-sharing-circle-2/2029-04-10/
LOCATION:NorWest CHC\, 525 Simpson Street\, Thunder Bay\, Ontario\, P7C 3J6\, Canada
CATEGORIES:Thunder Bay
ORGANIZER;CN="Nicole Taylor":MAILTO:ntaylor@norwestchc.org
END:VEVENT
BEGIN:VEVENT
DTSTART;TZID=America/Halifax:20290417T130000
DTEND;TZID=America/Halifax:20290417T140000
DTSTAMP:20260426T003731
CREATED:20250610T180252Z
LAST-MODIFIED:20251201T135820Z
UID:10002234-1871125200-1871128800@norwestchc.org
SUMMARY:N'doo'owe Binesi Sharing Circle
DESCRIPTION:Please join us for traditional healing programming delivered by a Cultural Practitioner from Nanaandawe’ewin traditional healing team\, Indigenous Health
URL:https://norwestchc.org/event/ndooowe-binesi-sharing-circle-2/2029-04-17/
LOCATION:NorWest CHC\, 525 Simpson Street\, Thunder Bay\, Ontario\, P7C 3J6\, Canada
CATEGORIES:Thunder Bay
ORGANIZER;CN="Nicole Taylor":MAILTO:ntaylor@norwestchc.org
END:VEVENT
BEGIN:VEVENT
DTSTART;TZID=America/Halifax:20290424T130000
DTEND;TZID=America/Halifax:20290424T140000
DTSTAMP:20260426T003731
CREATED:20250610T180252Z
LAST-MODIFIED:20251201T135820Z
UID:10002235-1871730000-1871733600@norwestchc.org
SUMMARY:N'doo'owe Binesi Sharing Circle
DESCRIPTION:Please join us for traditional healing programming delivered by a Cultural Practitioner from Nanaandawe’ewin traditional healing team\, Indigenous Health
URL:https://norwestchc.org/event/ndooowe-binesi-sharing-circle-2/2029-04-24/
LOCATION:NorWest CHC\, 525 Simpson Street\, Thunder Bay\, Ontario\, P7C 3J6\, Canada
CATEGORIES:Thunder Bay
ORGANIZER;CN="Nicole Taylor":MAILTO:ntaylor@norwestchc.org
END:VEVENT
BEGIN:VEVENT
DTSTART;TZID=America/Halifax:20290501T130000
DTEND;TZID=America/Halifax:20290501T140000
DTSTAMP:20260426T003731
CREATED:20250610T180252Z
LAST-MODIFIED:20251201T135820Z
UID:10002236-1872334800-1872338400@norwestchc.org
SUMMARY:N'doo'owe Binesi Sharing Circle
DESCRIPTION:Please join us for traditional healing programming delivered by a Cultural Practitioner from Nanaandawe’ewin traditional healing team\, Indigenous Health
URL:https://norwestchc.org/event/ndooowe-binesi-sharing-circle-2/2029-05-01/
LOCATION:NorWest CHC\, 525 Simpson Street\, Thunder Bay\, Ontario\, P7C 3J6\, Canada
CATEGORIES:Thunder Bay
ORGANIZER;CN="Nicole Taylor":MAILTO:ntaylor@norwestchc.org
END:VEVENT
BEGIN:VEVENT
DTSTART;TZID=America/Halifax:20290508T130000
DTEND;TZID=America/Halifax:20290508T140000
DTSTAMP:20260426T003731
CREATED:20250610T180252Z
LAST-MODIFIED:20251201T135820Z
UID:10002237-1872939600-1872943200@norwestchc.org
SUMMARY:N'doo'owe Binesi Sharing Circle
DESCRIPTION:Please join us for traditional healing programming delivered by a Cultural Practitioner from Nanaandawe’ewin traditional healing team\, Indigenous Health
URL:https://norwestchc.org/event/ndooowe-binesi-sharing-circle-2/2029-05-08/
LOCATION:NorWest CHC\, 525 Simpson Street\, Thunder Bay\, Ontario\, P7C 3J6\, Canada
CATEGORIES:Thunder Bay
ORGANIZER;CN="Nicole Taylor":MAILTO:ntaylor@norwestchc.org
END:VEVENT
BEGIN:VEVENT
DTSTART;TZID=America/Halifax:20290515T130000
DTEND;TZID=America/Halifax:20290515T140000
DTSTAMP:20260426T003731
CREATED:20250610T180252Z
LAST-MODIFIED:20251201T135820Z
UID:10002238-1873544400-1873548000@norwestchc.org
SUMMARY:N'doo'owe Binesi Sharing Circle
DESCRIPTION:Please join us for traditional healing programming delivered by a Cultural Practitioner from Nanaandawe’ewin traditional healing team\, Indigenous Health
URL:https://norwestchc.org/event/ndooowe-binesi-sharing-circle-2/2029-05-15/
LOCATION:NorWest CHC\, 525 Simpson Street\, Thunder Bay\, Ontario\, P7C 3J6\, Canada
CATEGORIES:Thunder Bay
ORGANIZER;CN="Nicole Taylor":MAILTO:ntaylor@norwestchc.org
END:VEVENT
BEGIN:VEVENT
DTSTART;TZID=America/Halifax:20290522T130000
DTEND;TZID=America/Halifax:20290522T140000
DTSTAMP:20260426T003731
CREATED:20250610T180252Z
LAST-MODIFIED:20251201T135820Z
UID:10002239-1874149200-1874152800@norwestchc.org
SUMMARY:N'doo'owe Binesi Sharing Circle
DESCRIPTION:Please join us for traditional healing programming delivered by a Cultural Practitioner from Nanaandawe’ewin traditional healing team\, Indigenous Health
URL:https://norwestchc.org/event/ndooowe-binesi-sharing-circle-2/2029-05-22/
LOCATION:NorWest CHC\, 525 Simpson Street\, Thunder Bay\, Ontario\, P7C 3J6\, Canada
CATEGORIES:Thunder Bay
ORGANIZER;CN="Nicole Taylor":MAILTO:ntaylor@norwestchc.org
END:VEVENT
BEGIN:VEVENT
DTSTART;TZID=America/Halifax:20290529T130000
DTEND;TZID=America/Halifax:20290529T140000
DTSTAMP:20260426T003731
CREATED:20250610T180252Z
LAST-MODIFIED:20251201T135820Z
UID:10002240-1874754000-1874757600@norwestchc.org
SUMMARY:N'doo'owe Binesi Sharing Circle
DESCRIPTION:Please join us for traditional healing programming delivered by a Cultural Practitioner from Nanaandawe’ewin traditional healing team\, Indigenous Health
URL:https://norwestchc.org/event/ndooowe-binesi-sharing-circle-2/2029-05-29/
LOCATION:NorWest CHC\, 525 Simpson Street\, Thunder Bay\, Ontario\, P7C 3J6\, Canada
CATEGORIES:Thunder Bay
ORGANIZER;CN="Nicole Taylor":MAILTO:ntaylor@norwestchc.org
END:VEVENT
BEGIN:VEVENT
DTSTART;TZID=America/Halifax:20290605T130000
DTEND;TZID=America/Halifax:20290605T140000
DTSTAMP:20260426T003731
CREATED:20250610T180252Z
LAST-MODIFIED:20251201T135820Z
UID:10002241-1875358800-1875362400@norwestchc.org
SUMMARY:N'doo'owe Binesi Sharing Circle
DESCRIPTION:Please join us for traditional healing programming delivered by a Cultural Practitioner from Nanaandawe’ewin traditional healing team\, Indigenous Health
URL:https://norwestchc.org/event/ndooowe-binesi-sharing-circle-2/2029-06-05/
LOCATION:NorWest CHC\, 525 Simpson Street\, Thunder Bay\, Ontario\, P7C 3J6\, Canada
CATEGORIES:Thunder Bay
ORGANIZER;CN="Nicole Taylor":MAILTO:ntaylor@norwestchc.org
END:VEVENT
BEGIN:VEVENT
DTSTART;TZID=America/Halifax:20290612T130000
DTEND;TZID=America/Halifax:20290612T140000
DTSTAMP:20260426T003731
CREATED:20250610T180252Z
LAST-MODIFIED:20251201T135820Z
UID:10002242-1875963600-1875967200@norwestchc.org
SUMMARY:N'doo'owe Binesi Sharing Circle
DESCRIPTION:Please join us for traditional healing programming delivered by a Cultural Practitioner from Nanaandawe’ewin traditional healing team\, Indigenous Health
URL:https://norwestchc.org/event/ndooowe-binesi-sharing-circle-2/2029-06-12/
LOCATION:NorWest CHC\, 525 Simpson Street\, Thunder Bay\, Ontario\, P7C 3J6\, Canada
CATEGORIES:Thunder Bay
ORGANIZER;CN="Nicole Taylor":MAILTO:ntaylor@norwestchc.org
END:VEVENT
BEGIN:VEVENT
DTSTART;TZID=America/Halifax:20290619T130000
DTEND;TZID=America/Halifax:20290619T140000
DTSTAMP:20260426T003731
CREATED:20250610T180252Z
LAST-MODIFIED:20251201T135820Z
UID:10002243-1876568400-1876572000@norwestchc.org
SUMMARY:N'doo'owe Binesi Sharing Circle
DESCRIPTION:Please join us for traditional healing programming delivered by a Cultural Practitioner from Nanaandawe’ewin traditional healing team\, Indigenous Health
URL:https://norwestchc.org/event/ndooowe-binesi-sharing-circle-2/2029-06-19/
LOCATION:NorWest CHC\, 525 Simpson Street\, Thunder Bay\, Ontario\, P7C 3J6\, Canada
CATEGORIES:Thunder Bay
ORGANIZER;CN="Nicole Taylor":MAILTO:ntaylor@norwestchc.org
END:VEVENT
BEGIN:VEVENT
DTSTART;TZID=America/Halifax:20290626T130000
DTEND;TZID=America/Halifax:20290626T140000
DTSTAMP:20260426T003731
CREATED:20250610T180252Z
LAST-MODIFIED:20251201T135820Z
UID:10002244-1877173200-1877176800@norwestchc.org
SUMMARY:N'doo'owe Binesi Sharing Circle
DESCRIPTION:Please join us for traditional healing programming delivered by a Cultural Practitioner from Nanaandawe’ewin traditional healing team\, Indigenous Health
URL:https://norwestchc.org/event/ndooowe-binesi-sharing-circle-2/2029-06-26/
LOCATION:NorWest CHC\, 525 Simpson Street\, Thunder Bay\, Ontario\, P7C 3J6\, Canada
CATEGORIES:Thunder Bay
ORGANIZER;CN="Nicole Taylor":MAILTO:ntaylor@norwestchc.org
END:VEVENT
BEGIN:VEVENT
DTSTART;TZID=America/Halifax:20290703T130000
DTEND;TZID=America/Halifax:20290703T140000
DTSTAMP:20260426T003731
CREATED:20250610T180252Z
LAST-MODIFIED:20251201T135820Z
UID:10002245-1877778000-1877781600@norwestchc.org
SUMMARY:N'doo'owe Binesi Sharing Circle
DESCRIPTION:Please join us for traditional healing programming delivered by a Cultural Practitioner from Nanaandawe’ewin traditional healing team\, Indigenous Health
URL:https://norwestchc.org/event/ndooowe-binesi-sharing-circle-2/2029-07-03/
LOCATION:NorWest CHC\, 525 Simpson Street\, Thunder Bay\, Ontario\, P7C 3J6\, Canada
CATEGORIES:Thunder Bay
ORGANIZER;CN="Nicole Taylor":MAILTO:ntaylor@norwestchc.org
END:VEVENT
BEGIN:VEVENT
DTSTART;TZID=America/Halifax:20290710T130000
DTEND;TZID=America/Halifax:20290710T140000
DTSTAMP:20260426T003731
CREATED:20250610T180252Z
LAST-MODIFIED:20251201T135820Z
UID:10002246-1878382800-1878386400@norwestchc.org
SUMMARY:N'doo'owe Binesi Sharing Circle
DESCRIPTION:Please join us for traditional healing programming delivered by a Cultural Practitioner from Nanaandawe’ewin traditional healing team\, Indigenous Health
URL:https://norwestchc.org/event/ndooowe-binesi-sharing-circle-2/2029-07-10/
LOCATION:NorWest CHC\, 525 Simpson Street\, Thunder Bay\, Ontario\, P7C 3J6\, Canada
CATEGORIES:Thunder Bay
ORGANIZER;CN="Nicole Taylor":MAILTO:ntaylor@norwestchc.org
END:VEVENT
BEGIN:VEVENT
DTSTART;TZID=America/Halifax:20290717T130000
DTEND;TZID=America/Halifax:20290717T140000
DTSTAMP:20260426T003731
CREATED:20250610T180252Z
LAST-MODIFIED:20251201T135820Z
UID:10002247-1878987600-1878991200@norwestchc.org
SUMMARY:N'doo'owe Binesi Sharing Circle
DESCRIPTION:Please join us for traditional healing programming delivered by a Cultural Practitioner from Nanaandawe’ewin traditional healing team\, Indigenous Health
URL:https://norwestchc.org/event/ndooowe-binesi-sharing-circle-2/2029-07-17/
LOCATION:NorWest CHC\, 525 Simpson Street\, Thunder Bay\, Ontario\, P7C 3J6\, Canada
CATEGORIES:Thunder Bay
ORGANIZER;CN="Nicole Taylor":MAILTO:ntaylor@norwestchc.org
END:VEVENT
END:VCALENDAR