BEGIN:VCALENDAR
VERSION:2.0
PRODID:-//NorWest Community Health Centres - ECPv6.15.18//NONSGML v1.0//EN
CALSCALE:GREGORIAN
METHOD:PUBLISH
X-WR-CALNAME:NorWest Community Health Centres
X-ORIGINAL-URL:https://norwestchc.org
X-WR-CALDESC:Events for NorWest Community Health Centres
REFRESH-INTERVAL;VALUE=DURATION:PT1H
X-Robots-Tag:noindex
X-PUBLISHED-TTL:PT1H
BEGIN:VTIMEZONE
TZID:America/Toronto
BEGIN:DAYLIGHT
TZOFFSETFROM:-0500
TZOFFSETTO:-0400
TZNAME:EDT
DTSTART:20230312T070000
END:DAYLIGHT
BEGIN:STANDARD
TZOFFSETFROM:-0400
TZOFFSETTO:-0500
TZNAME:EST
DTSTART:20231105T060000
END:STANDARD
BEGIN:DAYLIGHT
TZOFFSETFROM:-0500
TZOFFSETTO:-0400
TZNAME:EDT
DTSTART:20240310T070000
END:DAYLIGHT
BEGIN:STANDARD
TZOFFSETFROM:-0400
TZOFFSETTO:-0500
TZNAME:EST
DTSTART:20241103T060000
END:STANDARD
BEGIN:DAYLIGHT
TZOFFSETFROM:-0500
TZOFFSETTO:-0400
TZNAME:EDT
DTSTART:20250309T070000
END:DAYLIGHT
BEGIN:STANDARD
TZOFFSETFROM:-0400
TZOFFSETTO:-0500
TZNAME:EST
DTSTART:20251102T060000
END:STANDARD
END:VTIMEZONE
BEGIN:VTIMEZONE
TZID:America/Halifax
BEGIN:DAYLIGHT
TZOFFSETFROM:-0400
TZOFFSETTO:-0300
TZNAME:ADT
DTSTART:20230312T060000
END:DAYLIGHT
BEGIN:STANDARD
TZOFFSETFROM:-0300
TZOFFSETTO:-0400
TZNAME:AST
DTSTART:20231105T050000
END:STANDARD
BEGIN:DAYLIGHT
TZOFFSETFROM:-0400
TZOFFSETTO:-0300
TZNAME:ADT
DTSTART:20240310T060000
END:DAYLIGHT
BEGIN:STANDARD
TZOFFSETFROM:-0300
TZOFFSETTO:-0400
TZNAME:AST
DTSTART:20241103T050000
END:STANDARD
BEGIN:DAYLIGHT
TZOFFSETFROM:-0400
TZOFFSETTO:-0300
TZNAME:ADT
DTSTART:20250309T060000
END:DAYLIGHT
BEGIN:STANDARD
TZOFFSETFROM:-0300
TZOFFSETTO:-0400
TZNAME:AST
DTSTART:20251102T050000
END:STANDARD
BEGIN:DAYLIGHT
TZOFFSETFROM:-0400
TZOFFSETTO:-0300
TZNAME:ADT
DTSTART:20260308T060000
END:DAYLIGHT
BEGIN:STANDARD
TZOFFSETFROM:-0300
TZOFFSETTO:-0400
TZNAME:AST
DTSTART:20261101T050000
END:STANDARD
END:VTIMEZONE
BEGIN:VEVENT
DTSTART;TZID=America/Toronto:20241213T130000
DTEND;TZID=America/Toronto:20241213T153000
DTSTAMP:20260426T011645
CREATED:20241017T172417Z
LAST-MODIFIED:20241017T172417Z
UID:10000455-1734094800-1734103800@norwestchc.org
SUMMARY:Chronic Disease Self-Management Workshops
DESCRIPTION:
URL:https://norwestchc.org/event/chronic-disease-self-management-workshops/2024-12-13/
LOCATION:
CATEGORIES:Armstrong,Kakabeka,Longlac,Thunder Bay
END:VEVENT
BEGIN:VEVENT
DTSTART;TZID=America/Halifax:20241216T103000
DTEND;TZID=America/Halifax:20241216T113000
DTSTAMP:20260426T011645
CREATED:20241127T164057Z
LAST-MODIFIED:20241127T164117Z
UID:10000559-1734345000-1734348600@norwestchc.org
SUMMARY:Mindfulness Mondays
DESCRIPTION:
URL:https://norwestchc.org/event/mindfulness-mondays/2024-12-16/
LOCATION:NorWest CHC\, 525 Simpson Street\, Thunder Bay\, Ontario\, P7C 3J6\, Canada
CATEGORIES:Thunder Bay
END:VEVENT
BEGIN:VEVENT
DTSTART;TZID=America/Halifax:20241219T133000
DTEND;TZID=America/Halifax:20241219T150000
DTSTAMP:20260426T011645
CREATED:20241127T165326Z
LAST-MODIFIED:20241127T165326Z
UID:10000564-1734615000-1734620400@norwestchc.org
SUMMARY:Christmas Bingo & Holiday Celebration
DESCRIPTION:
URL:https://norwestchc.org/event/christmas-bingo-holiday-celebration/
LOCATION:NorWest CHC\, 525 Simpson Street\, Thunder Bay\, Ontario\, P7C 3J6\, Canada
CATEGORIES:Thunder Bay
ORGANIZER;CN="Debbie Ward":MAILTO:dward@norwestchc.org
END:VEVENT
BEGIN:VEVENT
DTSTART;TZID=America/Halifax:20241223T103000
DTEND;TZID=America/Halifax:20241223T113000
DTSTAMP:20260426T011645
CREATED:20241127T164057Z
LAST-MODIFIED:20241127T164117Z
UID:10000560-1734949800-1734953400@norwestchc.org
SUMMARY:Mindfulness Mondays
DESCRIPTION:
URL:https://norwestchc.org/event/mindfulness-mondays/2024-12-23/
LOCATION:NorWest CHC\, 525 Simpson Street\, Thunder Bay\, Ontario\, P7C 3J6\, Canada
CATEGORIES:Thunder Bay
END:VEVENT
BEGIN:VEVENT
DTSTART;TZID=America/Halifax:20241230T103000
DTEND;TZID=America/Halifax:20241230T113000
DTSTAMP:20260426T011645
CREATED:20241127T164057Z
LAST-MODIFIED:20241127T164117Z
UID:10000561-1735554600-1735558200@norwestchc.org
SUMMARY:Mindfulness Mondays
DESCRIPTION:
URL:https://norwestchc.org/event/mindfulness-mondays/2024-12-30/
LOCATION:NorWest CHC\, 525 Simpson Street\, Thunder Bay\, Ontario\, P7C 3J6\, Canada
CATEGORIES:Thunder Bay
END:VEVENT
BEGIN:VEVENT
DTSTART;TZID=America/Halifax:20250116T100000
DTEND;TZID=America/Halifax:20250116T120000
DTSTAMP:20260426T011645
CREATED:20241220T202257Z
LAST-MODIFIED:20241220T202257Z
UID:10000598-1737021600-1737028800@norwestchc.org
SUMMARY:Good Food Box Kitchen
DESCRIPTION:
URL:https://norwestchc.org/event/good-food-box-kitchen/
LOCATION:NorWest CHC\, 525 Simpson Street\, Thunder Bay\, Ontario\, P7C 3J6\, Canada
CATEGORIES:Thunder Bay
ORGANIZER;CN="Debbie Ward":MAILTO:dward@norwestchc.org
END:VEVENT
BEGIN:VEVENT
DTSTART;TZID=America/Halifax:20250118T100000
DTEND;TZID=America/Halifax:20250118T123000
DTSTAMP:20260426T011645
CREATED:20241216T144341Z
LAST-MODIFIED:20241216T144341Z
UID:10000565-1737194400-1737203400@norwestchc.org
SUMMARY:Chronic Disease Self-Management Workshop (VIRTUAL)
DESCRIPTION:Our Chronic Disease Self-Management Program is a comprehensive\, evidence-based course tailored for anyone seeking to better manage their chronic conditions. Whether you’re dealing with heart disease\, diabetes\, arthritis\, asthma\, or any other chronic condition\, our program offers practical tools and knowledge to help you take charge of your health.\nOver the course of 6 sessions\, you’ll learn from experienced health educators and connect with peers who understand exactly what you’re going through. Our interactive sessions cover a wide range of essential topics\, including: \n\nTechniques to deal with problems such as frustration\, fatigue\, pain\, and isolation\nAppropriate exercise for maintaining and improving strength\, flexibility\, and endurance\nNutrition advice and how to improve your diet\nEffective communication skills with your family\, friends\, and healthcare team\nHow to evaluate new treatments and understand your medications\n\nIf you refer another participant to the workshop and they attend at least 4/6 sessions\, you will receive a $10.00 referral bonus. \nAlthough it is NOT required for you to commit to all 6 sessions\, it is highly recommended in order to receive the full learning experience. 
URL:https://norwestchc.org/event/chronic-disease-self-management-workshop-virtual-2/2025-01-18/
LOCATION:https://norwestchc.org/event/chronic-disease-self-management-workshop-virtual-2/2025-01-18/
CATEGORIES:Armstrong,Kakabeka,Longlac,Online,Thunder Bay
END:VEVENT
BEGIN:VEVENT
DTSTART;TZID=America/Halifax:20250121T130000
DTEND;TZID=America/Halifax:20250121T140000
DTSTAMP:20260426T011645
CREATED:20250119T203602Z
LAST-MODIFIED:20250610T180239Z
UID:10000918-1737464400-1737468000@norwestchc.org
SUMMARY:N'Doo'owe Binesi Sharing Circle
DESCRIPTION:Please join us for traditional healing programming delivered by a Cultural Practitioner from Nanaandawe’ewin traditional healing team\, Indigenous Health
URL:https://norwestchc.org/event/ndooowe-binesi-sharing-circle/2025-01-21/
LOCATION:NorWest CHC\, 525 Simpson Street\, Thunder Bay\, Ontario\, P7C 3J6\, Canada
CATEGORIES:Thunder Bay
ORGANIZER;CN="Nicole Fieduna":MAILTO:nfieduna@norwestchc.org
END:VEVENT
BEGIN:VEVENT
DTSTART;TZID=America/Halifax:20250121T173000
DTEND;TZID=America/Halifax:20250121T193000
DTSTAMP:20260426T011645
CREATED:20250121T134339Z
LAST-MODIFIED:20250121T134603Z
UID:10001048-1737480600-1737487800@norwestchc.org
SUMMARY:FASD Peer Support Group for Parents & Caregivers
DESCRIPTION:
URL:https://norwestchc.org/event/fasd-peer-support-group-for-parents-caregivers/2025-01-21/
LOCATION:NorWest CHC\, 525 Simpson Street\, Thunder Bay\, Ontario\, P7C 3J6\, Canada
CATEGORIES:Thunder Bay
ORGANIZER;CN="Maureen Parkes":MAILTO:mparkes@norwestchc.org
END:VEVENT
BEGIN:VEVENT
DTSTART;TZID=America/Halifax:20250122T093000
DTEND;TZID=America/Halifax:20250122T113000
DTSTAMP:20260426T011645
CREATED:20250121T044729Z
LAST-MODIFIED:20250121T044729Z
UID:10000956-1737538200-1737545400@norwestchc.org
SUMMARY:Coffee Club
DESCRIPTION:
URL:https://norwestchc.org/event/coffee-club-2/2025-01-22/
LOCATION:NorWest CHC\, 525 Simpson Street\, Thunder Bay\, Ontario\, P7C 3J6\, Canada
CATEGORIES:Thunder Bay
END:VEVENT
BEGIN:VEVENT
DTSTART;TZID=America/Halifax:20250125T100000
DTEND;TZID=America/Halifax:20250125T123000
DTSTAMP:20260426T011645
CREATED:20241216T144341Z
LAST-MODIFIED:20241216T144341Z
UID:10000566-1737799200-1737808200@norwestchc.org
SUMMARY:Chronic Disease Self-Management Workshop (VIRTUAL)
DESCRIPTION:Our Chronic Disease Self-Management Program is a comprehensive\, evidence-based course tailored for anyone seeking to better manage their chronic conditions. Whether you’re dealing with heart disease\, diabetes\, arthritis\, asthma\, or any other chronic condition\, our program offers practical tools and knowledge to help you take charge of your health.\nOver the course of 6 sessions\, you’ll learn from experienced health educators and connect with peers who understand exactly what you’re going through. Our interactive sessions cover a wide range of essential topics\, including: \n\nTechniques to deal with problems such as frustration\, fatigue\, pain\, and isolation\nAppropriate exercise for maintaining and improving strength\, flexibility\, and endurance\nNutrition advice and how to improve your diet\nEffective communication skills with your family\, friends\, and healthcare team\nHow to evaluate new treatments and understand your medications\n\nIf you refer another participant to the workshop and they attend at least 4/6 sessions\, you will receive a $10.00 referral bonus. \nAlthough it is NOT required for you to commit to all 6 sessions\, it is highly recommended in order to receive the full learning experience. 
URL:https://norwestchc.org/event/chronic-disease-self-management-workshop-virtual-2/2025-01-25/
LOCATION:https://norwestchc.org/event/chronic-disease-self-management-workshop-virtual-2/2025-01-25/
CATEGORIES:Armstrong,Kakabeka,Longlac,Online,Thunder Bay
END:VEVENT
BEGIN:VEVENT
DTSTART;TZID=America/Halifax:20250128T130000
DTEND;TZID=America/Halifax:20250128T140000
DTSTAMP:20260426T011645
CREATED:20250119T203602Z
LAST-MODIFIED:20250610T180239Z
UID:10000919-1738069200-1738072800@norwestchc.org
SUMMARY:N'Doo'owe Binesi Sharing Circle
DESCRIPTION:Please join us for traditional healing programming delivered by a Cultural Practitioner from Nanaandawe’ewin traditional healing team\, Indigenous Health
URL:https://norwestchc.org/event/ndooowe-binesi-sharing-circle/2025-01-28/
LOCATION:NorWest CHC\, 525 Simpson Street\, Thunder Bay\, Ontario\, P7C 3J6\, Canada
CATEGORIES:Thunder Bay
ORGANIZER;CN="Nicole Fieduna":MAILTO:nfieduna@norwestchc.org
END:VEVENT
BEGIN:VEVENT
DTSTART;TZID=America/Halifax:20250128T130000
DTEND;TZID=America/Halifax:20250128T143000
DTSTAMP:20260426T011645
CREATED:20241216T162720Z
LAST-MODIFIED:20250203T193436Z
UID:10000523-1738069200-1738074600@norwestchc.org
SUMMARY:Digital Skills for Older Adults
DESCRIPTION:Unlock the digital world with our free “Digital Skills for Older Adults” program at NorWest Community Health Centres! Join us to learn essential computer skills\, internet safety\, and how to connect with loved ones online\, all in a friendly\, supportive environment tailored for older adults.
URL:https://norwestchc.org/event/digital-skills-for-older-adults-2-2/2025-01-28/
LOCATION:NorWest CHC\, 525 Simpson Street\, Thunder Bay\, Ontario\, P7C 3J6\, Canada
CATEGORIES:Thunder Bay
END:VEVENT
BEGIN:VEVENT
DTSTART;TZID=America/Halifax:20250201T100000
DTEND;TZID=America/Halifax:20250201T123000
DTSTAMP:20260426T011645
CREATED:20241216T144341Z
LAST-MODIFIED:20241216T144341Z
UID:10000567-1738404000-1738413000@norwestchc.org
SUMMARY:Chronic Disease Self-Management Workshop (VIRTUAL)
DESCRIPTION:Our Chronic Disease Self-Management Program is a comprehensive\, evidence-based course tailored for anyone seeking to better manage their chronic conditions. Whether you’re dealing with heart disease\, diabetes\, arthritis\, asthma\, or any other chronic condition\, our program offers practical tools and knowledge to help you take charge of your health.\nOver the course of 6 sessions\, you’ll learn from experienced health educators and connect with peers who understand exactly what you’re going through. Our interactive sessions cover a wide range of essential topics\, including: \n\nTechniques to deal with problems such as frustration\, fatigue\, pain\, and isolation\nAppropriate exercise for maintaining and improving strength\, flexibility\, and endurance\nNutrition advice and how to improve your diet\nEffective communication skills with your family\, friends\, and healthcare team\nHow to evaluate new treatments and understand your medications\n\nIf you refer another participant to the workshop and they attend at least 4/6 sessions\, you will receive a $10.00 referral bonus. \nAlthough it is NOT required for you to commit to all 6 sessions\, it is highly recommended in order to receive the full learning experience. 
URL:https://norwestchc.org/event/chronic-disease-self-management-workshop-virtual-2/2025-02-01/
LOCATION:https://norwestchc.org/event/chronic-disease-self-management-workshop-virtual-2/2025-02-01/
CATEGORIES:Armstrong,Kakabeka,Longlac,Online,Thunder Bay
END:VEVENT
BEGIN:VEVENT
DTSTART;TZID=America/Halifax:20250204T130000
DTEND;TZID=America/Halifax:20250204T140000
DTSTAMP:20260426T011645
CREATED:20250119T203602Z
LAST-MODIFIED:20250610T180239Z
UID:10000920-1738674000-1738677600@norwestchc.org
SUMMARY:N'Doo'owe Binesi Sharing Circle
DESCRIPTION:Please join us for traditional healing programming delivered by a Cultural Practitioner from Nanaandawe’ewin traditional healing team\, Indigenous Health
URL:https://norwestchc.org/event/ndooowe-binesi-sharing-circle/2025-02-04/
LOCATION:NorWest CHC\, 525 Simpson Street\, Thunder Bay\, Ontario\, P7C 3J6\, Canada
CATEGORIES:Thunder Bay
ORGANIZER;CN="Nicole Fieduna":MAILTO:nfieduna@norwestchc.org
END:VEVENT
BEGIN:VEVENT
DTSTART;TZID=America/Halifax:20250206T130000
DTEND;TZID=America/Halifax:20250206T143000
DTSTAMP:20260426T011645
CREATED:20241216T162720Z
LAST-MODIFIED:20250203T193436Z
UID:10001078-1738846800-1738852200@norwestchc.org
SUMMARY:Digital Skills for Older Adults
DESCRIPTION:Unlock the digital world with our free “Digital Skills for Older Adults” program at NorWest Community Health Centres! Join us to learn essential computer skills\, internet safety\, and how to connect with loved ones online\, all in a friendly\, supportive environment tailored for older adults.
URL:https://norwestchc.org/event/digital-skills-for-older-adults-2-2/2025-02-06/
LOCATION:NorWest CHC\, 525 Simpson Street\, Thunder Bay\, Ontario\, P7C 3J6\, Canada
CATEGORIES:Thunder Bay
END:VEVENT
BEGIN:VEVENT
DTSTART;TZID=America/Halifax:20250208T100000
DTEND;TZID=America/Halifax:20250208T123000
DTSTAMP:20260426T011645
CREATED:20241216T144341Z
LAST-MODIFIED:20241216T144341Z
UID:10000568-1739008800-1739017800@norwestchc.org
SUMMARY:Chronic Disease Self-Management Workshop (VIRTUAL)
DESCRIPTION:Our Chronic Disease Self-Management Program is a comprehensive\, evidence-based course tailored for anyone seeking to better manage their chronic conditions. Whether you’re dealing with heart disease\, diabetes\, arthritis\, asthma\, or any other chronic condition\, our program offers practical tools and knowledge to help you take charge of your health.\nOver the course of 6 sessions\, you’ll learn from experienced health educators and connect with peers who understand exactly what you’re going through. Our interactive sessions cover a wide range of essential topics\, including: \n\nTechniques to deal with problems such as frustration\, fatigue\, pain\, and isolation\nAppropriate exercise for maintaining and improving strength\, flexibility\, and endurance\nNutrition advice and how to improve your diet\nEffective communication skills with your family\, friends\, and healthcare team\nHow to evaluate new treatments and understand your medications\n\nIf you refer another participant to the workshop and they attend at least 4/6 sessions\, you will receive a $10.00 referral bonus. \nAlthough it is NOT required for you to commit to all 6 sessions\, it is highly recommended in order to receive the full learning experience. 
URL:https://norwestchc.org/event/chronic-disease-self-management-workshop-virtual-2/2025-02-08/
LOCATION:https://norwestchc.org/event/chronic-disease-self-management-workshop-virtual-2/2025-02-08/
CATEGORIES:Armstrong,Kakabeka,Longlac,Online,Thunder Bay
END:VEVENT
BEGIN:VEVENT
DTSTART;TZID=America/Halifax:20250211T130000
DTEND;TZID=America/Halifax:20250211T140000
DTSTAMP:20260426T011645
CREATED:20250119T203602Z
LAST-MODIFIED:20250610T180239Z
UID:10000921-1739278800-1739282400@norwestchc.org
SUMMARY:N'Doo'owe Binesi Sharing Circle
DESCRIPTION:Please join us for traditional healing programming delivered by a Cultural Practitioner from Nanaandawe’ewin traditional healing team\, Indigenous Health
URL:https://norwestchc.org/event/ndooowe-binesi-sharing-circle/2025-02-11/
LOCATION:NorWest CHC\, 525 Simpson Street\, Thunder Bay\, Ontario\, P7C 3J6\, Canada
CATEGORIES:Thunder Bay
ORGANIZER;CN="Nicole Fieduna":MAILTO:nfieduna@norwestchc.org
END:VEVENT
BEGIN:VEVENT
DTSTART;TZID=America/Halifax:20250211T130000
DTEND;TZID=America/Halifax:20250211T143000
DTSTAMP:20260426T011645
CREATED:20241216T162720Z
LAST-MODIFIED:20250203T193436Z
UID:10000582-1739278800-1739284200@norwestchc.org
SUMMARY:Digital Skills for Older Adults
DESCRIPTION:Unlock the digital world with our free “Digital Skills for Older Adults” program at NorWest Community Health Centres! Join us to learn essential computer skills\, internet safety\, and how to connect with loved ones online\, all in a friendly\, supportive environment tailored for older adults.
URL:https://norwestchc.org/event/digital-skills-for-older-adults-2-2/2025-02-11/
LOCATION:NorWest CHC\, 525 Simpson Street\, Thunder Bay\, Ontario\, P7C 3J6\, Canada
CATEGORIES:Thunder Bay
END:VEVENT
BEGIN:VEVENT
DTSTART;TZID=America/Halifax:20250212T093000
DTEND;TZID=America/Halifax:20250212T113000
DTSTAMP:20260426T011645
CREATED:20250121T044729Z
LAST-MODIFIED:20250121T044729Z
UID:10000957-1739352600-1739359800@norwestchc.org
SUMMARY:Coffee Club
DESCRIPTION:
URL:https://norwestchc.org/event/coffee-club-2/2025-02-12/
LOCATION:NorWest CHC\, 525 Simpson Street\, Thunder Bay\, Ontario\, P7C 3J6\, Canada
CATEGORIES:Thunder Bay
END:VEVENT
BEGIN:VEVENT
DTSTART;TZID=America/Halifax:20250215T100000
DTEND;TZID=America/Halifax:20250215T123000
DTSTAMP:20260426T011645
CREATED:20241216T144341Z
LAST-MODIFIED:20241216T144341Z
UID:10000569-1739613600-1739622600@norwestchc.org
SUMMARY:Chronic Disease Self-Management Workshop (VIRTUAL)
DESCRIPTION:Our Chronic Disease Self-Management Program is a comprehensive\, evidence-based course tailored for anyone seeking to better manage their chronic conditions. Whether you’re dealing with heart disease\, diabetes\, arthritis\, asthma\, or any other chronic condition\, our program offers practical tools and knowledge to help you take charge of your health.\nOver the course of 6 sessions\, you’ll learn from experienced health educators and connect with peers who understand exactly what you’re going through. Our interactive sessions cover a wide range of essential topics\, including: \n\nTechniques to deal with problems such as frustration\, fatigue\, pain\, and isolation\nAppropriate exercise for maintaining and improving strength\, flexibility\, and endurance\nNutrition advice and how to improve your diet\nEffective communication skills with your family\, friends\, and healthcare team\nHow to evaluate new treatments and understand your medications\n\nIf you refer another participant to the workshop and they attend at least 4/6 sessions\, you will receive a $10.00 referral bonus. \nAlthough it is NOT required for you to commit to all 6 sessions\, it is highly recommended in order to receive the full learning experience. 
URL:https://norwestchc.org/event/chronic-disease-self-management-workshop-virtual-2/2025-02-15/
LOCATION:https://norwestchc.org/event/chronic-disease-self-management-workshop-virtual-2/2025-02-15/
CATEGORIES:Armstrong,Kakabeka,Longlac,Online,Thunder Bay
END:VEVENT
BEGIN:VEVENT
DTSTART;TZID=America/Halifax:20250218T130000
DTEND;TZID=America/Halifax:20250218T140000
DTSTAMP:20260426T011645
CREATED:20250119T203602Z
LAST-MODIFIED:20250610T180239Z
UID:10000922-1739883600-1739887200@norwestchc.org
SUMMARY:N'Doo'owe Binesi Sharing Circle
DESCRIPTION:Please join us for traditional healing programming delivered by a Cultural Practitioner from Nanaandawe’ewin traditional healing team\, Indigenous Health
URL:https://norwestchc.org/event/ndooowe-binesi-sharing-circle/2025-02-18/
LOCATION:NorWest CHC\, 525 Simpson Street\, Thunder Bay\, Ontario\, P7C 3J6\, Canada
CATEGORIES:Thunder Bay
ORGANIZER;CN="Nicole Fieduna":MAILTO:nfieduna@norwestchc.org
END:VEVENT
BEGIN:VEVENT
DTSTART;TZID=America/Halifax:20250218T130000
DTEND;TZID=America/Halifax:20250218T143000
DTSTAMP:20260426T011645
CREATED:20241216T162720Z
LAST-MODIFIED:20250203T193436Z
UID:10000583-1739883600-1739889000@norwestchc.org
SUMMARY:Digital Skills for Older Adults
DESCRIPTION:Unlock the digital world with our free “Digital Skills for Older Adults” program at NorWest Community Health Centres! Join us to learn essential computer skills\, internet safety\, and how to connect with loved ones online\, all in a friendly\, supportive environment tailored for older adults.
URL:https://norwestchc.org/event/digital-skills-for-older-adults-2-2/2025-02-18/
LOCATION:NorWest CHC\, 525 Simpson Street\, Thunder Bay\, Ontario\, P7C 3J6\, Canada
CATEGORIES:Thunder Bay
END:VEVENT
BEGIN:VEVENT
DTSTART;TZID=America/Halifax:20250218T173000
DTEND;TZID=America/Halifax:20250218T193000
DTSTAMP:20260426T011645
CREATED:20250121T134339Z
LAST-MODIFIED:20250121T134603Z
UID:10001049-1739899800-1739907000@norwestchc.org
SUMMARY:FASD Peer Support Group for Parents & Caregivers
DESCRIPTION:
URL:https://norwestchc.org/event/fasd-peer-support-group-for-parents-caregivers/2025-02-18/
LOCATION:NorWest CHC\, 525 Simpson Street\, Thunder Bay\, Ontario\, P7C 3J6\, Canada
CATEGORIES:Thunder Bay
ORGANIZER;CN="Maureen Parkes":MAILTO:mparkes@norwestchc.org
END:VEVENT
BEGIN:VEVENT
DTSTART;TZID=America/Halifax:20250219T130000
DTEND;TZID=America/Halifax:20250219T160000
DTSTAMP:20260426T011645
CREATED:20250211T164341Z
LAST-MODIFIED:20250211T164341Z
UID:10001079-1739970000-1739980800@norwestchc.org
SUMMARY:Civic Engagement Day
DESCRIPTION:Join us for a free event to learn about the upcoming election and the impact of your voice in shaping the future. Your participation matters! Snacks will be provided.
URL:https://norwestchc.org/event/civic-engagement-day/
LOCATION:NorWest CHC\, 525 Simpson Street\, Thunder Bay\, Ontario\, P7C 3J6\, Canada
CATEGORIES:Thunder Bay
ATTACH;FMTTYPE=image/jpeg:https://norwestchc.org/wp-content/uploads/2025/02/CED.jpg
ORGANIZER;CN="Nicole Fieduna":MAILTO:nfieduna@norwestchc.org
END:VEVENT
BEGIN:VEVENT
DTSTART;TZID=America/Halifax:20250222T100000
DTEND;TZID=America/Halifax:20250222T123000
DTSTAMP:20260426T011645
CREATED:20241216T144341Z
LAST-MODIFIED:20241216T144341Z
UID:10000570-1740218400-1740227400@norwestchc.org
SUMMARY:Chronic Disease Self-Management Workshop (VIRTUAL)
DESCRIPTION:Our Chronic Disease Self-Management Program is a comprehensive\, evidence-based course tailored for anyone seeking to better manage their chronic conditions. Whether you’re dealing with heart disease\, diabetes\, arthritis\, asthma\, or any other chronic condition\, our program offers practical tools and knowledge to help you take charge of your health.\nOver the course of 6 sessions\, you’ll learn from experienced health educators and connect with peers who understand exactly what you’re going through. Our interactive sessions cover a wide range of essential topics\, including: \n\nTechniques to deal with problems such as frustration\, fatigue\, pain\, and isolation\nAppropriate exercise for maintaining and improving strength\, flexibility\, and endurance\nNutrition advice and how to improve your diet\nEffective communication skills with your family\, friends\, and healthcare team\nHow to evaluate new treatments and understand your medications\n\nIf you refer another participant to the workshop and they attend at least 4/6 sessions\, you will receive a $10.00 referral bonus. \nAlthough it is NOT required for you to commit to all 6 sessions\, it is highly recommended in order to receive the full learning experience. 
URL:https://norwestchc.org/event/chronic-disease-self-management-workshop-virtual-2/2025-02-22/
LOCATION:https://norwestchc.org/event/chronic-disease-self-management-workshop-virtual-2/2025-02-22/
CATEGORIES:Armstrong,Kakabeka,Longlac,Online,Thunder Bay
END:VEVENT
BEGIN:VEVENT
DTSTART;TZID=America/Halifax:20250225T130000
DTEND;TZID=America/Halifax:20250225T140000
DTSTAMP:20260426T011645
CREATED:20250119T203602Z
LAST-MODIFIED:20250610T180239Z
UID:10000923-1740488400-1740492000@norwestchc.org
SUMMARY:N'Doo'owe Binesi Sharing Circle
DESCRIPTION:Please join us for traditional healing programming delivered by a Cultural Practitioner from Nanaandawe’ewin traditional healing team\, Indigenous Health
URL:https://norwestchc.org/event/ndooowe-binesi-sharing-circle/2025-02-25/
LOCATION:NorWest CHC\, 525 Simpson Street\, Thunder Bay\, Ontario\, P7C 3J6\, Canada
CATEGORIES:Thunder Bay
ORGANIZER;CN="Nicole Fieduna":MAILTO:nfieduna@norwestchc.org
END:VEVENT
BEGIN:VEVENT
DTSTART;TZID=America/Halifax:20250304T130000
DTEND;TZID=America/Halifax:20250304T140000
DTSTAMP:20260426T011645
CREATED:20250119T203602Z
LAST-MODIFIED:20250610T180239Z
UID:10000924-1741093200-1741096800@norwestchc.org
SUMMARY:N'Doo'owe Binesi Sharing Circle
DESCRIPTION:Please join us for traditional healing programming delivered by a Cultural Practitioner from Nanaandawe’ewin traditional healing team\, Indigenous Health
URL:https://norwestchc.org/event/ndooowe-binesi-sharing-circle/2025-03-04/
LOCATION:NorWest CHC\, 525 Simpson Street\, Thunder Bay\, Ontario\, P7C 3J6\, Canada
CATEGORIES:Thunder Bay
ORGANIZER;CN="Nicole Fieduna":MAILTO:nfieduna@norwestchc.org
END:VEVENT
BEGIN:VEVENT
DTSTART;TZID=America/Halifax:20250307T130000
DTEND;TZID=America/Halifax:20250307T160000
DTSTAMP:20260426T011645
CREATED:20250304T200358Z
LAST-MODIFIED:20250304T203407Z
UID:10001093-1741352400-1741363200@norwestchc.org
SUMMARY:Pop-Up Clinic for Women & Non-Binary People
DESCRIPTION:Services available: \n\nHot meal\nIndigenous Dot Art Activity\nContraception information & counselling\nWalk-in NP Services\nFree Women’s Hygiene Products\nWomen’s Preventative Health Education\nSTI testing\nDrop-in Movie and Snacks
URL:https://norwestchc.org/event/pop-up-clinic-for-women-non-binary-people/
LOCATION:NorWest CHC\, 525 Simpson Street\, Thunder Bay\, Ontario\, P7C 3J6\, Canada
CATEGORIES:Thunder Bay
ORGANIZER;CN="Jennifer Pasiciel":MAILTO:jpasiciel@norwestchc.org
END:VEVENT
BEGIN:VEVENT
DTSTART;TZID=America/Halifax:20250311T090000
DTEND;TZID=America/Halifax:20250311T120000
DTSTAMP:20260426T011645
CREATED:20250224T185819Z
LAST-MODIFIED:20250224T185819Z
UID:10001085-1741683600-1741694400@norwestchc.org
SUMMARY:Brief Action Planning Workshop (2 sessions)
DESCRIPTION:This workshop provides training in fundamental concepts from the health literacy universal precautions and teaches core skills including how to use resources\, plain language\, teach-back\, and ask-offer-ask. \n\nThis is a half-day workshop that has been split into two days. You must attend both sessions for the complete training.\nBreakfast is being provided for both days.\n\nThis workshop is targeted to front-line clinicians\, providers\, or staff who work one-on-one with clients. 
URL:https://norwestchc.org/event/brief-action-planning-workshop-2-sessions/2025-03-11/
LOCATION:NorWest CHC\, 525 Simpson Street\, Thunder Bay\, Ontario\, P7C 3J6\, Canada
CATEGORIES:Thunder Bay
ATTACH;FMTTYPE=image/jpeg:https://norwestchc.org/wp-content/uploads/2025/02/BAP-MAR-2025.jpg
END:VEVENT
END:VCALENDAR