BEGIN:VCALENDAR
VERSION:2.0
PRODID:-//NorWest Community Health Centres - ECPv6.15.18//NONSGML v1.0//EN
CALSCALE:GREGORIAN
METHOD:PUBLISH
X-WR-CALNAME:NorWest Community Health Centres
X-ORIGINAL-URL:https://norwestchc.org
X-WR-CALDESC:Events for NorWest Community Health Centres
REFRESH-INTERVAL;VALUE=DURATION:PT1H
X-Robots-Tag:noindex
X-PUBLISHED-TTL:PT1H
BEGIN:VTIMEZONE
TZID:America/Halifax
BEGIN:DAYLIGHT
TZOFFSETFROM:-0400
TZOFFSETTO:-0300
TZNAME:ADT
DTSTART:20240310T060000
END:DAYLIGHT
BEGIN:STANDARD
TZOFFSETFROM:-0300
TZOFFSETTO:-0400
TZNAME:AST
DTSTART:20241103T050000
END:STANDARD
BEGIN:DAYLIGHT
TZOFFSETFROM:-0400
TZOFFSETTO:-0300
TZNAME:ADT
DTSTART:20250309T060000
END:DAYLIGHT
BEGIN:STANDARD
TZOFFSETFROM:-0300
TZOFFSETTO:-0400
TZNAME:AST
DTSTART:20251102T050000
END:STANDARD
BEGIN:DAYLIGHT
TZOFFSETFROM:-0400
TZOFFSETTO:-0300
TZNAME:ADT
DTSTART:20260308T060000
END:DAYLIGHT
BEGIN:STANDARD
TZOFFSETFROM:-0300
TZOFFSETTO:-0400
TZNAME:AST
DTSTART:20261101T050000
END:STANDARD
END:VTIMEZONE
BEGIN:VEVENT
DTSTART;TZID=America/Halifax:20250324T083000
DTEND;TZID=America/Halifax:20250324T163000
DTSTAMP:20260425T223131
CREATED:20241216T161809Z
LAST-MODIFIED:20241216T161809Z
UID:10000577-1742805000-1742833800@norwestchc.org
SUMMARY:Diabetes Self-Management Program Training
DESCRIPTION:NorWest Community Health Centres is proud to offer a 4-day in-person Diabetes Self-Management Program Training. This comprehensive training will not only enhance your understanding of diabetes management but also equip you with the skills to lead and facilitate Diabetes Self-Management Program workshops in your community – in-person and virtually. \nWho should attend? • Frontline health workers • Individuals with lived experience of diabetes • Caregivers of people with diabetes \nWhat you’ll gain: • In-depth knowledge of diabetes management strategies • Facilitation skills to lead effective workshops • Certification to deliver Diabetes Self-Management Program workshops • Tools and resources to educate and empower others • Networking opportunities with peers and experts \nUpon completion\, you’ll be ready to make a lasting impact by delivering workshops to the public\, spreading vital knowledge\, and supporting those affected by diabetes.
URL:https://norwestchc.org/event/diabetes-self-management-program-training/2025-03-24/
LOCATION:NorWest CHC\, 525 Simpson Street\, Thunder Bay\, Ontario\, P7C 3J6\, Canada
CATEGORIES:Kakabeka,Thunder Bay
END:VEVENT
BEGIN:VEVENT
DTSTART;TZID=America/Halifax:20250324T130000
DTEND;TZID=America/Halifax:20250324T160000
DTSTAMP:20260425T223131
CREATED:20250316T202237Z
LAST-MODIFIED:20250316T202237Z
UID:10001099-1742821200-1742832000@norwestchc.org
SUMMARY:Pop-Up Clinic
DESCRIPTION:Services will include a lunch\, haircuts\, TB information\, STBBI testing\, routine vaccinations\, ID clinic and sharing TRACKS study results \nIn recognition of World Tuberculosis Day
URL:https://norwestchc.org/event/pop-up-clinic/
LOCATION:Grace Place\, 235 Simpson St\, Thunder Bay\, ON\, P7C 3H6\, Canada
CATEGORIES:Thunder Bay
ORGANIZER;CN="Jennifer Pasiciel":MAILTO:jpasiciel@norwestchc.org
END:VEVENT
BEGIN:VEVENT
DTSTART;TZID=America/Halifax:20250325T083000
DTEND;TZID=America/Halifax:20250325T163000
DTSTAMP:20260425T223131
CREATED:20241216T161809Z
LAST-MODIFIED:20241216T161809Z
UID:10000578-1742891400-1742920200@norwestchc.org
SUMMARY:Diabetes Self-Management Program Training
DESCRIPTION:NorWest Community Health Centres is proud to offer a 4-day in-person Diabetes Self-Management Program Training. This comprehensive training will not only enhance your understanding of diabetes management but also equip you with the skills to lead and facilitate Diabetes Self-Management Program workshops in your community – in-person and virtually. \nWho should attend? • Frontline health workers • Individuals with lived experience of diabetes • Caregivers of people with diabetes \nWhat you’ll gain: • In-depth knowledge of diabetes management strategies • Facilitation skills to lead effective workshops • Certification to deliver Diabetes Self-Management Program workshops • Tools and resources to educate and empower others • Networking opportunities with peers and experts \nUpon completion\, you’ll be ready to make a lasting impact by delivering workshops to the public\, spreading vital knowledge\, and supporting those affected by diabetes.
URL:https://norwestchc.org/event/diabetes-self-management-program-training/2025-03-25/
LOCATION:NorWest CHC\, 525 Simpson Street\, Thunder Bay\, Ontario\, P7C 3J6\, Canada
CATEGORIES:Kakabeka,Thunder Bay
END:VEVENT
BEGIN:VEVENT
DTSTART;TZID=America/Halifax:20250325T130000
DTEND;TZID=America/Halifax:20250325T140000
DTSTAMP:20260425T223131
CREATED:20250119T203602Z
LAST-MODIFIED:20250610T180239Z
UID:10000927-1742907600-1742911200@norwestchc.org
SUMMARY:N'Doo'owe Binesi Sharing Circle
DESCRIPTION:Please join us for traditional healing programming delivered by a Cultural Practitioner from Nanaandawe’ewin traditional healing team\, Indigenous Health
URL:https://norwestchc.org/event/ndooowe-binesi-sharing-circle/2025-03-25/
LOCATION:NorWest CHC\, 525 Simpson Street\, Thunder Bay\, Ontario\, P7C 3J6\, Canada
CATEGORIES:Thunder Bay
ORGANIZER;CN="Nicole Fieduna":MAILTO:nfieduna@norwestchc.org
END:VEVENT
BEGIN:VEVENT
DTSTART;TZID=America/Halifax:20250326T083000
DTEND;TZID=America/Halifax:20250326T163000
DTSTAMP:20260425T223131
CREATED:20241216T161809Z
LAST-MODIFIED:20241216T161809Z
UID:10000579-1742977800-1743006600@norwestchc.org
SUMMARY:Diabetes Self-Management Program Training
DESCRIPTION:NorWest Community Health Centres is proud to offer a 4-day in-person Diabetes Self-Management Program Training. This comprehensive training will not only enhance your understanding of diabetes management but also equip you with the skills to lead and facilitate Diabetes Self-Management Program workshops in your community – in-person and virtually. \nWho should attend? • Frontline health workers • Individuals with lived experience of diabetes • Caregivers of people with diabetes \nWhat you’ll gain: • In-depth knowledge of diabetes management strategies • Facilitation skills to lead effective workshops • Certification to deliver Diabetes Self-Management Program workshops • Tools and resources to educate and empower others • Networking opportunities with peers and experts \nUpon completion\, you’ll be ready to make a lasting impact by delivering workshops to the public\, spreading vital knowledge\, and supporting those affected by diabetes.
URL:https://norwestchc.org/event/diabetes-self-management-program-training/2025-03-26/
LOCATION:NorWest CHC\, 525 Simpson Street\, Thunder Bay\, Ontario\, P7C 3J6\, Canada
CATEGORIES:Kakabeka,Thunder Bay
END:VEVENT
BEGIN:VEVENT
DTSTART;TZID=America/Halifax:20250327T083000
DTEND;TZID=America/Halifax:20250327T163000
DTSTAMP:20260425T223131
CREATED:20241216T161809Z
LAST-MODIFIED:20241216T161809Z
UID:10000580-1743064200-1743093000@norwestchc.org
SUMMARY:Diabetes Self-Management Program Training
DESCRIPTION:NorWest Community Health Centres is proud to offer a 4-day in-person Diabetes Self-Management Program Training. This comprehensive training will not only enhance your understanding of diabetes management but also equip you with the skills to lead and facilitate Diabetes Self-Management Program workshops in your community – in-person and virtually. \nWho should attend? • Frontline health workers • Individuals with lived experience of diabetes • Caregivers of people with diabetes \nWhat you’ll gain: • In-depth knowledge of diabetes management strategies • Facilitation skills to lead effective workshops • Certification to deliver Diabetes Self-Management Program workshops • Tools and resources to educate and empower others • Networking opportunities with peers and experts \nUpon completion\, you’ll be ready to make a lasting impact by delivering workshops to the public\, spreading vital knowledge\, and supporting those affected by diabetes.
URL:https://norwestchc.org/event/diabetes-self-management-program-training/2025-03-27/
LOCATION:NorWest CHC\, 525 Simpson Street\, Thunder Bay\, Ontario\, P7C 3J6\, Canada
CATEGORIES:Kakabeka,Thunder Bay
END:VEVENT
BEGIN:VEVENT
DTSTART;TZID=America/Halifax:20250328T133000
DTEND;TZID=America/Halifax:20250328T150000
DTSTAMP:20260425T223131
CREATED:20250324T024531Z
LAST-MODIFIED:20250324T024531Z
UID:10001119-1743168600-1743174000@norwestchc.org
SUMMARY:Thereoke
DESCRIPTION:Come and sing your favourite songs in a judgment-free zone\, have snacks and treats!
URL:https://norwestchc.org/event/thereoke/
LOCATION:NorWest CHC\, 525 Simpson Street\, Thunder Bay\, Ontario\, P7C 3J6\, Canada
CATEGORIES:Thunder Bay
ORGANIZER;CN="Elaine Chen":MAILTO:echen@norwestchc.org
END:VEVENT
BEGIN:VEVENT
DTSTART;TZID=America/Halifax:20250329T100000
DTEND;TZID=America/Halifax:20250329T123000
DTSTAMP:20260425T223131
CREATED:20250304T141947Z
LAST-MODIFIED:20250304T141947Z
UID:10001088-1743242400-1743251400@norwestchc.org
SUMMARY:Chronic Disease Self-Management Program Workshop Series (SATURDAYS)
DESCRIPTION:
URL:https://norwestchc.org/event/chronic-disease-self-management-program-workshop-series-saturdays/2025-03-29/
LOCATION:https://norwestchc.org/event/chronic-disease-self-management-program-workshop-series-saturdays/2025-03-29/
CATEGORIES:Armstrong,Kakabeka,Longlac,Online,Thunder Bay
ATTACH;FMTTYPE=image/jpeg:https://norwestchc.org/wp-content/uploads/2025/03/CDSMP-Top.jpg
END:VEVENT
BEGIN:VEVENT
DTSTART;TZID=America/Halifax:20250331T173000
DTEND;TZID=America/Halifax:20250331T193000
DTSTAMP:20260425T223131
CREATED:20250324T031108Z
LAST-MODIFIED:20250324T031108Z
UID:10001126-1743442200-1743449400@norwestchc.org
SUMMARY:8-Week FASD Caregiver Program
DESCRIPTION:This program is specifically for parents\, caregivers\, partners\, siblings and friends
URL:https://norwestchc.org/event/8-week-fasd-caregiver-program/2025-03-31/
LOCATION:NorWest CHC\, 525 Simpson Street\, Thunder Bay\, Ontario\, P7C 3J6\, Canada
CATEGORIES:Thunder Bay
ORGANIZER;CN="Maureen Parkes":MAILTO:mparkes@norwestchc.org
END:VEVENT
BEGIN:VEVENT
DTSTART;TZID=America/Halifax:20250401T130000
DTEND;TZID=America/Halifax:20250401T140000
DTSTAMP:20260425T223131
CREATED:20250119T203602Z
LAST-MODIFIED:20250610T180239Z
UID:10001164-1743512400-1743516000@norwestchc.org
SUMMARY:N'Doo'owe Binesi Sharing Circle
DESCRIPTION:Please join us for traditional healing programming delivered by a Cultural Practitioner from Nanaandawe’ewin traditional healing team\, Indigenous Health
URL:https://norwestchc.org/event/ndooowe-binesi-sharing-circle/2025-04-01/
LOCATION:NorWest CHC\, 525 Simpson Street\, Thunder Bay\, Ontario\, P7C 3J6\, Canada
CATEGORIES:Thunder Bay
ORGANIZER;CN="Nicole Fieduna":MAILTO:nfieduna@norwestchc.org
END:VEVENT
BEGIN:VEVENT
DTSTART;TZID=America/Halifax:20250401T130000
DTEND;TZID=America/Halifax:20250401T143000
DTSTAMP:20260425T223131
CREATED:20250225T202640Z
LAST-MODIFIED:20250424T201130Z
UID:10001105-1743512400-1743517800@norwestchc.org
SUMMARY:Digital Skills for Older Adults
DESCRIPTION:Unlock the digital world with our free “Digital Skills for Older Adults” program at NorWest Community Health Centres! Join us to learn essential computer skills\, internet safety\, and how to connect with loved ones online\, all in a friendly\, supportive environment tailored for older adults.
URL:https://norwestchc.org/event/digital-skills-for-older-adults-2-2-2/2025-04-01/
LOCATION:NorWest CHC\, 525 Simpson Street\, Thunder Bay\, Ontario\, P7C 3J6\, Canada
CATEGORIES:Thunder Bay
END:VEVENT
BEGIN:VEVENT
DTSTART;TZID=America/Halifax:20250405T100000
DTEND;TZID=America/Halifax:20250405T123000
DTSTAMP:20260425T223131
CREATED:20250304T141947Z
LAST-MODIFIED:20250304T141947Z
UID:10001089-1743847200-1743856200@norwestchc.org
SUMMARY:Chronic Disease Self-Management Program Workshop Series (SATURDAYS)
DESCRIPTION:
URL:https://norwestchc.org/event/chronic-disease-self-management-program-workshop-series-saturdays/2025-04-05/
LOCATION:https://norwestchc.org/event/chronic-disease-self-management-program-workshop-series-saturdays/2025-04-05/
CATEGORIES:Armstrong,Kakabeka,Longlac,Online,Thunder Bay
ATTACH;FMTTYPE=image/jpeg:https://norwestchc.org/wp-content/uploads/2025/03/CDSMP-Top.jpg
END:VEVENT
BEGIN:VEVENT
DTSTART;TZID=America/Halifax:20250407T173000
DTEND;TZID=America/Halifax:20250407T193000
DTSTAMP:20260425T223131
CREATED:20250324T031108Z
LAST-MODIFIED:20250324T031108Z
UID:10001127-1744047000-1744054200@norwestchc.org
SUMMARY:8-Week FASD Caregiver Program
DESCRIPTION:This program is specifically for parents\, caregivers\, partners\, siblings and friends
URL:https://norwestchc.org/event/8-week-fasd-caregiver-program/2025-04-07/
LOCATION:NorWest CHC\, 525 Simpson Street\, Thunder Bay\, Ontario\, P7C 3J6\, Canada
CATEGORIES:Thunder Bay
ORGANIZER;CN="Maureen Parkes":MAILTO:mparkes@norwestchc.org
END:VEVENT
BEGIN:VEVENT
DTSTART;TZID=America/Halifax:20250408T130000
DTEND;TZID=America/Halifax:20250408T140000
DTSTAMP:20260425T223131
CREATED:20250119T203602Z
LAST-MODIFIED:20250610T180239Z
UID:10001165-1744117200-1744120800@norwestchc.org
SUMMARY:N'Doo'owe Binesi Sharing Circle
DESCRIPTION:Please join us for traditional healing programming delivered by a Cultural Practitioner from Nanaandawe’ewin traditional healing team\, Indigenous Health
URL:https://norwestchc.org/event/ndooowe-binesi-sharing-circle/2025-04-08/
LOCATION:NorWest CHC\, 525 Simpson Street\, Thunder Bay\, Ontario\, P7C 3J6\, Canada
CATEGORIES:Thunder Bay
ORGANIZER;CN="Nicole Fieduna":MAILTO:nfieduna@norwestchc.org
END:VEVENT
BEGIN:VEVENT
DTSTART;TZID=America/Halifax:20250408T130000
DTEND;TZID=America/Halifax:20250408T143000
DTSTAMP:20260425T223131
CREATED:20250225T202640Z
LAST-MODIFIED:20250424T201130Z
UID:10001106-1744117200-1744122600@norwestchc.org
SUMMARY:Digital Skills for Older Adults
DESCRIPTION:Unlock the digital world with our free “Digital Skills for Older Adults” program at NorWest Community Health Centres! Join us to learn essential computer skills\, internet safety\, and how to connect with loved ones online\, all in a friendly\, supportive environment tailored for older adults.
URL:https://norwestchc.org/event/digital-skills-for-older-adults-2-2-2/2025-04-08/
LOCATION:NorWest CHC\, 525 Simpson Street\, Thunder Bay\, Ontario\, P7C 3J6\, Canada
CATEGORIES:Thunder Bay
END:VEVENT
BEGIN:VEVENT
DTSTART;TZID=America/Halifax:20250412T100000
DTEND;TZID=America/Halifax:20250412T123000
DTSTAMP:20260425T223131
CREATED:20250304T141947Z
LAST-MODIFIED:20250304T141947Z
UID:10001090-1744452000-1744461000@norwestchc.org
SUMMARY:Chronic Disease Self-Management Program Workshop Series (SATURDAYS)
DESCRIPTION:
URL:https://norwestchc.org/event/chronic-disease-self-management-program-workshop-series-saturdays/2025-04-12/
LOCATION:https://norwestchc.org/event/chronic-disease-self-management-program-workshop-series-saturdays/2025-04-12/
CATEGORIES:Armstrong,Kakabeka,Longlac,Online,Thunder Bay
ATTACH;FMTTYPE=image/jpeg:https://norwestchc.org/wp-content/uploads/2025/03/CDSMP-Top.jpg
END:VEVENT
BEGIN:VEVENT
DTSTART;TZID=America/Halifax:20250414T173000
DTEND;TZID=America/Halifax:20250414T193000
DTSTAMP:20260425T223131
CREATED:20250324T031108Z
LAST-MODIFIED:20250324T031108Z
UID:10001128-1744651800-1744659000@norwestchc.org
SUMMARY:8-Week FASD Caregiver Program
DESCRIPTION:This program is specifically for parents\, caregivers\, partners\, siblings and friends
URL:https://norwestchc.org/event/8-week-fasd-caregiver-program/2025-04-14/
LOCATION:NorWest CHC\, 525 Simpson Street\, Thunder Bay\, Ontario\, P7C 3J6\, Canada
CATEGORIES:Thunder Bay
ORGANIZER;CN="Maureen Parkes":MAILTO:mparkes@norwestchc.org
END:VEVENT
BEGIN:VEVENT
DTSTART;TZID=America/Halifax:20250415T130000
DTEND;TZID=America/Halifax:20250415T140000
DTSTAMP:20260425T223131
CREATED:20250119T203602Z
LAST-MODIFIED:20250610T180239Z
UID:10001166-1744722000-1744725600@norwestchc.org
SUMMARY:N'Doo'owe Binesi Sharing Circle
DESCRIPTION:Please join us for traditional healing programming delivered by a Cultural Practitioner from Nanaandawe’ewin traditional healing team\, Indigenous Health
URL:https://norwestchc.org/event/ndooowe-binesi-sharing-circle/2025-04-15/
LOCATION:NorWest CHC\, 525 Simpson Street\, Thunder Bay\, Ontario\, P7C 3J6\, Canada
CATEGORIES:Thunder Bay
ORGANIZER;CN="Nicole Fieduna":MAILTO:nfieduna@norwestchc.org
END:VEVENT
BEGIN:VEVENT
DTSTART;TZID=America/Halifax:20250415T130000
DTEND;TZID=America/Halifax:20250415T143000
DTSTAMP:20260425T223131
CREATED:20250225T202640Z
LAST-MODIFIED:20250424T201130Z
UID:10001107-1744722000-1744727400@norwestchc.org
SUMMARY:Digital Skills for Older Adults
DESCRIPTION:Unlock the digital world with our free “Digital Skills for Older Adults” program at NorWest Community Health Centres! Join us to learn essential computer skills\, internet safety\, and how to connect with loved ones online\, all in a friendly\, supportive environment tailored for older adults.
URL:https://norwestchc.org/event/digital-skills-for-older-adults-2-2-2/2025-04-15/
LOCATION:NorWest CHC\, 525 Simpson Street\, Thunder Bay\, Ontario\, P7C 3J6\, Canada
CATEGORIES:Thunder Bay
END:VEVENT
BEGIN:VEVENT
DTSTART;TZID=America/Halifax:20250415T173000
DTEND;TZID=America/Halifax:20250415T193000
DTSTAMP:20260425T223131
CREATED:20250121T134339Z
LAST-MODIFIED:20250121T134603Z
UID:10001051-1744738200-1744745400@norwestchc.org
SUMMARY:FASD Peer Support Group for Parents & Caregivers
DESCRIPTION:
URL:https://norwestchc.org/event/fasd-peer-support-group-for-parents-caregivers/2025-04-15/
LOCATION:NorWest CHC\, 525 Simpson Street\, Thunder Bay\, Ontario\, P7C 3J6\, Canada
CATEGORIES:Thunder Bay
ORGANIZER;CN="Maureen Parkes":MAILTO:mparkes@norwestchc.org
END:VEVENT
BEGIN:VEVENT
DTSTART;TZID=America/Halifax:20250419T100000
DTEND;TZID=America/Halifax:20250419T123000
DTSTAMP:20260425T223131
CREATED:20250304T141947Z
LAST-MODIFIED:20250304T141947Z
UID:10001091-1745056800-1745065800@norwestchc.org
SUMMARY:Chronic Disease Self-Management Program Workshop Series (SATURDAYS)
DESCRIPTION:
URL:https://norwestchc.org/event/chronic-disease-self-management-program-workshop-series-saturdays/2025-04-19/
LOCATION:https://norwestchc.org/event/chronic-disease-self-management-program-workshop-series-saturdays/2025-04-19/
CATEGORIES:Armstrong,Kakabeka,Longlac,Online,Thunder Bay
ATTACH;FMTTYPE=image/jpeg:https://norwestchc.org/wp-content/uploads/2025/03/CDSMP-Top.jpg
END:VEVENT
BEGIN:VEVENT
DTSTART;TZID=America/Halifax:20250421T173000
DTEND;TZID=America/Halifax:20250421T193000
DTSTAMP:20260425T223131
CREATED:20250324T031108Z
LAST-MODIFIED:20250324T031108Z
UID:10001129-1745256600-1745263800@norwestchc.org
SUMMARY:8-Week FASD Caregiver Program
DESCRIPTION:This program is specifically for parents\, caregivers\, partners\, siblings and friends
URL:https://norwestchc.org/event/8-week-fasd-caregiver-program/2025-04-21/
LOCATION:NorWest CHC\, 525 Simpson Street\, Thunder Bay\, Ontario\, P7C 3J6\, Canada
CATEGORIES:Thunder Bay
ORGANIZER;CN="Maureen Parkes":MAILTO:mparkes@norwestchc.org
END:VEVENT
BEGIN:VEVENT
DTSTART;TZID=America/Halifax:20250422T130000
DTEND;TZID=America/Halifax:20250422T140000
DTSTAMP:20260425T223131
CREATED:20250119T203602Z
LAST-MODIFIED:20250610T180239Z
UID:10001167-1745326800-1745330400@norwestchc.org
SUMMARY:N'Doo'owe Binesi Sharing Circle
DESCRIPTION:Please join us for traditional healing programming delivered by a Cultural Practitioner from Nanaandawe’ewin traditional healing team\, Indigenous Health
URL:https://norwestchc.org/event/ndooowe-binesi-sharing-circle/2025-04-22/
LOCATION:NorWest CHC\, 525 Simpson Street\, Thunder Bay\, Ontario\, P7C 3J6\, Canada
CATEGORIES:Thunder Bay
ORGANIZER;CN="Nicole Fieduna":MAILTO:nfieduna@norwestchc.org
END:VEVENT
BEGIN:VEVENT
DTSTART;TZID=America/Halifax:20250422T130000
DTEND;TZID=America/Halifax:20250422T143000
DTSTAMP:20260425T223131
CREATED:20250225T202640Z
LAST-MODIFIED:20250424T201130Z
UID:10001108-1745326800-1745332200@norwestchc.org
SUMMARY:Digital Skills for Older Adults
DESCRIPTION:Unlock the digital world with our free “Digital Skills for Older Adults” program at NorWest Community Health Centres! Join us to learn essential computer skills\, internet safety\, and how to connect with loved ones online\, all in a friendly\, supportive environment tailored for older adults.
URL:https://norwestchc.org/event/digital-skills-for-older-adults-2-2-2/2025-04-22/
LOCATION:NorWest CHC\, 525 Simpson Street\, Thunder Bay\, Ontario\, P7C 3J6\, Canada
CATEGORIES:Thunder Bay
END:VEVENT
BEGIN:VEVENT
DTSTART;TZID=America/Halifax:20250425T133000
DTEND;TZID=America/Halifax:20250425T153000
DTSTAMP:20260425T223131
CREATED:20241217T135727Z
LAST-MODIFIED:20250423T183044Z
UID:10000585-1745587800-1745595000@norwestchc.org
SUMMARY:Friday Flix
DESCRIPTION:
URL:https://norwestchc.org/event/friday-flix/
LOCATION:NorWest CHC\, 525 Simpson Street\, Thunder Bay\, Ontario\, P7C 3J6\, Canada
CATEGORIES:Thunder Bay
ORGANIZER;CN="Elaine Chen":MAILTO:echen@norwestchc.org
END:VEVENT
BEGIN:VEVENT
DTSTART;TZID=America/Halifax:20250426T100000
DTEND;TZID=America/Halifax:20250426T123000
DTSTAMP:20260425T223131
CREATED:20250304T141947Z
LAST-MODIFIED:20250304T141947Z
UID:10001092-1745661600-1745670600@norwestchc.org
SUMMARY:Chronic Disease Self-Management Program Workshop Series (SATURDAYS)
DESCRIPTION:
URL:https://norwestchc.org/event/chronic-disease-self-management-program-workshop-series-saturdays/2025-04-26/
LOCATION:https://norwestchc.org/event/chronic-disease-self-management-program-workshop-series-saturdays/2025-04-26/
CATEGORIES:Armstrong,Kakabeka,Longlac,Online,Thunder Bay
ATTACH;FMTTYPE=image/jpeg:https://norwestchc.org/wp-content/uploads/2025/03/CDSMP-Top.jpg
END:VEVENT
BEGIN:VEVENT
DTSTART;TZID=America/Halifax:20250428T173000
DTEND;TZID=America/Halifax:20250428T193000
DTSTAMP:20260425T223131
CREATED:20250324T031108Z
LAST-MODIFIED:20250324T031108Z
UID:10001130-1745861400-1745868600@norwestchc.org
SUMMARY:8-Week FASD Caregiver Program
DESCRIPTION:This program is specifically for parents\, caregivers\, partners\, siblings and friends
URL:https://norwestchc.org/event/8-week-fasd-caregiver-program/2025-04-28/
LOCATION:NorWest CHC\, 525 Simpson Street\, Thunder Bay\, Ontario\, P7C 3J6\, Canada
CATEGORIES:Thunder Bay
ORGANIZER;CN="Maureen Parkes":MAILTO:mparkes@norwestchc.org
END:VEVENT
BEGIN:VEVENT
DTSTART;TZID=America/Halifax:20250429T130000
DTEND;TZID=America/Halifax:20250429T140000
DTSTAMP:20260425T223131
CREATED:20250119T203602Z
LAST-MODIFIED:20250610T180239Z
UID:10001168-1745931600-1745935200@norwestchc.org
SUMMARY:N'Doo'owe Binesi Sharing Circle
DESCRIPTION:Please join us for traditional healing programming delivered by a Cultural Practitioner from Nanaandawe’ewin traditional healing team\, Indigenous Health
URL:https://norwestchc.org/event/ndooowe-binesi-sharing-circle/2025-04-29/
LOCATION:NorWest CHC\, 525 Simpson Street\, Thunder Bay\, Ontario\, P7C 3J6\, Canada
CATEGORIES:Thunder Bay
ORGANIZER;CN="Nicole Fieduna":MAILTO:nfieduna@norwestchc.org
END:VEVENT
BEGIN:VEVENT
DTSTART;TZID=America/Halifax:20250429T130000
DTEND;TZID=America/Halifax:20250429T143000
DTSTAMP:20260425T223131
CREATED:20250225T202640Z
LAST-MODIFIED:20250424T201130Z
UID:10001109-1745931600-1745937000@norwestchc.org
SUMMARY:Digital Skills for Older Adults
DESCRIPTION:Unlock the digital world with our free “Digital Skills for Older Adults” program at NorWest Community Health Centres! Join us to learn essential computer skills\, internet safety\, and how to connect with loved ones online\, all in a friendly\, supportive environment tailored for older adults.
URL:https://norwestchc.org/event/digital-skills-for-older-adults-2-2-2/2025-04-29/
LOCATION:NorWest CHC\, 525 Simpson Street\, Thunder Bay\, Ontario\, P7C 3J6\, Canada
CATEGORIES:Thunder Bay
END:VEVENT
BEGIN:VEVENT
DTSTART;TZID=America/Halifax:20250505T173000
DTEND;TZID=America/Halifax:20250505T193000
DTSTAMP:20260425T223131
CREATED:20250324T031108Z
LAST-MODIFIED:20250324T031108Z
UID:10001131-1746466200-1746473400@norwestchc.org
SUMMARY:8-Week FASD Caregiver Program
DESCRIPTION:This program is specifically for parents\, caregivers\, partners\, siblings and friends
URL:https://norwestchc.org/event/8-week-fasd-caregiver-program/2025-05-05/
LOCATION:NorWest CHC\, 525 Simpson Street\, Thunder Bay\, Ontario\, P7C 3J6\, Canada
CATEGORIES:Thunder Bay
ORGANIZER;CN="Maureen Parkes":MAILTO:mparkes@norwestchc.org
END:VEVENT
END:VCALENDAR