BEGIN:VCALENDAR
VERSION:2.0
PRODID:-//NorWest Community Health Centres - ECPv6.15.18//NONSGML v1.0//EN
CALSCALE:GREGORIAN
METHOD:PUBLISH
X-ORIGINAL-URL:https://norwestchc.org
X-WR-CALDESC:Events for NorWest Community Health Centres
REFRESH-INTERVAL;VALUE=DURATION:PT1H
X-Robots-Tag:noindex
X-PUBLISHED-TTL:PT1H
BEGIN:VTIMEZONE
TZID:America/Halifax
BEGIN:DAYLIGHT
TZOFFSETFROM:-0400
TZOFFSETTO:-0300
TZNAME:ADT
DTSTART:20240310T060000
END:DAYLIGHT
BEGIN:STANDARD
TZOFFSETFROM:-0300
TZOFFSETTO:-0400
TZNAME:AST
DTSTART:20241103T050000
END:STANDARD
BEGIN:DAYLIGHT
TZOFFSETFROM:-0400
TZOFFSETTO:-0300
TZNAME:ADT
DTSTART:20250309T060000
END:DAYLIGHT
BEGIN:STANDARD
TZOFFSETFROM:-0300
TZOFFSETTO:-0400
TZNAME:AST
DTSTART:20251102T050000
END:STANDARD
BEGIN:DAYLIGHT
TZOFFSETFROM:-0400
TZOFFSETTO:-0300
TZNAME:ADT
DTSTART:20260308T060000
END:DAYLIGHT
BEGIN:STANDARD
TZOFFSETFROM:-0300
TZOFFSETTO:-0400
TZNAME:AST
DTSTART:20261101T050000
END:STANDARD
BEGIN:DAYLIGHT
TZOFFSETFROM:-0400
TZOFFSETTO:-0300
TZNAME:ADT
DTSTART:20270314T060000
END:DAYLIGHT
BEGIN:STANDARD
TZOFFSETFROM:-0300
TZOFFSETTO:-0400
TZNAME:AST
DTSTART:20271107T050000
END:STANDARD
END:VTIMEZONE
BEGIN:VEVENT
DTSTART;VALUE=DATE:20251119
DTEND;VALUE=DATE:20251120
DTSTAMP:20260425T102920
CREATED:20250603T143901Z
LAST-MODIFIED:20251030T195631Z
UID:10001713-1763510400-1763596799@norwestchc.org
SUMMARY:Good Food Box
DESCRIPTION:Pick-up on November 19th\nContact Debbie – 807-626-7861
URL:https://norwestchc.org/event/good-food-box-pickup/
LOCATION:NorWest CHC\, 525 Simpson Street\, Thunder Bay\, Ontario\, P7C 3J6\, Canada
CATEGORIES:Thunder Bay
ORGANIZER;CN="Debbie Ward":MAILTO:dward@norwestchc.org
END:VEVENT
BEGIN:VEVENT
DTSTART;TZID=America/Halifax:20251119T133000
DTEND;TZID=America/Halifax:20251119T160000
DTSTAMP:20260425T102920
CREATED:20250820T180008Z
LAST-MODIFIED:20251230T193449Z
UID:10002513-1763559000-1763568000@norwestchc.org
SUMMARY:Expressive Arts
DESCRIPTION:Explore creativity and enhance your well-being in a supportive environment. Drop-in art program. No registration required.
URL:https://norwestchc.org/event/expressive-arts-2-2/2025-11-19/
LOCATION:NorWest CHC\, 525 Simpson Street\, Thunder Bay\, Ontario\, P7C 3J6\, Canada
CATEGORIES:Thunder Bay
ORGANIZER;CN="Nicole Taylor":MAILTO:ntaylor@norwestchc.org
END:VEVENT
BEGIN:VEVENT
DTSTART;TZID=America/Halifax:20251121T103000
DTEND;TZID=America/Halifax:20251121T130000
DTSTAMP:20260425T102920
CREATED:20250904T134342Z
LAST-MODIFIED:20250904T134342Z
UID:10002605-1763721000-1763730000@norwestchc.org
SUMMARY:Diabetes Self-Management Program Workshop Series (Virtual)
DESCRIPTION:The DSMP is designed to empower individuals with diabetes by providing essential skills\, knowledge\, and support for effective self-management. \nPLEASE NOTE THIS WORKSHOP SERIES IS BEING HELD VIRTUALLY. \nWorkshop Objectives \n\nEmpower participants with tools for diabetes management.\nEnhance knowledge about diabetes and healthy living.\nFoster a supportive community through peer interaction.\n\nKey Components \nInteractive Sessions covering: \n\nUnderstanding diabetes and its management.\nNutrition and meal planning.\nPhysical activity and stress management.\nMonitoring blood sugar and medication management.\nPeer Support: Connect with fellow participants for shared experiences.\n\nTarget Audience: Adults with Type 1 or Type 2 diabetes\, caregivers\, and family members. Benefits Improved self-management and health outcomes. Increased confidence in managing diabetes. Ongoing support network. \nDuration & Schedule Length: 6 weeks\, 2.5 hours per session.
URL:https://norwestchc.org/event/diabetes-self-management-program-workshop-series-virtual-3/2025-11-21/
LOCATION:Ontario
CATEGORIES:Armstrong,Kakabeka,Longlac,Online,Thunder Bay
END:VEVENT
BEGIN:VEVENT
DTSTART;TZID=America/Halifax:20251124T130000
DTEND;TZID=America/Halifax:20251124T143000
DTSTAMP:20260425T102920
CREATED:20251118T152343Z
LAST-MODIFIED:20251118T152343Z
UID:10004028-1763989200-1763994600@norwestchc.org
SUMMARY:Digital Skills for Older Adults (November 2025)
DESCRIPTION:Our friendly technology classes are the perfect way to gain the confidence to connect with loved ones and manage daily tasks online with ease. We cover everything from mastering your smartphone and ensuring your internet safety to exploring social media\, all in a patient\, supportive environment. Join us to ask questions and discover how you can make technology a helpful\, enjoyable part of your life.
URL:https://norwestchc.org/event/digital-skills-for-older-adults-november-2025-2/2025-11-24/
LOCATION:NorWest CHC\, 525 Simpson Street\, Thunder Bay\, Ontario\, P7C 3J6\, Canada
CATEGORIES:Thunder Bay
END:VEVENT
BEGIN:VEVENT
DTSTART;TZID=America/Halifax:20251125T130000
DTEND;TZID=America/Halifax:20251125T140000
DTSTAMP:20260425T102920
CREATED:20250610T180252Z
LAST-MODIFIED:20251201T135820Z
UID:10002057-1764075600-1764079200@norwestchc.org
SUMMARY:N'doo'owe Binesi Sharing Circle
DESCRIPTION:Please join us for traditional healing programming delivered by a Cultural Practitioner from Nanaandawe’ewin traditional healing team\, Indigenous Health
URL:https://norwestchc.org/event/ndooowe-binesi-sharing-circle-2/2025-11-25/
LOCATION:NorWest CHC\, 525 Simpson Street\, Thunder Bay\, Ontario\, P7C 3J6\, Canada
CATEGORIES:Thunder Bay
ORGANIZER;CN="Nicole Taylor":MAILTO:ntaylor@norwestchc.org
END:VEVENT
BEGIN:VEVENT
DTSTART;TZID=America/Halifax:20251126T133000
DTEND;TZID=America/Halifax:20251126T160000
DTSTAMP:20260425T102920
CREATED:20250820T180008Z
LAST-MODIFIED:20251230T193449Z
UID:10002514-1764163800-1764172800@norwestchc.org
SUMMARY:Expressive Arts
DESCRIPTION:Explore creativity and enhance your well-being in a supportive environment. Drop-in art program. No registration required.
URL:https://norwestchc.org/event/expressive-arts-2-2/2025-11-26/
LOCATION:NorWest CHC\, 525 Simpson Street\, Thunder Bay\, Ontario\, P7C 3J6\, Canada
CATEGORIES:Thunder Bay
ORGANIZER;CN="Nicole Taylor":MAILTO:ntaylor@norwestchc.org
END:VEVENT
BEGIN:VEVENT
DTSTART;TZID=America/Halifax:20251126T150000
DTEND;TZID=America/Halifax:20251126T161500
DTSTAMP:20260425T102920
CREATED:20250904T132944Z
LAST-MODIFIED:20250904T175756Z
UID:10003164-1764169200-1764173700@norwestchc.org
SUMMARY:Getting the Most from your Healthcare Appointment Workshop (Virtual)
DESCRIPTION:This 1 – 1.5 hour\, interactive workshop\, focuses on what to do before\, during and after a healthcare appointment and uses action planning to optimize people’s health. A variety of learning resources are used including information sharing\, videos\, tools and a resource manual that supports the individual with integrating the skills into their next appointment. This workshop prepares and empowers individuals to communicate more effectively with their health care provider. Ultimately\, patients are the most important members of their healthcare team. \nChoose one:  \nSept 22\, 11:45AM – 1:00PM EST – https://us02web.zoom.us/meeting/register/vWjp-m-eTfy8DAcle3xp8Q \nOct 22\, 5:30PM – 6:45PM EST – https://us02web.zoom.us/meeting/register/S1XxKg4JSdWnOvIsXJ4NAw \nNov 26\, 3:00PM – 4:15PM EST – https://us02web.zoom.us/meeting/register/MMHd4lQMRfG1LEX0TnwHEw
URL:https://norwestchc.org/event/getting-the-most-from-your-healthcare-appointment-workshop-virtual/2025-11-26/
LOCATION:Ontario
CATEGORIES:Armstrong,Kakabeka,Longlac,Online,Thunder Bay
END:VEVENT
BEGIN:VEVENT
DTSTART;TZID=America/Halifax:20251128T103000
DTEND;TZID=America/Halifax:20251128T130000
DTSTAMP:20260425T102920
CREATED:20250904T134342Z
LAST-MODIFIED:20250904T134342Z
UID:10002606-1764325800-1764334800@norwestchc.org
SUMMARY:Diabetes Self-Management Program Workshop Series (Virtual)
DESCRIPTION:The DSMP is designed to empower individuals with diabetes by providing essential skills\, knowledge\, and support for effective self-management. \nPLEASE NOTE THIS WORKSHOP SERIES IS BEING HELD VIRTUALLY. \nWorkshop Objectives \n\nEmpower participants with tools for diabetes management.\nEnhance knowledge about diabetes and healthy living.\nFoster a supportive community through peer interaction.\n\nKey Components \nInteractive Sessions covering: \n\nUnderstanding diabetes and its management.\nNutrition and meal planning.\nPhysical activity and stress management.\nMonitoring blood sugar and medication management.\nPeer Support: Connect with fellow participants for shared experiences.\n\nTarget Audience: Adults with Type 1 or Type 2 diabetes\, caregivers\, and family members. Benefits Improved self-management and health outcomes. Increased confidence in managing diabetes. Ongoing support network. \nDuration & Schedule Length: 6 weeks\, 2.5 hours per session.
URL:https://norwestchc.org/event/diabetes-self-management-program-workshop-series-virtual-3/2025-11-28/
LOCATION:Ontario
CATEGORIES:Armstrong,Kakabeka,Longlac,Online,Thunder Bay
END:VEVENT
BEGIN:VEVENT
DTSTART;TZID=America/Halifax:20251128T130000
DTEND;TZID=America/Halifax:20251128T143000
DTSTAMP:20260425T102920
CREATED:20251022T175321Z
LAST-MODIFIED:20251029T150917Z
UID:10003962-1764334800-1764340200@norwestchc.org
SUMMARY:Healthy Caregiving
DESCRIPTION:Caregivers play a vital role in supporting the well-being and independence of those in need. While caregiving can be deeply rewarding\, it also comes with challenges that can impact mental and emotional health. Taking care of yourself is just as important as caring for others. \nThis course provides practical lessons and interactive activities to help you maintain your well-being while supporting someone else. \nBy taking this course\, you will: \n\nGain a deeper understanding of the role of a caregiver\nExplore the importance of mental health in caregiving\nLearn effective strategies to care for your own mental and emotional well-being
URL:https://norwestchc.org/event/healthy-caregiving/2025-11-28/
LOCATION:Ontario
CATEGORIES:Armstrong,Kakabeka,Longlac,Online,Thunder Bay
ATTACH;FMTTYPE=image/jpeg:https://norwestchc.org/wp-content/uploads/2025/10/Caregiving.jpg
END:VEVENT
BEGIN:VEVENT
DTSTART;TZID=America/Halifax:20251130T150000
DTEND;TZID=America/Halifax:20251130T163000
DTSTAMP:20260425T102920
CREATED:20251022T180128Z
LAST-MODIFIED:20251029T152418Z
UID:10003970-1764514800-1764520200@norwestchc.org
SUMMARY:Organizing Care
DESCRIPTION:Managing health care—whether for yourself or someone else—can feel overwhelming. Keeping track of appointments\, medications\, and important information can be challenging\, but staying organized can help you feel more in control and reduce stress. \nThis interactive workshop will provide practical tools and strategies to help you manage health care more effectively. \nIn this session\, you will: \n\nIdentify your care team and understand the different roles they play\nLearn how to prepare for medical appointments to make the most of your time\nExplore strategies to stay organized after appointments\nConsider how digital tools can support your health care management\n\nLight snacks and refreshments will be served! \nNOTE: November 30 is VIRTUAL ONLY
URL:https://norwestchc.org/event/organizing-care/2025-11-30/
LOCATION:NorWest CHC\, 525 Simpson Street\, Thunder Bay\, Ontario\, P7C 3J6\, Canada
CATEGORIES:Armstrong,Kakabeka,Longlac,Online,Thunder Bay
ATTACH;FMTTYPE=image/jpeg:https://norwestchc.org/wp-content/uploads/2025/10/organizing-care.jpg
END:VEVENT
BEGIN:VEVENT
DTSTART;TZID=America/Halifax:20251201T130000
DTEND;TZID=America/Halifax:20251201T143000
DTSTAMP:20260425T102920
CREATED:20251118T152343Z
LAST-MODIFIED:20251118T152343Z
UID:10004025-1764594000-1764599400@norwestchc.org
SUMMARY:Digital Skills for Older Adults (November 2025)
DESCRIPTION:Our friendly technology classes are the perfect way to gain the confidence to connect with loved ones and manage daily tasks online with ease. We cover everything from mastering your smartphone and ensuring your internet safety to exploring social media\, all in a patient\, supportive environment. Join us to ask questions and discover how you can make technology a helpful\, enjoyable part of your life.
URL:https://norwestchc.org/event/digital-skills-for-older-adults-november-2025-2/2025-12-01/
LOCATION:NorWest CHC\, 525 Simpson Street\, Thunder Bay\, Ontario\, P7C 3J6\, Canada
CATEGORIES:Thunder Bay
END:VEVENT
BEGIN:VEVENT
DTSTART;TZID=America/Halifax:20251202T130000
DTEND;TZID=America/Halifax:20251202T140000
DTSTAMP:20260425T102920
CREATED:20250610T180252Z
LAST-MODIFIED:20251201T135820Z
UID:10002058-1764680400-1764684000@norwestchc.org
SUMMARY:N'doo'owe Binesi Sharing Circle
DESCRIPTION:Please join us for traditional healing programming delivered by a Cultural Practitioner from Nanaandawe’ewin traditional healing team\, Indigenous Health
URL:https://norwestchc.org/event/ndooowe-binesi-sharing-circle-2/2025-12-02/
LOCATION:NorWest CHC\, 525 Simpson Street\, Thunder Bay\, Ontario\, P7C 3J6\, Canada
CATEGORIES:Thunder Bay
ORGANIZER;CN="Nicole Taylor":MAILTO:ntaylor@norwestchc.org
END:VEVENT
BEGIN:VEVENT
DTSTART;TZID=America/Halifax:20251203T133000
DTEND;TZID=America/Halifax:20251203T160000
DTSTAMP:20260425T102920
CREATED:20250820T180008Z
LAST-MODIFIED:20251230T193449Z
UID:10002515-1764768600-1764777600@norwestchc.org
SUMMARY:Expressive Arts
DESCRIPTION:Explore creativity and enhance your well-being in a supportive environment. Drop-in art program. No registration required.
URL:https://norwestchc.org/event/expressive-arts-2-2/2025-12-03/
LOCATION:NorWest CHC\, 525 Simpson Street\, Thunder Bay\, Ontario\, P7C 3J6\, Canada
CATEGORIES:Thunder Bay
ORGANIZER;CN="Nicole Taylor":MAILTO:ntaylor@norwestchc.org
END:VEVENT
BEGIN:VEVENT
DTSTART;TZID=America/Halifax:20251204T113000
DTEND;TZID=America/Halifax:20251204T130000
DTSTAMP:20260425T102920
CREATED:20251201T140444Z
LAST-MODIFIED:20251201T140444Z
UID:10004107-1764847800-1764853200@norwestchc.org
SUMMARY:Community Holiday Lunch
DESCRIPTION:Clients and staff can come and enjoy a comforting meal while connecting with others in the community. Everyone is welcome!
URL:https://norwestchc.org/event/community-holiday-lunch/
LOCATION:NorWest CHC\, 525 Simpson Street\, Thunder Bay\, Ontario\, P7C 3J6\, Canada
CATEGORIES:Thunder Bay
END:VEVENT
BEGIN:VEVENT
DTSTART;TZID=America/Halifax:20251204T133000
DTEND;TZID=America/Halifax:20251204T153000
DTSTAMP:20260425T102920
CREATED:20250409T130027Z
LAST-MODIFIED:20251201T140937Z
UID:10004108-1764855000-1764862200@norwestchc.org
SUMMARY:Prenatal Classes
DESCRIPTION:Part 1: Birth Preparation Class \nPart 2: Postnatal Care & Infant Feeding Class \nRSVP to Chantal Dubé at cdube@norwestchc.org
URL:https://norwestchc.org/event/prenatal-classes/2025-12-04/
LOCATION:NorWest CHC\, 525 Simpson Street\, Thunder Bay\, Ontario\, P7C 3J6\, Canada
CATEGORIES:Thunder Bay
END:VEVENT
BEGIN:VEVENT
DTSTART;TZID=America/Halifax:20251205T103000
DTEND;TZID=America/Halifax:20251205T120000
DTSTAMP:20260425T102920
CREATED:20251022T175321Z
LAST-MODIFIED:20251029T150917Z
UID:10003963-1764930600-1764936000@norwestchc.org
SUMMARY:Healthy Caregiving
DESCRIPTION:Caregivers play a vital role in supporting the well-being and independence of those in need. While caregiving can be deeply rewarding\, it also comes with challenges that can impact mental and emotional health. Taking care of yourself is just as important as caring for others. \nThis course provides practical lessons and interactive activities to help you maintain your well-being while supporting someone else. \nBy taking this course\, you will: \n\nGain a deeper understanding of the role of a caregiver\nExplore the importance of mental health in caregiving\nLearn effective strategies to care for your own mental and emotional well-being
URL:https://norwestchc.org/event/healthy-caregiving/2025-12-05/
LOCATION:Ontario
CATEGORIES:Armstrong,Kakabeka,Longlac,Online,Thunder Bay
ATTACH;FMTTYPE=image/jpeg:https://norwestchc.org/wp-content/uploads/2025/10/Caregiving.jpg
END:VEVENT
BEGIN:VEVENT
DTSTART;TZID=America/Halifax:20251209T130000
DTEND;TZID=America/Halifax:20251209T140000
DTSTAMP:20260425T102920
CREATED:20250610T180252Z
LAST-MODIFIED:20251201T135820Z
UID:10002059-1765285200-1765288800@norwestchc.org
SUMMARY:N'doo'owe Binesi Sharing Circle
DESCRIPTION:Please join us for traditional healing programming delivered by a Cultural Practitioner from Nanaandawe’ewin traditional healing team\, Indigenous Health
URL:https://norwestchc.org/event/ndooowe-binesi-sharing-circle-2/2025-12-09/
LOCATION:NorWest CHC\, 525 Simpson Street\, Thunder Bay\, Ontario\, P7C 3J6\, Canada
CATEGORIES:Thunder Bay
ORGANIZER;CN="Nicole Taylor":MAILTO:ntaylor@norwestchc.org
END:VEVENT
BEGIN:VEVENT
DTSTART;TZID=America/Halifax:20251209T140000
DTEND;TZID=America/Halifax:20251209T160000
DTSTAMP:20260425T102920
CREATED:20251201T142514Z
LAST-MODIFIED:20251201T142514Z
UID:10004110-1765288800-1765296000@norwestchc.org
SUMMARY:Knitting Circle - Part 1
DESCRIPTION:All levels of knitting are welcome!
URL:https://norwestchc.org/event/knitting-circle-part-1/
LOCATION:NorWest CHC\, 525 Simpson Street\, Thunder Bay\, Ontario\, P7C 3J6\, Canada
CATEGORIES:Thunder Bay
ORGANIZER;CN="Nicole Taylor":MAILTO:ntaylor@norwestchc.org
END:VEVENT
BEGIN:VEVENT
DTSTART;TZID=America/Halifax:20251210T133000
DTEND;TZID=America/Halifax:20251210T160000
DTSTAMP:20260425T102920
CREATED:20250820T180008Z
LAST-MODIFIED:20251230T193449Z
UID:10002516-1765373400-1765382400@norwestchc.org
SUMMARY:Expressive Arts
DESCRIPTION:Explore creativity and enhance your well-being in a supportive environment. Drop-in art program. No registration required.
URL:https://norwestchc.org/event/expressive-arts-2-2/2025-12-10/
LOCATION:NorWest CHC\, 525 Simpson Street\, Thunder Bay\, Ontario\, P7C 3J6\, Canada
CATEGORIES:Thunder Bay
ORGANIZER;CN="Nicole Taylor":MAILTO:ntaylor@norwestchc.org
END:VEVENT
BEGIN:VEVENT
DTSTART;TZID=America/Halifax:20251211T133000
DTEND;TZID=America/Halifax:20251211T153000
DTSTAMP:20260425T102920
CREATED:20250409T130027Z
LAST-MODIFIED:20251201T140937Z
UID:10004109-1765459800-1765467000@norwestchc.org
SUMMARY:Prenatal Classes
DESCRIPTION:Part 1: Birth Preparation Class \nPart 2: Postnatal Care & Infant Feeding Class \nRSVP to Chantal Dubé at cdube@norwestchc.org
URL:https://norwestchc.org/event/prenatal-classes/2025-12-11/
LOCATION:NorWest CHC\, 525 Simpson Street\, Thunder Bay\, Ontario\, P7C 3J6\, Canada
CATEGORIES:Thunder Bay
END:VEVENT
BEGIN:VEVENT
DTSTART;TZID=America/Halifax:20251212T130000
DTEND;TZID=America/Halifax:20251212T143000
DTSTAMP:20260425T102920
CREATED:20251022T175736Z
LAST-MODIFIED:20251029T151931Z
UID:10003964-1765544400-1765549800@norwestchc.org
SUMMARY:Managing Stress with a Chronic or Rare Disease
DESCRIPTION:This workshop is designed for people living with chronic or rare diseases. Living with an illness can be stressful. Experiencing stress is a normal part of everyday life\, but people living with a chronic or rare disease often experience more stress than they would in everyday life. One step towards building health literacy is understanding how you experience stress and learning some ways to manage it \nIn this workshop\, you will: \n\nLearn what stress is and what it feels like\nExplore how stress is related to chronic or rare diseases\nLearn strategies for coping with stress\n\nLight snacks and refreshments will be served! \nNOTE: November 23 is VIRTUAL ONLY.
URL:https://norwestchc.org/event/managing-stress-with-a-chronic-or-rare-disease/2025-12-12/
LOCATION:NorWest CHC\, 525 Simpson Street\, Thunder Bay\, Ontario\, P7C 3J6\, Canada
CATEGORIES:Armstrong,Kakabeka,Longlac,Online,Thunder Bay
ATTACH;FMTTYPE=image/jpeg:https://norwestchc.org/wp-content/uploads/2025/10/Managing-Stress-scaled.jpg
END:VEVENT
BEGIN:VEVENT
DTSTART;TZID=America/Halifax:20251215T130000
DTEND;TZID=America/Halifax:20251215T150000
DTSTAMP:20260425T102920
CREATED:20250811T185840Z
LAST-MODIFIED:20251118T153029Z
UID:10004029-1765803600-1765810800@norwestchc.org
SUMMARY:Cooking Connections
DESCRIPTION:Join our engaging cooking sessions designed for older adults (50+)\, where you can learn delicious recipes\, share stories\, and enjoy healthy\, tasty meals with friends. \nThis is the 2nd of three sessions. Please contact Kevin to register for this session.
URL:https://norwestchc.org/event/cooking-connections/2025-12-15/
LOCATION:Roots Community Food Centre\, 450 Fort William Rd\, Thunder Bay\, Ontario\, P7B 2Z6\, Canada
CATEGORIES:Thunder Bay
END:VEVENT
BEGIN:VEVENT
DTSTART;TZID=America/Halifax:20251216T130000
DTEND;TZID=America/Halifax:20251216T140000
DTSTAMP:20260425T102920
CREATED:20250610T180252Z
LAST-MODIFIED:20251201T135820Z
UID:10002060-1765890000-1765893600@norwestchc.org
SUMMARY:N'doo'owe Binesi Sharing Circle
DESCRIPTION:Please join us for traditional healing programming delivered by a Cultural Practitioner from Nanaandawe’ewin traditional healing team\, Indigenous Health
URL:https://norwestchc.org/event/ndooowe-binesi-sharing-circle-2/2025-12-16/
LOCATION:NorWest CHC\, 525 Simpson Street\, Thunder Bay\, Ontario\, P7C 3J6\, Canada
CATEGORIES:Thunder Bay
ORGANIZER;CN="Nicole Taylor":MAILTO:ntaylor@norwestchc.org
END:VEVENT
BEGIN:VEVENT
DTSTART;TZID=America/Halifax:20251217T133000
DTEND;TZID=America/Halifax:20251217T160000
DTSTAMP:20260425T102920
CREATED:20250820T180008Z
LAST-MODIFIED:20251230T193449Z
UID:10002517-1765978200-1765987200@norwestchc.org
SUMMARY:Expressive Arts
DESCRIPTION:Explore creativity and enhance your well-being in a supportive environment. Drop-in art program. No registration required.
URL:https://norwestchc.org/event/expressive-arts-2-2/2025-12-17/
LOCATION:NorWest CHC\, 525 Simpson Street\, Thunder Bay\, Ontario\, P7C 3J6\, Canada
CATEGORIES:Thunder Bay
ORGANIZER;CN="Nicole Taylor":MAILTO:ntaylor@norwestchc.org
END:VEVENT
BEGIN:VEVENT
DTSTART;TZID=America/Halifax:20251219T103000
DTEND;TZID=America/Halifax:20251219T120000
DTSTAMP:20260425T102920
CREATED:20251022T180128Z
LAST-MODIFIED:20251029T152418Z
UID:10003968-1766140200-1766145600@norwestchc.org
SUMMARY:Organizing Care
DESCRIPTION:Managing health care—whether for yourself or someone else—can feel overwhelming. Keeping track of appointments\, medications\, and important information can be challenging\, but staying organized can help you feel more in control and reduce stress. \nThis interactive workshop will provide practical tools and strategies to help you manage health care more effectively. \nIn this session\, you will: \n\nIdentify your care team and understand the different roles they play\nLearn how to prepare for medical appointments to make the most of your time\nExplore strategies to stay organized after appointments\nConsider how digital tools can support your health care management\n\nLight snacks and refreshments will be served! \nNOTE: November 30 is VIRTUAL ONLY
URL:https://norwestchc.org/event/organizing-care/2025-12-19/
LOCATION:NorWest CHC\, 525 Simpson Street\, Thunder Bay\, Ontario\, P7C 3J6\, Canada
CATEGORIES:Armstrong,Kakabeka,Longlac,Online,Thunder Bay
ATTACH;FMTTYPE=image/jpeg:https://norwestchc.org/wp-content/uploads/2025/10/organizing-care.jpg
END:VEVENT
BEGIN:VEVENT
DTSTART;TZID=America/Halifax:20251219T133000
DTEND;TZID=America/Halifax:20251219T163000
DTSTAMP:20260425T102920
CREATED:20251201T143207Z
LAST-MODIFIED:20251201T143207Z
UID:10004113-1766151000-1766161800@norwestchc.org
SUMMARY:Holiday Movie Afternoon
DESCRIPTION:Starts at 1:30pm in the Talbot Room.
URL:https://norwestchc.org/event/holiday-movie-afternoon/
LOCATION:NorWest CHC\, 525 Simpson Street\, Thunder Bay\, Ontario\, P7C 3J6\, Canada
CATEGORIES:Thunder Bay
ORGANIZER;CN="Nicole Taylor":MAILTO:ntaylor@norwestchc.org
END:VEVENT
BEGIN:VEVENT
DTSTART;TZID=America/Halifax:20260106T130000
DTEND;TZID=America/Halifax:20260106T140000
DTSTAMP:20260425T102920
CREATED:20250610T180252Z
LAST-MODIFIED:20251201T135820Z
UID:10002063-1767704400-1767708000@norwestchc.org
SUMMARY:N'doo'owe Binesi Sharing Circle
DESCRIPTION:Please join us for traditional healing programming delivered by a Cultural Practitioner from Nanaandawe’ewin traditional healing team\, Indigenous Health
URL:https://norwestchc.org/event/ndooowe-binesi-sharing-circle-2/2026-01-06/
LOCATION:NorWest CHC\, 525 Simpson Street\, Thunder Bay\, Ontario\, P7C 3J6\, Canada
CATEGORIES:Thunder Bay
ORGANIZER;CN="Nicole Taylor":MAILTO:ntaylor@norwestchc.org
END:VEVENT
BEGIN:VEVENT
DTSTART;TZID=America/Halifax:20260109T110000
DTEND;TZID=America/Halifax:20260109T123000
DTSTAMP:20260425T102920
CREATED:20251030T200628Z
LAST-MODIFIED:20251230T194009Z
UID:10004016-1767956400-1767961800@norwestchc.org
SUMMARY:Roots to Harvest Seniors Lunch
DESCRIPTION:Registration required for transportation only. Contact Nicole at 807-622-8235 x2349
URL:https://norwestchc.org/event/roots-to-harvest-seniors-lunch/
LOCATION:Roots Community Food Centre\, 450 Fort William Rd\, Thunder Bay\, Ontario\, P7B 2Z6\, Canada
CATEGORIES:Thunder Bay
ORGANIZER;CN="Nicole Taylor":MAILTO:ntaylor@norwestchc.org
END:VEVENT
BEGIN:VEVENT
DTSTART;TZID=America/Halifax:20260113T130000
DTEND;TZID=America/Halifax:20260113T140000
DTSTAMP:20260425T102920
CREATED:20250610T180252Z
LAST-MODIFIED:20251201T135820Z
UID:10002064-1768309200-1768312800@norwestchc.org
SUMMARY:N'doo'owe Binesi Sharing Circle
DESCRIPTION:Please join us for traditional healing programming delivered by a Cultural Practitioner from Nanaandawe’ewin traditional healing team\, Indigenous Health
URL:https://norwestchc.org/event/ndooowe-binesi-sharing-circle-2/2026-01-13/
LOCATION:NorWest CHC\, 525 Simpson Street\, Thunder Bay\, Ontario\, P7C 3J6\, Canada
CATEGORIES:Thunder Bay
ORGANIZER;CN="Nicole Taylor":MAILTO:ntaylor@norwestchc.org
END:VEVENT
BEGIN:VEVENT
DTSTART;TZID=America/Halifax:20260113T141500
DTEND;TZID=America/Halifax:20260113T160000
DTSTAMP:20260425T102920
CREATED:20251201T142702Z
LAST-MODIFIED:20251230T194322Z
UID:10004388-1768313700-1768320000@norwestchc.org
SUMMARY:Knitting Circle
DESCRIPTION:All levels of knitting are welcome!
URL:https://norwestchc.org/event/knitting-circle-part-2/2026-01-13/
LOCATION:NorWest CHC\, 525 Simpson Street\, Thunder Bay\, Ontario\, P7C 3J6\, Canada
CATEGORIES:Thunder Bay
ORGANIZER;CN="Nicole Taylor":MAILTO:ntaylor@norwestchc.org
END:VEVENT
END:VCALENDAR