BEGIN:VCALENDAR
VERSION:2.0
PRODID:-//NorWest Community Health Centres - ECPv6.15.18//NONSGML v1.0//EN
CALSCALE:GREGORIAN
METHOD:PUBLISH
X-ORIGINAL-URL:https://norwestchc.org
X-WR-CALDESC:Events for NorWest Community Health Centres
REFRESH-INTERVAL;VALUE=DURATION:PT1H
X-Robots-Tag:noindex
X-PUBLISHED-TTL:PT1H
BEGIN:VTIMEZONE
TZID:America/Halifax
BEGIN:DAYLIGHT
TZOFFSETFROM:-0400
TZOFFSETTO:-0300
TZNAME:ADT
DTSTART:20250309T060000
END:DAYLIGHT
BEGIN:STANDARD
TZOFFSETFROM:-0300
TZOFFSETTO:-0400
TZNAME:AST
DTSTART:20251102T050000
END:STANDARD
BEGIN:DAYLIGHT
TZOFFSETFROM:-0400
TZOFFSETTO:-0300
TZNAME:ADT
DTSTART:20260308T060000
END:DAYLIGHT
BEGIN:STANDARD
TZOFFSETFROM:-0300
TZOFFSETTO:-0400
TZNAME:AST
DTSTART:20261101T050000
END:STANDARD
BEGIN:DAYLIGHT
TZOFFSETFROM:-0400
TZOFFSETTO:-0300
TZNAME:ADT
DTSTART:20270314T060000
END:DAYLIGHT
BEGIN:STANDARD
TZOFFSETFROM:-0300
TZOFFSETTO:-0400
TZNAME:AST
DTSTART:20271107T050000
END:STANDARD
END:VTIMEZONE
BEGIN:VEVENT
DTSTART;TZID=America/Halifax:20260616T130000
DTEND;TZID=America/Halifax:20260616T140000
DTSTAMP:20260425T083025
CREATED:20250610T180252Z
LAST-MODIFIED:20251201T135820Z
UID:10002086-1781614800-1781618400@norwestchc.org
SUMMARY:N'doo'owe Binesi Sharing Circle
DESCRIPTION:Please join us for traditional healing programming delivered by a Cultural Practitioner from Nanaandawe’ewin traditional healing team\, Indigenous Health
URL:https://norwestchc.org/event/ndooowe-binesi-sharing-circle-2/2026-06-16/
LOCATION:NorWest CHC\, 525 Simpson Street\, Thunder Bay\, Ontario\, P7C 3J6\, Canada
CATEGORIES:Thunder Bay
ORGANIZER;CN="Nicole Taylor":MAILTO:ntaylor@norwestchc.org
END:VEVENT
BEGIN:VEVENT
DTSTART;TZID=America/Halifax:20260616T130000
DTEND;TZID=America/Halifax:20260616T143000
DTSTAMP:20260425T083025
CREATED:20260317T181137Z
LAST-MODIFIED:20260317T181137Z
UID:10004822-1781614800-1781620200@norwestchc.org
SUMMARY:Digital Skills for Older Adults (at TBPL)
DESCRIPTION:Technology changes fast\, but you do not have to figure it out alone. Join us at the Thunder Bay Public Library for a 10-session\, hands-on class designed to help you build digital confidence. Whether you want to safely manage your banking\, keep in touch with family\, or just figure out why your phone is running slow\, we are here to help. \nIn this relaxed\, step-by-step program\, you will learn how to: \n\n\nUse Your Device: Master the basics of your smartphone or tablet\, adjust settings for easier reading\, and organize your photos. \n\n\nStay Safe Online: Spot fake text messages\, avoid scams\, and protect your passwords. \n\n\nUse Daily Apps: Safely tap to pay\, navigate health portals\, and borrow free library books right on your device. \n\n\nExplore New Tech: Learn about helpful smart home setups and simple AI tools\, plus get a special hands-on chance to try the Meta Quest 3S Mixed Reality headset! \n\n\nWhen: Tuesdays\, 1:00 PM – 2:30 PM \n\n\nApril: 7\, 14\, 21 \n\n\nMay: 5\, 12\, 19\, 26 \n\n\nJune: 9\, 16\, 23 \n\n\nTechnology should work for you. By the end of this spring\, you will know how to use your devices safely\, easily\, and with complete peace of mind.
URL:https://norwestchc.org/event/digital-skills-for-older-adults-at-tbpl/2026-06-16/
LOCATION:Thunder Bay Public Library\, 901 Edward St S\, Thunder Bay\, Ontario\, P7E 6R2\, Canada
CATEGORIES:Thunder Bay
ATTACH;FMTTYPE=image/jpeg:https://norwestchc.org/wp-content/uploads/2026/03/DSOA_AprJune2026.jpg
END:VEVENT
BEGIN:VEVENT
DTSTART;TZID=America/Halifax:20260617T133000
DTEND;TZID=America/Halifax:20260617T160000
DTSTAMP:20260425T083025
CREATED:20250820T180008Z
LAST-MODIFIED:20251230T193449Z
UID:10002543-1781703000-1781712000@norwestchc.org
SUMMARY:Expressive Arts
DESCRIPTION:Explore creativity and enhance your well-being in a supportive environment. Drop-in art program. No registration required.
URL:https://norwestchc.org/event/expressive-arts-2-2/2026-06-17/
LOCATION:NorWest CHC\, 525 Simpson Street\, Thunder Bay\, Ontario\, P7C 3J6\, Canada
CATEGORIES:Thunder Bay
ORGANIZER;CN="Nicole Taylor":MAILTO:ntaylor@norwestchc.org
END:VEVENT
BEGIN:VEVENT
DTSTART;TZID=America/Halifax:20260618T170000
DTEND;TZID=America/Halifax:20260618T193000
DTSTAMP:20260425T083025
CREATED:20260318T195543Z
LAST-MODIFIED:20260318T201545Z
UID:10004834-1781802000-1781811000@norwestchc.org
SUMMARY:Cancer Thriving and Surviving Self-Management Program (TBPL)
DESCRIPTION:Navigating life during or after cancer treatment comes with unique physical and emotional challenges. Whether you are actively in treatment\, recently finished\, or supporting someone who is\, this free\, 6-week virtual workshop is designed to help you regain control and figure out your “new normal.” \nWhat to Expect: This is not a medical lecture. It is a highly interactive\, peer-led workshop where you will connect with others who truly understand the cancer journey. Over 6 weeks\, we will focus on practical\, daily skills to help you thrive: \n\n\nManaging Symptoms: Dealing with treatment side effects like fatigue\, pain\, and sleep issues. \n\n\nEmotional Wellbeing: Navigating difficult emotions\, stress\, and the fear of recurrence. \n\n\nCommunication: Getting the most out of your healthcare appointments and communicating your needs to family and friends. \n\n\nAction Planning: Setting small\, achievable weekly goals to safely rebuild your energy and regain your quality of life. \n\n\nThe Perks of Joining: Because this NorWest CHC program is fully funded\, it is 100% free to attend. Plus\, as a thank you for investing in your health\, you will receive: \n\n\nA free copy of the official reference workbook to keep. \n\n\nA $25 grocery gift card upon completing the 6-week series to help support your healthy habits! \n\n\nFamily members\, caregivers\, and support persons are highly encouraged to register and attend alongside you. \nSecure your spot by filling out the short registration form below. We look forward to seeing you in-person at Thunder Bay Public Library. 
URL:https://norwestchc.org/event/cancer-thriving-and-surviving-self-management-program-tbpl/2026-06-18/
LOCATION:Thunder Bay Public Library\, 901 Edward St S\, Thunder Bay\, Ontario\, P7E 6R2\, Canada
CATEGORIES:Thunder Bay
ATTACH;FMTTYPE=image/jpeg:https://norwestchc.org/wp-content/uploads/2026/03/CTS-TBPL-June-2026.jpg
END:VEVENT
BEGIN:VEVENT
DTSTART;TZID=America/Halifax:20260623T130000
DTEND;TZID=America/Halifax:20260623T140000
DTSTAMP:20260425T083025
CREATED:20250610T180252Z
LAST-MODIFIED:20251201T135820Z
UID:10002087-1782219600-1782223200@norwestchc.org
SUMMARY:N'doo'owe Binesi Sharing Circle
DESCRIPTION:Please join us for traditional healing programming delivered by a Cultural Practitioner from Nanaandawe’ewin traditional healing team\, Indigenous Health
URL:https://norwestchc.org/event/ndooowe-binesi-sharing-circle-2/2026-06-23/
LOCATION:NorWest CHC\, 525 Simpson Street\, Thunder Bay\, Ontario\, P7C 3J6\, Canada
CATEGORIES:Thunder Bay
ORGANIZER;CN="Nicole Taylor":MAILTO:ntaylor@norwestchc.org
END:VEVENT
BEGIN:VEVENT
DTSTART;TZID=America/Halifax:20260623T130000
DTEND;TZID=America/Halifax:20260623T143000
DTSTAMP:20260425T083025
CREATED:20260317T181137Z
LAST-MODIFIED:20260317T181137Z
UID:10004823-1782219600-1782225000@norwestchc.org
SUMMARY:Digital Skills for Older Adults (at TBPL)
DESCRIPTION:Technology changes fast\, but you do not have to figure it out alone. Join us at the Thunder Bay Public Library for a 10-session\, hands-on class designed to help you build digital confidence. Whether you want to safely manage your banking\, keep in touch with family\, or just figure out why your phone is running slow\, we are here to help. \nIn this relaxed\, step-by-step program\, you will learn how to: \n\n\nUse Your Device: Master the basics of your smartphone or tablet\, adjust settings for easier reading\, and organize your photos. \n\n\nStay Safe Online: Spot fake text messages\, avoid scams\, and protect your passwords. \n\n\nUse Daily Apps: Safely tap to pay\, navigate health portals\, and borrow free library books right on your device. \n\n\nExplore New Tech: Learn about helpful smart home setups and simple AI tools\, plus get a special hands-on chance to try the Meta Quest 3S Mixed Reality headset! \n\n\nWhen: Tuesdays\, 1:00 PM – 2:30 PM \n\n\nApril: 7\, 14\, 21 \n\n\nMay: 5\, 12\, 19\, 26 \n\n\nJune: 9\, 16\, 23 \n\n\nTechnology should work for you. By the end of this spring\, you will know how to use your devices safely\, easily\, and with complete peace of mind.
URL:https://norwestchc.org/event/digital-skills-for-older-adults-at-tbpl/2026-06-23/
LOCATION:Thunder Bay Public Library\, 901 Edward St S\, Thunder Bay\, Ontario\, P7E 6R2\, Canada
CATEGORIES:Thunder Bay
ATTACH;FMTTYPE=image/jpeg:https://norwestchc.org/wp-content/uploads/2026/03/DSOA_AprJune2026.jpg
END:VEVENT
BEGIN:VEVENT
DTSTART;TZID=America/Halifax:20260624T133000
DTEND;TZID=America/Halifax:20260624T160000
DTSTAMP:20260425T083025
CREATED:20250820T180008Z
LAST-MODIFIED:20251230T193449Z
UID:10002544-1782307800-1782316800@norwestchc.org
SUMMARY:Expressive Arts
DESCRIPTION:Explore creativity and enhance your well-being in a supportive environment. Drop-in art program. No registration required.
URL:https://norwestchc.org/event/expressive-arts-2-2/2026-06-24/
LOCATION:NorWest CHC\, 525 Simpson Street\, Thunder Bay\, Ontario\, P7C 3J6\, Canada
CATEGORIES:Thunder Bay
ORGANIZER;CN="Nicole Taylor":MAILTO:ntaylor@norwestchc.org
END:VEVENT
BEGIN:VEVENT
DTSTART;TZID=America/Halifax:20260625T170000
DTEND;TZID=America/Halifax:20260625T193000
DTSTAMP:20260425T083025
CREATED:20260318T195543Z
LAST-MODIFIED:20260318T201545Z
UID:10004835-1782406800-1782415800@norwestchc.org
SUMMARY:Cancer Thriving and Surviving Self-Management Program (TBPL)
DESCRIPTION:Navigating life during or after cancer treatment comes with unique physical and emotional challenges. Whether you are actively in treatment\, recently finished\, or supporting someone who is\, this free\, 6-week virtual workshop is designed to help you regain control and figure out your “new normal.” \nWhat to Expect: This is not a medical lecture. It is a highly interactive\, peer-led workshop where you will connect with others who truly understand the cancer journey. Over 6 weeks\, we will focus on practical\, daily skills to help you thrive: \n\n\nManaging Symptoms: Dealing with treatment side effects like fatigue\, pain\, and sleep issues. \n\n\nEmotional Wellbeing: Navigating difficult emotions\, stress\, and the fear of recurrence. \n\n\nCommunication: Getting the most out of your healthcare appointments and communicating your needs to family and friends. \n\n\nAction Planning: Setting small\, achievable weekly goals to safely rebuild your energy and regain your quality of life. \n\n\nThe Perks of Joining: Because this NorWest CHC program is fully funded\, it is 100% free to attend. Plus\, as a thank you for investing in your health\, you will receive: \n\n\nA free copy of the official reference workbook to keep. \n\n\nA $25 grocery gift card upon completing the 6-week series to help support your healthy habits! \n\n\nFamily members\, caregivers\, and support persons are highly encouraged to register and attend alongside you. \nSecure your spot by filling out the short registration form below. We look forward to seeing you in-person at Thunder Bay Public Library. 
URL:https://norwestchc.org/event/cancer-thriving-and-surviving-self-management-program-tbpl/2026-06-25/
LOCATION:Thunder Bay Public Library\, 901 Edward St S\, Thunder Bay\, Ontario\, P7E 6R2\, Canada
CATEGORIES:Thunder Bay
ATTACH;FMTTYPE=image/jpeg:https://norwestchc.org/wp-content/uploads/2026/03/CTS-TBPL-June-2026.jpg
END:VEVENT
BEGIN:VEVENT
DTSTART;TZID=America/Halifax:20260630T130000
DTEND;TZID=America/Halifax:20260630T140000
DTSTAMP:20260425T083025
CREATED:20250610T180252Z
LAST-MODIFIED:20251201T135820Z
UID:10002088-1782824400-1782828000@norwestchc.org
SUMMARY:N'doo'owe Binesi Sharing Circle
DESCRIPTION:Please join us for traditional healing programming delivered by a Cultural Practitioner from Nanaandawe’ewin traditional healing team\, Indigenous Health
URL:https://norwestchc.org/event/ndooowe-binesi-sharing-circle-2/2026-06-30/
LOCATION:NorWest CHC\, 525 Simpson Street\, Thunder Bay\, Ontario\, P7C 3J6\, Canada
CATEGORIES:Thunder Bay
ORGANIZER;CN="Nicole Taylor":MAILTO:ntaylor@norwestchc.org
END:VEVENT
BEGIN:VEVENT
DTSTART;TZID=America/Halifax:20260701T133000
DTEND;TZID=America/Halifax:20260701T160000
DTSTAMP:20260425T083025
CREATED:20250820T180008Z
LAST-MODIFIED:20251230T193449Z
UID:10002545-1782912600-1782921600@norwestchc.org
SUMMARY:Expressive Arts
DESCRIPTION:Explore creativity and enhance your well-being in a supportive environment. Drop-in art program. No registration required.
URL:https://norwestchc.org/event/expressive-arts-2-2/2026-07-01/
LOCATION:NorWest CHC\, 525 Simpson Street\, Thunder Bay\, Ontario\, P7C 3J6\, Canada
CATEGORIES:Thunder Bay
ORGANIZER;CN="Nicole Taylor":MAILTO:ntaylor@norwestchc.org
END:VEVENT
BEGIN:VEVENT
DTSTART;TZID=America/Halifax:20260702T170000
DTEND;TZID=America/Halifax:20260702T193000
DTSTAMP:20260425T083025
CREATED:20260318T195543Z
LAST-MODIFIED:20260318T201545Z
UID:10004836-1783011600-1783020600@norwestchc.org
SUMMARY:Cancer Thriving and Surviving Self-Management Program (TBPL)
DESCRIPTION:Navigating life during or after cancer treatment comes with unique physical and emotional challenges. Whether you are actively in treatment\, recently finished\, or supporting someone who is\, this free\, 6-week virtual workshop is designed to help you regain control and figure out your “new normal.” \nWhat to Expect: This is not a medical lecture. It is a highly interactive\, peer-led workshop where you will connect with others who truly understand the cancer journey. Over 6 weeks\, we will focus on practical\, daily skills to help you thrive: \n\n\nManaging Symptoms: Dealing with treatment side effects like fatigue\, pain\, and sleep issues. \n\n\nEmotional Wellbeing: Navigating difficult emotions\, stress\, and the fear of recurrence. \n\n\nCommunication: Getting the most out of your healthcare appointments and communicating your needs to family and friends. \n\n\nAction Planning: Setting small\, achievable weekly goals to safely rebuild your energy and regain your quality of life. \n\n\nThe Perks of Joining: Because this NorWest CHC program is fully funded\, it is 100% free to attend. Plus\, as a thank you for investing in your health\, you will receive: \n\n\nA free copy of the official reference workbook to keep. \n\n\nA $25 grocery gift card upon completing the 6-week series to help support your healthy habits! \n\n\nFamily members\, caregivers\, and support persons are highly encouraged to register and attend alongside you. \nSecure your spot by filling out the short registration form below. We look forward to seeing you in-person at Thunder Bay Public Library. 
URL:https://norwestchc.org/event/cancer-thriving-and-surviving-self-management-program-tbpl/2026-07-02/
LOCATION:Thunder Bay Public Library\, 901 Edward St S\, Thunder Bay\, Ontario\, P7E 6R2\, Canada
CATEGORIES:Thunder Bay
ATTACH;FMTTYPE=image/jpeg:https://norwestchc.org/wp-content/uploads/2026/03/CTS-TBPL-June-2026.jpg
END:VEVENT
BEGIN:VEVENT
DTSTART;TZID=America/Halifax:20260707T130000
DTEND;TZID=America/Halifax:20260707T140000
DTSTAMP:20260425T083025
CREATED:20250610T180252Z
LAST-MODIFIED:20251201T135820Z
UID:10002089-1783429200-1783432800@norwestchc.org
SUMMARY:N'doo'owe Binesi Sharing Circle
DESCRIPTION:Please join us for traditional healing programming delivered by a Cultural Practitioner from Nanaandawe’ewin traditional healing team\, Indigenous Health
URL:https://norwestchc.org/event/ndooowe-binesi-sharing-circle-2/2026-07-07/
LOCATION:NorWest CHC\, 525 Simpson Street\, Thunder Bay\, Ontario\, P7C 3J6\, Canada
CATEGORIES:Thunder Bay
ORGANIZER;CN="Nicole Taylor":MAILTO:ntaylor@norwestchc.org
END:VEVENT
BEGIN:VEVENT
DTSTART;TZID=America/Halifax:20260708T133000
DTEND;TZID=America/Halifax:20260708T160000
DTSTAMP:20260425T083025
CREATED:20250820T180008Z
LAST-MODIFIED:20251230T193449Z
UID:10002546-1783517400-1783526400@norwestchc.org
SUMMARY:Expressive Arts
DESCRIPTION:Explore creativity and enhance your well-being in a supportive environment. Drop-in art program. No registration required.
URL:https://norwestchc.org/event/expressive-arts-2-2/2026-07-08/
LOCATION:NorWest CHC\, 525 Simpson Street\, Thunder Bay\, Ontario\, P7C 3J6\, Canada
CATEGORIES:Thunder Bay
ORGANIZER;CN="Nicole Taylor":MAILTO:ntaylor@norwestchc.org
END:VEVENT
BEGIN:VEVENT
DTSTART;TZID=America/Halifax:20260709T170000
DTEND;TZID=America/Halifax:20260709T193000
DTSTAMP:20260425T083025
CREATED:20260318T195543Z
LAST-MODIFIED:20260318T201545Z
UID:10004837-1783616400-1783625400@norwestchc.org
SUMMARY:Cancer Thriving and Surviving Self-Management Program (TBPL)
DESCRIPTION:Navigating life during or after cancer treatment comes with unique physical and emotional challenges. Whether you are actively in treatment\, recently finished\, or supporting someone who is\, this free\, 6-week virtual workshop is designed to help you regain control and figure out your “new normal.” \nWhat to Expect: This is not a medical lecture. It is a highly interactive\, peer-led workshop where you will connect with others who truly understand the cancer journey. Over 6 weeks\, we will focus on practical\, daily skills to help you thrive: \n\n\nManaging Symptoms: Dealing with treatment side effects like fatigue\, pain\, and sleep issues. \n\n\nEmotional Wellbeing: Navigating difficult emotions\, stress\, and the fear of recurrence. \n\n\nCommunication: Getting the most out of your healthcare appointments and communicating your needs to family and friends. \n\n\nAction Planning: Setting small\, achievable weekly goals to safely rebuild your energy and regain your quality of life. \n\n\nThe Perks of Joining: Because this NorWest CHC program is fully funded\, it is 100% free to attend. Plus\, as a thank you for investing in your health\, you will receive: \n\n\nA free copy of the official reference workbook to keep. \n\n\nA $25 grocery gift card upon completing the 6-week series to help support your healthy habits! \n\n\nFamily members\, caregivers\, and support persons are highly encouraged to register and attend alongside you. \nSecure your spot by filling out the short registration form below. We look forward to seeing you in-person at Thunder Bay Public Library. 
URL:https://norwestchc.org/event/cancer-thriving-and-surviving-self-management-program-tbpl/2026-07-09/
LOCATION:Thunder Bay Public Library\, 901 Edward St S\, Thunder Bay\, Ontario\, P7E 6R2\, Canada
CATEGORIES:Thunder Bay
ATTACH;FMTTYPE=image/jpeg:https://norwestchc.org/wp-content/uploads/2026/03/CTS-TBPL-June-2026.jpg
END:VEVENT
BEGIN:VEVENT
DTSTART;TZID=America/Halifax:20260714T130000
DTEND;TZID=America/Halifax:20260714T140000
DTSTAMP:20260425T083025
CREATED:20250610T180252Z
LAST-MODIFIED:20251201T135820Z
UID:10002090-1784034000-1784037600@norwestchc.org
SUMMARY:N'doo'owe Binesi Sharing Circle
DESCRIPTION:Please join us for traditional healing programming delivered by a Cultural Practitioner from Nanaandawe’ewin traditional healing team\, Indigenous Health
URL:https://norwestchc.org/event/ndooowe-binesi-sharing-circle-2/2026-07-14/
LOCATION:NorWest CHC\, 525 Simpson Street\, Thunder Bay\, Ontario\, P7C 3J6\, Canada
CATEGORIES:Thunder Bay
ORGANIZER;CN="Nicole Taylor":MAILTO:ntaylor@norwestchc.org
END:VEVENT
BEGIN:VEVENT
DTSTART;TZID=America/Halifax:20260715T133000
DTEND;TZID=America/Halifax:20260715T160000
DTSTAMP:20260425T083025
CREATED:20250820T180008Z
LAST-MODIFIED:20251230T193449Z
UID:10002547-1784122200-1784131200@norwestchc.org
SUMMARY:Expressive Arts
DESCRIPTION:Explore creativity and enhance your well-being in a supportive environment. Drop-in art program. No registration required.
URL:https://norwestchc.org/event/expressive-arts-2-2/2026-07-15/
LOCATION:NorWest CHC\, 525 Simpson Street\, Thunder Bay\, Ontario\, P7C 3J6\, Canada
CATEGORIES:Thunder Bay
ORGANIZER;CN="Nicole Taylor":MAILTO:ntaylor@norwestchc.org
END:VEVENT
BEGIN:VEVENT
DTSTART;TZID=America/Halifax:20260721T130000
DTEND;TZID=America/Halifax:20260721T140000
DTSTAMP:20260425T083025
CREATED:20250610T180252Z
LAST-MODIFIED:20251201T135820Z
UID:10002091-1784638800-1784642400@norwestchc.org
SUMMARY:N'doo'owe Binesi Sharing Circle
DESCRIPTION:Please join us for traditional healing programming delivered by a Cultural Practitioner from Nanaandawe’ewin traditional healing team\, Indigenous Health
URL:https://norwestchc.org/event/ndooowe-binesi-sharing-circle-2/2026-07-21/
LOCATION:NorWest CHC\, 525 Simpson Street\, Thunder Bay\, Ontario\, P7C 3J6\, Canada
CATEGORIES:Thunder Bay
ORGANIZER;CN="Nicole Taylor":MAILTO:ntaylor@norwestchc.org
END:VEVENT
BEGIN:VEVENT
DTSTART;TZID=America/Halifax:20260722T133000
DTEND;TZID=America/Halifax:20260722T160000
DTSTAMP:20260425T083025
CREATED:20250820T180008Z
LAST-MODIFIED:20251230T193449Z
UID:10002548-1784727000-1784736000@norwestchc.org
SUMMARY:Expressive Arts
DESCRIPTION:Explore creativity and enhance your well-being in a supportive environment. Drop-in art program. No registration required.
URL:https://norwestchc.org/event/expressive-arts-2-2/2026-07-22/
LOCATION:NorWest CHC\, 525 Simpson Street\, Thunder Bay\, Ontario\, P7C 3J6\, Canada
CATEGORIES:Thunder Bay
ORGANIZER;CN="Nicole Taylor":MAILTO:ntaylor@norwestchc.org
END:VEVENT
BEGIN:VEVENT
DTSTART;TZID=America/Halifax:20260728T130000
DTEND;TZID=America/Halifax:20260728T140000
DTSTAMP:20260425T083025
CREATED:20250610T180252Z
LAST-MODIFIED:20251201T135820Z
UID:10002092-1785243600-1785247200@norwestchc.org
SUMMARY:N'doo'owe Binesi Sharing Circle
DESCRIPTION:Please join us for traditional healing programming delivered by a Cultural Practitioner from Nanaandawe’ewin traditional healing team\, Indigenous Health
URL:https://norwestchc.org/event/ndooowe-binesi-sharing-circle-2/2026-07-28/
LOCATION:NorWest CHC\, 525 Simpson Street\, Thunder Bay\, Ontario\, P7C 3J6\, Canada
CATEGORIES:Thunder Bay
ORGANIZER;CN="Nicole Taylor":MAILTO:ntaylor@norwestchc.org
END:VEVENT
BEGIN:VEVENT
DTSTART;TZID=America/Halifax:20260729T133000
DTEND;TZID=America/Halifax:20260729T160000
DTSTAMP:20260425T083025
CREATED:20250820T180008Z
LAST-MODIFIED:20251230T193449Z
UID:10002549-1785331800-1785340800@norwestchc.org
SUMMARY:Expressive Arts
DESCRIPTION:Explore creativity and enhance your well-being in a supportive environment. Drop-in art program. No registration required.
URL:https://norwestchc.org/event/expressive-arts-2-2/2026-07-29/
LOCATION:NorWest CHC\, 525 Simpson Street\, Thunder Bay\, Ontario\, P7C 3J6\, Canada
CATEGORIES:Thunder Bay
ORGANIZER;CN="Nicole Taylor":MAILTO:ntaylor@norwestchc.org
END:VEVENT
BEGIN:VEVENT
DTSTART;TZID=America/Halifax:20260804T130000
DTEND;TZID=America/Halifax:20260804T140000
DTSTAMP:20260425T083025
CREATED:20250610T180252Z
LAST-MODIFIED:20251201T135820Z
UID:10002093-1785848400-1785852000@norwestchc.org
SUMMARY:N'doo'owe Binesi Sharing Circle
DESCRIPTION:Please join us for traditional healing programming delivered by a Cultural Practitioner from Nanaandawe’ewin traditional healing team\, Indigenous Health
URL:https://norwestchc.org/event/ndooowe-binesi-sharing-circle-2/2026-08-04/
LOCATION:NorWest CHC\, 525 Simpson Street\, Thunder Bay\, Ontario\, P7C 3J6\, Canada
CATEGORIES:Thunder Bay
ORGANIZER;CN="Nicole Taylor":MAILTO:ntaylor@norwestchc.org
END:VEVENT
BEGIN:VEVENT
DTSTART;TZID=America/Halifax:20260805T133000
DTEND;TZID=America/Halifax:20260805T160000
DTSTAMP:20260425T083025
CREATED:20250820T180008Z
LAST-MODIFIED:20251230T193449Z
UID:10002550-1785936600-1785945600@norwestchc.org
SUMMARY:Expressive Arts
DESCRIPTION:Explore creativity and enhance your well-being in a supportive environment. Drop-in art program. No registration required.
URL:https://norwestchc.org/event/expressive-arts-2-2/2026-08-05/
LOCATION:NorWest CHC\, 525 Simpson Street\, Thunder Bay\, Ontario\, P7C 3J6\, Canada
CATEGORIES:Thunder Bay
ORGANIZER;CN="Nicole Taylor":MAILTO:ntaylor@norwestchc.org
END:VEVENT
BEGIN:VEVENT
DTSTART;TZID=America/Halifax:20260811T130000
DTEND;TZID=America/Halifax:20260811T140000
DTSTAMP:20260425T083025
CREATED:20250610T180252Z
LAST-MODIFIED:20251201T135820Z
UID:10002094-1786453200-1786456800@norwestchc.org
SUMMARY:N'doo'owe Binesi Sharing Circle
DESCRIPTION:Please join us for traditional healing programming delivered by a Cultural Practitioner from Nanaandawe’ewin traditional healing team\, Indigenous Health
URL:https://norwestchc.org/event/ndooowe-binesi-sharing-circle-2/2026-08-11/
LOCATION:NorWest CHC\, 525 Simpson Street\, Thunder Bay\, Ontario\, P7C 3J6\, Canada
CATEGORIES:Thunder Bay
ORGANIZER;CN="Nicole Taylor":MAILTO:ntaylor@norwestchc.org
END:VEVENT
BEGIN:VEVENT
DTSTART;TZID=America/Halifax:20260812T133000
DTEND;TZID=America/Halifax:20260812T160000
DTSTAMP:20260425T083025
CREATED:20250820T180008Z
LAST-MODIFIED:20251230T193449Z
UID:10002551-1786541400-1786550400@norwestchc.org
SUMMARY:Expressive Arts
DESCRIPTION:Explore creativity and enhance your well-being in a supportive environment. Drop-in art program. No registration required.
URL:https://norwestchc.org/event/expressive-arts-2-2/2026-08-12/
LOCATION:NorWest CHC\, 525 Simpson Street\, Thunder Bay\, Ontario\, P7C 3J6\, Canada
CATEGORIES:Thunder Bay
ORGANIZER;CN="Nicole Taylor":MAILTO:ntaylor@norwestchc.org
END:VEVENT
BEGIN:VEVENT
DTSTART;TZID=America/Halifax:20260818T130000
DTEND;TZID=America/Halifax:20260818T140000
DTSTAMP:20260425T083025
CREATED:20250610T180252Z
LAST-MODIFIED:20251201T135820Z
UID:10002095-1787058000-1787061600@norwestchc.org
SUMMARY:N'doo'owe Binesi Sharing Circle
DESCRIPTION:Please join us for traditional healing programming delivered by a Cultural Practitioner from Nanaandawe’ewin traditional healing team\, Indigenous Health
URL:https://norwestchc.org/event/ndooowe-binesi-sharing-circle-2/2026-08-18/
LOCATION:NorWest CHC\, 525 Simpson Street\, Thunder Bay\, Ontario\, P7C 3J6\, Canada
CATEGORIES:Thunder Bay
ORGANIZER;CN="Nicole Taylor":MAILTO:ntaylor@norwestchc.org
END:VEVENT
BEGIN:VEVENT
DTSTART;TZID=America/Halifax:20260819T133000
DTEND;TZID=America/Halifax:20260819T160000
DTSTAMP:20260425T083025
CREATED:20250820T180008Z
LAST-MODIFIED:20251230T193449Z
UID:10002552-1787146200-1787155200@norwestchc.org
SUMMARY:Expressive Arts
DESCRIPTION:Explore creativity and enhance your well-being in a supportive environment. Drop-in art program. No registration required.
URL:https://norwestchc.org/event/expressive-arts-2-2/2026-08-19/
LOCATION:NorWest CHC\, 525 Simpson Street\, Thunder Bay\, Ontario\, P7C 3J6\, Canada
CATEGORIES:Thunder Bay
ORGANIZER;CN="Nicole Taylor":MAILTO:ntaylor@norwestchc.org
END:VEVENT
BEGIN:VEVENT
DTSTART;TZID=America/Halifax:20260825T130000
DTEND;TZID=America/Halifax:20260825T140000
DTSTAMP:20260425T083025
CREATED:20250610T180252Z
LAST-MODIFIED:20251201T135820Z
UID:10002096-1787662800-1787666400@norwestchc.org
SUMMARY:N'doo'owe Binesi Sharing Circle
DESCRIPTION:Please join us for traditional healing programming delivered by a Cultural Practitioner from Nanaandawe’ewin traditional healing team\, Indigenous Health
URL:https://norwestchc.org/event/ndooowe-binesi-sharing-circle-2/2026-08-25/
LOCATION:NorWest CHC\, 525 Simpson Street\, Thunder Bay\, Ontario\, P7C 3J6\, Canada
CATEGORIES:Thunder Bay
ORGANIZER;CN="Nicole Taylor":MAILTO:ntaylor@norwestchc.org
END:VEVENT
BEGIN:VEVENT
DTSTART;TZID=America/Halifax:20260826T133000
DTEND;TZID=America/Halifax:20260826T160000
DTSTAMP:20260425T083025
CREATED:20250820T180008Z
LAST-MODIFIED:20251230T193449Z
UID:10002553-1787751000-1787760000@norwestchc.org
SUMMARY:Expressive Arts
DESCRIPTION:Explore creativity and enhance your well-being in a supportive environment. Drop-in art program. No registration required.
URL:https://norwestchc.org/event/expressive-arts-2-2/2026-08-26/
LOCATION:NorWest CHC\, 525 Simpson Street\, Thunder Bay\, Ontario\, P7C 3J6\, Canada
CATEGORIES:Thunder Bay
ORGANIZER;CN="Nicole Taylor":MAILTO:ntaylor@norwestchc.org
END:VEVENT
BEGIN:VEVENT
DTSTART;TZID=America/Halifax:20260901T130000
DTEND;TZID=America/Halifax:20260901T140000
DTSTAMP:20260425T083025
CREATED:20250610T180252Z
LAST-MODIFIED:20251201T135820Z
UID:10002097-1788267600-1788271200@norwestchc.org
SUMMARY:N'doo'owe Binesi Sharing Circle
DESCRIPTION:Please join us for traditional healing programming delivered by a Cultural Practitioner from Nanaandawe’ewin traditional healing team\, Indigenous Health
URL:https://norwestchc.org/event/ndooowe-binesi-sharing-circle-2/2026-09-01/
LOCATION:NorWest CHC\, 525 Simpson Street\, Thunder Bay\, Ontario\, P7C 3J6\, Canada
CATEGORIES:Thunder Bay
ORGANIZER;CN="Nicole Taylor":MAILTO:ntaylor@norwestchc.org
END:VEVENT
BEGIN:VEVENT
DTSTART;TZID=America/Halifax:20260902T133000
DTEND;TZID=America/Halifax:20260902T160000
DTSTAMP:20260425T083025
CREATED:20250820T180008Z
LAST-MODIFIED:20251230T193449Z
UID:10002554-1788355800-1788364800@norwestchc.org
SUMMARY:Expressive Arts
DESCRIPTION:Explore creativity and enhance your well-being in a supportive environment. Drop-in art program. No registration required.
URL:https://norwestchc.org/event/expressive-arts-2-2/2026-09-02/
LOCATION:NorWest CHC\, 525 Simpson Street\, Thunder Bay\, Ontario\, P7C 3J6\, Canada
CATEGORIES:Thunder Bay
ORGANIZER;CN="Nicole Taylor":MAILTO:ntaylor@norwestchc.org
END:VEVENT
END:VCALENDAR