BEGIN:VCALENDAR
VERSION:2.0
PRODID:-//NorWest Community Health Centres - ECPv6.15.18//NONSGML v1.0//EN
CALSCALE:GREGORIAN
METHOD:PUBLISH
X-ORIGINAL-URL:https://norwestchc.org
X-WR-CALDESC:Events for NorWest Community Health Centres
REFRESH-INTERVAL;VALUE=DURATION:PT1H
X-Robots-Tag:noindex
X-PUBLISHED-TTL:PT1H
BEGIN:VTIMEZONE
TZID:America/Halifax
BEGIN:DAYLIGHT
TZOFFSETFROM:-0400
TZOFFSETTO:-0300
TZNAME:ADT
DTSTART:20250309T060000
END:DAYLIGHT
BEGIN:STANDARD
TZOFFSETFROM:-0300
TZOFFSETTO:-0400
TZNAME:AST
DTSTART:20251102T050000
END:STANDARD
BEGIN:DAYLIGHT
TZOFFSETFROM:-0400
TZOFFSETTO:-0300
TZNAME:ADT
DTSTART:20260308T060000
END:DAYLIGHT
BEGIN:STANDARD
TZOFFSETFROM:-0300
TZOFFSETTO:-0400
TZNAME:AST
DTSTART:20261101T050000
END:STANDARD
BEGIN:DAYLIGHT
TZOFFSETFROM:-0400
TZOFFSETTO:-0300
TZNAME:ADT
DTSTART:20270314T060000
END:DAYLIGHT
BEGIN:STANDARD
TZOFFSETFROM:-0300
TZOFFSETTO:-0400
TZNAME:AST
DTSTART:20271107T050000
END:STANDARD
END:VTIMEZONE
BEGIN:VEVENT
DTSTART;TZID=America/Halifax:20260714T130000
DTEND;TZID=America/Halifax:20260714T140000
DTSTAMP:20260419T202126
CREATED:20250610T180252Z
LAST-MODIFIED:20251201T135820Z
UID:10002090-1784034000-1784037600@norwestchc.org
SUMMARY:N'doo'owe Binesi Sharing Circle
DESCRIPTION:Please join us for traditional healing programming delivered by a Cultural Practitioner from Nanaandawe’ewin traditional healing team\, Indigenous Health
URL:https://norwestchc.org/event/ndooowe-binesi-sharing-circle-2/2026-07-14/
LOCATION:NorWest CHC\, 525 Simpson Street\, Thunder Bay\, Ontario\, P7C 3J6\, Canada
CATEGORIES:Thunder Bay
ORGANIZER;CN="Nicole Taylor":MAILTO:ntaylor@norwestchc.org
END:VEVENT
BEGIN:VEVENT
DTSTART;TZID=America/Halifax:20260715T133000
DTEND;TZID=America/Halifax:20260715T160000
DTSTAMP:20260419T202126
CREATED:20250820T180008Z
LAST-MODIFIED:20251230T193449Z
UID:10002547-1784122200-1784131200@norwestchc.org
SUMMARY:Expressive Arts
DESCRIPTION:Explore creativity and enhance your well-being in a supportive environment. Drop-in art program. No registration required.
URL:https://norwestchc.org/event/expressive-arts-2-2/2026-07-15/
LOCATION:NorWest CHC\, 525 Simpson Street\, Thunder Bay\, Ontario\, P7C 3J6\, Canada
CATEGORIES:Thunder Bay
ORGANIZER;CN="Nicole Taylor":MAILTO:ntaylor@norwestchc.org
END:VEVENT
BEGIN:VEVENT
DTSTART;TZID=America/Halifax:20260716T094500
DTEND;TZID=America/Halifax:20260716T110000
DTSTAMP:20260419T202126
CREATED:20250627T133041Z
LAST-MODIFIED:20251210T201045Z
UID:10003740-1784195100-1784199600@norwestchc.org
SUMMARY:Fly the C.O.O.P Walking Group (Thurs)
DESCRIPTION:Fly the COOP Walking Group – Outdoor Walking – Tues/Thurs  9:45 am – 11am \n🕘 When & Where We Meet • Tuesdays & Thursdays • Meet at 9:45 AM at NorWest Community Health Centres – 4785 Hwy 11-17 for carpooling (4 park passes available) • Or meet at 10:00 AM at Mountain Portage Trailhead\, Kakabeka Falls Provincial Park
URL:https://norwestchc.org/event/fly-the-c-o-o-p-walking-group-thurs-2/2026-07-16/
LOCATION:NorWest CHC (Kakabeka Falls)\, 4785 ON-11 Unit B\, Kakabeka Falls\, ONTARIO\, P0T 1W0\, Canada
CATEGORIES:Kakabeka
ORGANIZER;CN="Shaun Peirce":MAILTO:speirce@norwestchc.org
END:VEVENT
BEGIN:VEVENT
DTSTART;TZID=America/Halifax:20260716T120000
DTEND;TZID=America/Halifax:20260716T160000
DTSTAMP:20260419T202126
CREATED:20241223T235700Z
LAST-MODIFIED:20241223T235700Z
UID:10000705-1784203200-1784217600@norwestchc.org
SUMMARY:LifeLabs
DESCRIPTION:
URL:https://norwestchc.org/event/lifelabs/2026-07-16/
LOCATION:NorWest CHC (Kakabeka Falls)\, 4785 ON-11 Unit B\, Kakabeka Falls\, ONTARIO\, P0T 1W0\, Canada
CATEGORIES:Kakabeka
ORGANIZER;CN="Shaun Peirce":MAILTO:speirce@norwestchc.org
END:VEVENT
BEGIN:VEVENT
DTSTART;TZID=America/Halifax:20260720T100000
DTEND;TZID=America/Halifax:20260720T110000
DTSTAMP:20260419T202126
CREATED:20250509T183232Z
LAST-MODIFIED:20250925T145330Z
UID:10003221-1784541600-1784545200@norwestchc.org
SUMMARY:Chair Yoga
DESCRIPTION:Monday’s @ 10am Virtually or in Kam or O’Connor  \nO’Connor Community Centre: 330 ON-595\, Kakabeka Falls\, ON P0T 1W0 \nKam Hall: 6197 Dawson Road\, Kaministiquia\, ON P0T 1X0
URL:https://norwestchc.org/event/chair-yoga-2/2026-07-20/
LOCATION:O’Connor Community Centre\, 330 ON-595\, Kakabeka Falls\, ON\, ONTARIO\, P0T 1W0\, Canada
CATEGORIES:Kakabeka
ORGANIZER;CN="Shaun Peirce":MAILTO:speirce@norwestchc.org
END:VEVENT
BEGIN:VEVENT
DTSTART;TZID=America/Halifax:20260721T094500
DTEND;TZID=America/Halifax:20260721T110000
DTSTAMP:20260419T202126
CREATED:20241007T202456Z
LAST-MODIFIED:20251030T194252Z
UID:10003480-1784627100-1784631600@norwestchc.org
SUMMARY:Fly the C.O.O.P Walking Group
DESCRIPTION:Fly the COOP Walking Group – Outdoor Walking – Tues/Thurs  9:45 am – 11am \n🕘 When & Where We Meet • Tuesdays & Thursdays • Meet at 9:45 AM at NorWest Community Health Centres – 4785 Hwy 11-17 for carpooling (4 park passes available) • Or meet at 10:00 AM at Mountain Portage Trailhead\, Kakabeka Falls Provincial Park
URL:https://norwestchc.org/event/fly-the-c-o-o-p-walking-group/2026-07-21/
LOCATION:NorWest CHC (Kakabeka Falls)\, 4785 ON-11 Unit B\, Kakabeka Falls\, ONTARIO\, P0T 1W0\, Canada
CATEGORIES:Kakabeka
ORGANIZER;CN="Shaun Peirce":MAILTO:speirce@norwestchc.org
END:VEVENT
BEGIN:VEVENT
DTSTART;TZID=America/Halifax:20260721T103000
DTEND;TZID=America/Halifax:20260721T113000
DTSTAMP:20260419T202126
CREATED:20250513T144427Z
LAST-MODIFIED:20251030T194351Z
UID:10001307-1784629800-1784633400@norwestchc.org
SUMMARY:Walk the Block
DESCRIPTION:
URL:https://norwestchc.org/event/walk-the-block-2/2026-07-21/
LOCATION:NorWest CHC (Longlac)\, 99 Skinner Ave\,\, Longlac\, ON\, P0T 2A0\, Canada
CATEGORIES:Longlac
END:VEVENT
BEGIN:VEVENT
DTSTART;TZID=America/Halifax:20260721T130000
DTEND;TZID=America/Halifax:20260721T140000
DTSTAMP:20260419T202126
CREATED:20250610T180252Z
LAST-MODIFIED:20251201T135820Z
UID:10002091-1784638800-1784642400@norwestchc.org
SUMMARY:N'doo'owe Binesi Sharing Circle
DESCRIPTION:Please join us for traditional healing programming delivered by a Cultural Practitioner from Nanaandawe’ewin traditional healing team\, Indigenous Health
URL:https://norwestchc.org/event/ndooowe-binesi-sharing-circle-2/2026-07-21/
LOCATION:NorWest CHC\, 525 Simpson Street\, Thunder Bay\, Ontario\, P7C 3J6\, Canada
CATEGORIES:Thunder Bay
ORGANIZER;CN="Nicole Taylor":MAILTO:ntaylor@norwestchc.org
END:VEVENT
BEGIN:VEVENT
DTSTART;TZID=America/Halifax:20260722T133000
DTEND;TZID=America/Halifax:20260722T160000
DTSTAMP:20260419T202126
CREATED:20250820T180008Z
LAST-MODIFIED:20251230T193449Z
UID:10002548-1784727000-1784736000@norwestchc.org
SUMMARY:Expressive Arts
DESCRIPTION:Explore creativity and enhance your well-being in a supportive environment. Drop-in art program. No registration required.
URL:https://norwestchc.org/event/expressive-arts-2-2/2026-07-22/
LOCATION:NorWest CHC\, 525 Simpson Street\, Thunder Bay\, Ontario\, P7C 3J6\, Canada
CATEGORIES:Thunder Bay
ORGANIZER;CN="Nicole Taylor":MAILTO:ntaylor@norwestchc.org
END:VEVENT
BEGIN:VEVENT
DTSTART;TZID=America/Halifax:20260723T094500
DTEND;TZID=America/Halifax:20260723T110000
DTSTAMP:20260419T202126
CREATED:20250627T133041Z
LAST-MODIFIED:20251210T201045Z
UID:10003741-1784799900-1784804400@norwestchc.org
SUMMARY:Fly the C.O.O.P Walking Group (Thurs)
DESCRIPTION:Fly the COOP Walking Group – Outdoor Walking – Tues/Thurs  9:45 am – 11am \n🕘 When & Where We Meet • Tuesdays & Thursdays • Meet at 9:45 AM at NorWest Community Health Centres – 4785 Hwy 11-17 for carpooling (4 park passes available) • Or meet at 10:00 AM at Mountain Portage Trailhead\, Kakabeka Falls Provincial Park
URL:https://norwestchc.org/event/fly-the-c-o-o-p-walking-group-thurs-2/2026-07-23/
LOCATION:NorWest CHC (Kakabeka Falls)\, 4785 ON-11 Unit B\, Kakabeka Falls\, ONTARIO\, P0T 1W0\, Canada
CATEGORIES:Kakabeka
ORGANIZER;CN="Shaun Peirce":MAILTO:speirce@norwestchc.org
END:VEVENT
BEGIN:VEVENT
DTSTART;TZID=America/Halifax:20260723T120000
DTEND;TZID=America/Halifax:20260723T160000
DTSTAMP:20260419T202126
CREATED:20241223T235700Z
LAST-MODIFIED:20241223T235700Z
UID:10000706-1784808000-1784822400@norwestchc.org
SUMMARY:LifeLabs
DESCRIPTION:
URL:https://norwestchc.org/event/lifelabs/2026-07-23/
LOCATION:NorWest CHC (Kakabeka Falls)\, 4785 ON-11 Unit B\, Kakabeka Falls\, ONTARIO\, P0T 1W0\, Canada
CATEGORIES:Kakabeka
ORGANIZER;CN="Shaun Peirce":MAILTO:speirce@norwestchc.org
END:VEVENT
BEGIN:VEVENT
DTSTART;TZID=America/Halifax:20260727T100000
DTEND;TZID=America/Halifax:20260727T110000
DTSTAMP:20260419T202126
CREATED:20250509T183232Z
LAST-MODIFIED:20250925T145330Z
UID:10003222-1785146400-1785150000@norwestchc.org
SUMMARY:Chair Yoga
DESCRIPTION:Monday’s @ 10am Virtually or in Kam or O’Connor  \nO’Connor Community Centre: 330 ON-595\, Kakabeka Falls\, ON P0T 1W0 \nKam Hall: 6197 Dawson Road\, Kaministiquia\, ON P0T 1X0
URL:https://norwestchc.org/event/chair-yoga-2/2026-07-27/
LOCATION:O’Connor Community Centre\, 330 ON-595\, Kakabeka Falls\, ON\, ONTARIO\, P0T 1W0\, Canada
CATEGORIES:Kakabeka
ORGANIZER;CN="Shaun Peirce":MAILTO:speirce@norwestchc.org
END:VEVENT
BEGIN:VEVENT
DTSTART;TZID=America/Halifax:20260728T094500
DTEND;TZID=America/Halifax:20260728T110000
DTSTAMP:20260419T202126
CREATED:20241007T202456Z
LAST-MODIFIED:20251030T194252Z
UID:10003481-1785231900-1785236400@norwestchc.org
SUMMARY:Fly the C.O.O.P Walking Group
DESCRIPTION:Fly the COOP Walking Group – Outdoor Walking – Tues/Thurs  9:45 am – 11am \n🕘 When & Where We Meet • Tuesdays & Thursdays • Meet at 9:45 AM at NorWest Community Health Centres – 4785 Hwy 11-17 for carpooling (4 park passes available) • Or meet at 10:00 AM at Mountain Portage Trailhead\, Kakabeka Falls Provincial Park
URL:https://norwestchc.org/event/fly-the-c-o-o-p-walking-group/2026-07-28/
LOCATION:NorWest CHC (Kakabeka Falls)\, 4785 ON-11 Unit B\, Kakabeka Falls\, ONTARIO\, P0T 1W0\, Canada
CATEGORIES:Kakabeka
ORGANIZER;CN="Shaun Peirce":MAILTO:speirce@norwestchc.org
END:VEVENT
BEGIN:VEVENT
DTSTART;TZID=America/Halifax:20260728T103000
DTEND;TZID=America/Halifax:20260728T113000
DTSTAMP:20260419T202126
CREATED:20250513T144427Z
LAST-MODIFIED:20251030T194351Z
UID:10001308-1785234600-1785238200@norwestchc.org
SUMMARY:Walk the Block
DESCRIPTION:
URL:https://norwestchc.org/event/walk-the-block-2/2026-07-28/
LOCATION:NorWest CHC (Longlac)\, 99 Skinner Ave\,\, Longlac\, ON\, P0T 2A0\, Canada
CATEGORIES:Longlac
END:VEVENT
BEGIN:VEVENT
DTSTART;TZID=America/Halifax:20260728T130000
DTEND;TZID=America/Halifax:20260728T140000
DTSTAMP:20260419T202126
CREATED:20250610T180252Z
LAST-MODIFIED:20251201T135820Z
UID:10002092-1785243600-1785247200@norwestchc.org
SUMMARY:N'doo'owe Binesi Sharing Circle
DESCRIPTION:Please join us for traditional healing programming delivered by a Cultural Practitioner from Nanaandawe’ewin traditional healing team\, Indigenous Health
URL:https://norwestchc.org/event/ndooowe-binesi-sharing-circle-2/2026-07-28/
LOCATION:NorWest CHC\, 525 Simpson Street\, Thunder Bay\, Ontario\, P7C 3J6\, Canada
CATEGORIES:Thunder Bay
ORGANIZER;CN="Nicole Taylor":MAILTO:ntaylor@norwestchc.org
END:VEVENT
BEGIN:VEVENT
DTSTART;TZID=America/Halifax:20260729T133000
DTEND;TZID=America/Halifax:20260729T160000
DTSTAMP:20260419T202126
CREATED:20250820T180008Z
LAST-MODIFIED:20251230T193449Z
UID:10002549-1785331800-1785340800@norwestchc.org
SUMMARY:Expressive Arts
DESCRIPTION:Explore creativity and enhance your well-being in a supportive environment. Drop-in art program. No registration required.
URL:https://norwestchc.org/event/expressive-arts-2-2/2026-07-29/
LOCATION:NorWest CHC\, 525 Simpson Street\, Thunder Bay\, Ontario\, P7C 3J6\, Canada
CATEGORIES:Thunder Bay
ORGANIZER;CN="Nicole Taylor":MAILTO:ntaylor@norwestchc.org
END:VEVENT
BEGIN:VEVENT
DTSTART;TZID=America/Halifax:20260730T094500
DTEND;TZID=America/Halifax:20260730T110000
DTSTAMP:20260419T202126
CREATED:20250627T133041Z
LAST-MODIFIED:20251210T201045Z
UID:10003742-1785404700-1785409200@norwestchc.org
SUMMARY:Fly the C.O.O.P Walking Group (Thurs)
DESCRIPTION:Fly the COOP Walking Group – Outdoor Walking – Tues/Thurs  9:45 am – 11am \n🕘 When & Where We Meet • Tuesdays & Thursdays • Meet at 9:45 AM at NorWest Community Health Centres – 4785 Hwy 11-17 for carpooling (4 park passes available) • Or meet at 10:00 AM at Mountain Portage Trailhead\, Kakabeka Falls Provincial Park
URL:https://norwestchc.org/event/fly-the-c-o-o-p-walking-group-thurs-2/2026-07-30/
LOCATION:NorWest CHC (Kakabeka Falls)\, 4785 ON-11 Unit B\, Kakabeka Falls\, ONTARIO\, P0T 1W0\, Canada
CATEGORIES:Kakabeka
ORGANIZER;CN="Shaun Peirce":MAILTO:speirce@norwestchc.org
END:VEVENT
BEGIN:VEVENT
DTSTART;TZID=America/Halifax:20260730T120000
DTEND;TZID=America/Halifax:20260730T160000
DTSTAMP:20260419T202126
CREATED:20241223T235700Z
LAST-MODIFIED:20241223T235700Z
UID:10000707-1785412800-1785427200@norwestchc.org
SUMMARY:LifeLabs
DESCRIPTION:
URL:https://norwestchc.org/event/lifelabs/2026-07-30/
LOCATION:NorWest CHC (Kakabeka Falls)\, 4785 ON-11 Unit B\, Kakabeka Falls\, ONTARIO\, P0T 1W0\, Canada
CATEGORIES:Kakabeka
ORGANIZER;CN="Shaun Peirce":MAILTO:speirce@norwestchc.org
END:VEVENT
BEGIN:VEVENT
DTSTART;TZID=America/Halifax:20260803T100000
DTEND;TZID=America/Halifax:20260803T110000
DTSTAMP:20260419T202126
CREATED:20250509T183232Z
LAST-MODIFIED:20250925T145330Z
UID:10003223-1785751200-1785754800@norwestchc.org
SUMMARY:Chair Yoga
DESCRIPTION:Monday’s @ 10am Virtually or in Kam or O’Connor  \nO’Connor Community Centre: 330 ON-595\, Kakabeka Falls\, ON P0T 1W0 \nKam Hall: 6197 Dawson Road\, Kaministiquia\, ON P0T 1X0
URL:https://norwestchc.org/event/chair-yoga-2/2026-08-03/
LOCATION:O’Connor Community Centre\, 330 ON-595\, Kakabeka Falls\, ON\, ONTARIO\, P0T 1W0\, Canada
CATEGORIES:Kakabeka
ORGANIZER;CN="Shaun Peirce":MAILTO:speirce@norwestchc.org
END:VEVENT
BEGIN:VEVENT
DTSTART;TZID=America/Halifax:20260804T094500
DTEND;TZID=America/Halifax:20260804T110000
DTSTAMP:20260419T202126
CREATED:20241007T202456Z
LAST-MODIFIED:20251030T194252Z
UID:10003482-1785836700-1785841200@norwestchc.org
SUMMARY:Fly the C.O.O.P Walking Group
DESCRIPTION:Fly the COOP Walking Group – Outdoor Walking – Tues/Thurs  9:45 am – 11am \n🕘 When & Where We Meet • Tuesdays & Thursdays • Meet at 9:45 AM at NorWest Community Health Centres – 4785 Hwy 11-17 for carpooling (4 park passes available) • Or meet at 10:00 AM at Mountain Portage Trailhead\, Kakabeka Falls Provincial Park
URL:https://norwestchc.org/event/fly-the-c-o-o-p-walking-group/2026-08-04/
LOCATION:NorWest CHC (Kakabeka Falls)\, 4785 ON-11 Unit B\, Kakabeka Falls\, ONTARIO\, P0T 1W0\, Canada
CATEGORIES:Kakabeka
ORGANIZER;CN="Shaun Peirce":MAILTO:speirce@norwestchc.org
END:VEVENT
BEGIN:VEVENT
DTSTART;TZID=America/Halifax:20260804T103000
DTEND;TZID=America/Halifax:20260804T113000
DTSTAMP:20260419T202126
CREATED:20250513T144427Z
LAST-MODIFIED:20251030T194351Z
UID:10001309-1785839400-1785843000@norwestchc.org
SUMMARY:Walk the Block
DESCRIPTION:
URL:https://norwestchc.org/event/walk-the-block-2/2026-08-04/
LOCATION:NorWest CHC (Longlac)\, 99 Skinner Ave\,\, Longlac\, ON\, P0T 2A0\, Canada
CATEGORIES:Longlac
END:VEVENT
BEGIN:VEVENT
DTSTART;TZID=America/Halifax:20260804T130000
DTEND;TZID=America/Halifax:20260804T140000
DTSTAMP:20260419T202126
CREATED:20250610T180252Z
LAST-MODIFIED:20251201T135820Z
UID:10002093-1785848400-1785852000@norwestchc.org
SUMMARY:N'doo'owe Binesi Sharing Circle
DESCRIPTION:Please join us for traditional healing programming delivered by a Cultural Practitioner from Nanaandawe’ewin traditional healing team\, Indigenous Health
URL:https://norwestchc.org/event/ndooowe-binesi-sharing-circle-2/2026-08-04/
LOCATION:NorWest CHC\, 525 Simpson Street\, Thunder Bay\, Ontario\, P7C 3J6\, Canada
CATEGORIES:Thunder Bay
ORGANIZER;CN="Nicole Taylor":MAILTO:ntaylor@norwestchc.org
END:VEVENT
BEGIN:VEVENT
DTSTART;TZID=America/Halifax:20260805T133000
DTEND;TZID=America/Halifax:20260805T160000
DTSTAMP:20260419T202126
CREATED:20250820T180008Z
LAST-MODIFIED:20251230T193449Z
UID:10002550-1785936600-1785945600@norwestchc.org
SUMMARY:Expressive Arts
DESCRIPTION:Explore creativity and enhance your well-being in a supportive environment. Drop-in art program. No registration required.
URL:https://norwestchc.org/event/expressive-arts-2-2/2026-08-05/
LOCATION:NorWest CHC\, 525 Simpson Street\, Thunder Bay\, Ontario\, P7C 3J6\, Canada
CATEGORIES:Thunder Bay
ORGANIZER;CN="Nicole Taylor":MAILTO:ntaylor@norwestchc.org
END:VEVENT
BEGIN:VEVENT
DTSTART;TZID=America/Halifax:20260806T094500
DTEND;TZID=America/Halifax:20260806T110000
DTSTAMP:20260419T202126
CREATED:20250627T133041Z
LAST-MODIFIED:20251210T201045Z
UID:10003743-1786009500-1786014000@norwestchc.org
SUMMARY:Fly the C.O.O.P Walking Group (Thurs)
DESCRIPTION:Fly the COOP Walking Group – Outdoor Walking – Tues/Thurs  9:45 am – 11am \n🕘 When & Where We Meet • Tuesdays & Thursdays • Meet at 9:45 AM at NorWest Community Health Centres – 4785 Hwy 11-17 for carpooling (4 park passes available) • Or meet at 10:00 AM at Mountain Portage Trailhead\, Kakabeka Falls Provincial Park
URL:https://norwestchc.org/event/fly-the-c-o-o-p-walking-group-thurs-2/2026-08-06/
LOCATION:NorWest CHC (Kakabeka Falls)\, 4785 ON-11 Unit B\, Kakabeka Falls\, ONTARIO\, P0T 1W0\, Canada
CATEGORIES:Kakabeka
ORGANIZER;CN="Shaun Peirce":MAILTO:speirce@norwestchc.org
END:VEVENT
BEGIN:VEVENT
DTSTART;TZID=America/Halifax:20260806T120000
DTEND;TZID=America/Halifax:20260806T160000
DTSTAMP:20260419T202126
CREATED:20241223T235700Z
LAST-MODIFIED:20241223T235700Z
UID:10000708-1786017600-1786032000@norwestchc.org
SUMMARY:LifeLabs
DESCRIPTION:
URL:https://norwestchc.org/event/lifelabs/2026-08-06/
LOCATION:NorWest CHC (Kakabeka Falls)\, 4785 ON-11 Unit B\, Kakabeka Falls\, ONTARIO\, P0T 1W0\, Canada
CATEGORIES:Kakabeka
ORGANIZER;CN="Shaun Peirce":MAILTO:speirce@norwestchc.org
END:VEVENT
BEGIN:VEVENT
DTSTART;TZID=America/Halifax:20260810T100000
DTEND;TZID=America/Halifax:20260810T110000
DTSTAMP:20260419T202126
CREATED:20250509T183232Z
LAST-MODIFIED:20250925T145330Z
UID:10003224-1786356000-1786359600@norwestchc.org
SUMMARY:Chair Yoga
DESCRIPTION:Monday’s @ 10am Virtually or in Kam or O’Connor  \nO’Connor Community Centre: 330 ON-595\, Kakabeka Falls\, ON P0T 1W0 \nKam Hall: 6197 Dawson Road\, Kaministiquia\, ON P0T 1X0
URL:https://norwestchc.org/event/chair-yoga-2/2026-08-10/
LOCATION:O’Connor Community Centre\, 330 ON-595\, Kakabeka Falls\, ON\, ONTARIO\, P0T 1W0\, Canada
CATEGORIES:Kakabeka
ORGANIZER;CN="Shaun Peirce":MAILTO:speirce@norwestchc.org
END:VEVENT
BEGIN:VEVENT
DTSTART;TZID=America/Halifax:20260811T094500
DTEND;TZID=America/Halifax:20260811T110000
DTSTAMP:20260419T202126
CREATED:20241007T202456Z
LAST-MODIFIED:20251030T194252Z
UID:10003483-1786441500-1786446000@norwestchc.org
SUMMARY:Fly the C.O.O.P Walking Group
DESCRIPTION:Fly the COOP Walking Group – Outdoor Walking – Tues/Thurs  9:45 am – 11am \n🕘 When & Where We Meet • Tuesdays & Thursdays • Meet at 9:45 AM at NorWest Community Health Centres – 4785 Hwy 11-17 for carpooling (4 park passes available) • Or meet at 10:00 AM at Mountain Portage Trailhead\, Kakabeka Falls Provincial Park
URL:https://norwestchc.org/event/fly-the-c-o-o-p-walking-group/2026-08-11/
LOCATION:NorWest CHC (Kakabeka Falls)\, 4785 ON-11 Unit B\, Kakabeka Falls\, ONTARIO\, P0T 1W0\, Canada
CATEGORIES:Kakabeka
ORGANIZER;CN="Shaun Peirce":MAILTO:speirce@norwestchc.org
END:VEVENT
BEGIN:VEVENT
DTSTART;TZID=America/Halifax:20260811T103000
DTEND;TZID=America/Halifax:20260811T113000
DTSTAMP:20260419T202126
CREATED:20250513T144427Z
LAST-MODIFIED:20251030T194351Z
UID:10001310-1786444200-1786447800@norwestchc.org
SUMMARY:Walk the Block
DESCRIPTION:
URL:https://norwestchc.org/event/walk-the-block-2/2026-08-11/
LOCATION:NorWest CHC (Longlac)\, 99 Skinner Ave\,\, Longlac\, ON\, P0T 2A0\, Canada
CATEGORIES:Longlac
END:VEVENT
BEGIN:VEVENT
DTSTART;TZID=America/Halifax:20260811T130000
DTEND;TZID=America/Halifax:20260811T140000
DTSTAMP:20260419T202126
CREATED:20250610T180252Z
LAST-MODIFIED:20251201T135820Z
UID:10002094-1786453200-1786456800@norwestchc.org
SUMMARY:N'doo'owe Binesi Sharing Circle
DESCRIPTION:Please join us for traditional healing programming delivered by a Cultural Practitioner from Nanaandawe’ewin traditional healing team\, Indigenous Health
URL:https://norwestchc.org/event/ndooowe-binesi-sharing-circle-2/2026-08-11/
LOCATION:NorWest CHC\, 525 Simpson Street\, Thunder Bay\, Ontario\, P7C 3J6\, Canada
CATEGORIES:Thunder Bay
ORGANIZER;CN="Nicole Taylor":MAILTO:ntaylor@norwestchc.org
END:VEVENT
BEGIN:VEVENT
DTSTART;TZID=America/Halifax:20260812T133000
DTEND;TZID=America/Halifax:20260812T160000
DTSTAMP:20260419T202126
CREATED:20250820T180008Z
LAST-MODIFIED:20251230T193449Z
UID:10002551-1786541400-1786550400@norwestchc.org
SUMMARY:Expressive Arts
DESCRIPTION:Explore creativity and enhance your well-being in a supportive environment. Drop-in art program. No registration required.
URL:https://norwestchc.org/event/expressive-arts-2-2/2026-08-12/
LOCATION:NorWest CHC\, 525 Simpson Street\, Thunder Bay\, Ontario\, P7C 3J6\, Canada
CATEGORIES:Thunder Bay
ORGANIZER;CN="Nicole Taylor":MAILTO:ntaylor@norwestchc.org
END:VEVENT
END:VCALENDAR