BEGIN:VCALENDAR
VERSION:2.0
PRODID:-//NorWest Community Health Centres - ECPv6.15.18//NONSGML v1.0//EN
CALSCALE:GREGORIAN
METHOD:PUBLISH
X-ORIGINAL-URL:https://norwestchc.org
X-WR-CALDESC:Events for NorWest Community Health Centres
REFRESH-INTERVAL;VALUE=DURATION:PT1H
X-Robots-Tag:noindex
X-PUBLISHED-TTL:PT1H
BEGIN:VTIMEZONE
TZID:America/Halifax
BEGIN:DAYLIGHT
TZOFFSETFROM:-0400
TZOFFSETTO:-0300
TZNAME:ADT
DTSTART:20290311T060000
END:DAYLIGHT
BEGIN:STANDARD
TZOFFSETFROM:-0300
TZOFFSETTO:-0400
TZNAME:AST
DTSTART:20291104T050000
END:STANDARD
BEGIN:DAYLIGHT
TZOFFSETFROM:-0400
TZOFFSETTO:-0300
TZNAME:ADT
DTSTART:20300310T060000
END:DAYLIGHT
BEGIN:STANDARD
TZOFFSETFROM:-0300
TZOFFSETTO:-0400
TZNAME:AST
DTSTART:20301103T050000
END:STANDARD
BEGIN:DAYLIGHT
TZOFFSETFROM:-0400
TZOFFSETTO:-0300
TZNAME:ADT
DTSTART:20310309T060000
END:DAYLIGHT
BEGIN:STANDARD
TZOFFSETFROM:-0300
TZOFFSETTO:-0400
TZNAME:AST
DTSTART:20311102T050000
END:STANDARD
END:VTIMEZONE
BEGIN:VEVENT
DTSTART;TZID=America/Halifax:20300903T103000
DTEND;TZID=America/Halifax:20300903T113000
DTSTAMP:20260425T133441
CREATED:20250513T144427Z
LAST-MODIFIED:20251030T194351Z
UID:10003998-1914661800-1914665400@norwestchc.org
SUMMARY:Walk the Block
DESCRIPTION:
URL:https://norwestchc.org/event/walk-the-block-2/2030-09-03/
LOCATION:NorWest CHC (Longlac)\, 99 Skinner Ave\,\, Longlac\, ON\, P0T 2A0\, Canada
CATEGORIES:Longlac
END:VEVENT
BEGIN:VEVENT
DTSTART;TZID=America/Halifax:20300903T130000
DTEND;TZID=America/Halifax:20300903T140000
DTSTAMP:20260425T133441
CREATED:20250610T180252Z
LAST-MODIFIED:20251201T135820Z
UID:10003178-1914670800-1914674400@norwestchc.org
SUMMARY:N'doo'owe Binesi Sharing Circle
DESCRIPTION:Please join us for traditional healing programming delivered by a Cultural Practitioner from Nanaandawe’ewin traditional healing team\, Indigenous Health
URL:https://norwestchc.org/event/ndooowe-binesi-sharing-circle-2/2030-09-03/
LOCATION:NorWest CHC\, 525 Simpson Street\, Thunder Bay\, Ontario\, P7C 3J6\, Canada
CATEGORIES:Thunder Bay
ORGANIZER;CN="Nicole Taylor":MAILTO:ntaylor@norwestchc.org
END:VEVENT
BEGIN:VEVENT
DTSTART;TZID=America/Halifax:20300905T094500
DTEND;TZID=America/Halifax:20300905T110000
DTSTAMP:20260425T133441
CREATED:20250627T133041Z
LAST-MODIFIED:20251210T201045Z
UID:10003956-1914831900-1914836400@norwestchc.org
SUMMARY:Fly the C.O.O.P Walking Group (Thurs)
DESCRIPTION:Fly the COOP Walking Group – Outdoor Walking – Tues/Thurs  9:45 am – 11am \n🕘 When & Where We Meet • Tuesdays & Thursdays • Meet at 9:45 AM at NorWest Community Health Centres – 4785 Hwy 11-17 for carpooling (4 park passes available) • Or meet at 10:00 AM at Mountain Portage Trailhead\, Kakabeka Falls Provincial Park
URL:https://norwestchc.org/event/fly-the-c-o-o-p-walking-group-thurs-2/2030-09-05/
LOCATION:NorWest CHC (Kakabeka Falls)\, 4785 ON-11 Unit B\, Kakabeka Falls\, ONTARIO\, P0T 1W0\, Canada
CATEGORIES:Kakabeka
ORGANIZER;CN="Shaun Peirce":MAILTO:speirce@norwestchc.org
END:VEVENT
BEGIN:VEVENT
DTSTART;TZID=America/Halifax:20300909T100000
DTEND;TZID=America/Halifax:20300909T110000
DTSTAMP:20260425T133441
CREATED:20250509T183232Z
LAST-MODIFIED:20250925T145330Z
UID:10003437-1915178400-1915182000@norwestchc.org
SUMMARY:Chair Yoga
DESCRIPTION:Monday’s @ 10am Virtually or in Kam or O’Connor  \nO’Connor Community Centre: 330 ON-595\, Kakabeka Falls\, ON P0T 1W0 \nKam Hall: 6197 Dawson Road\, Kaministiquia\, ON P0T 1X0
URL:https://norwestchc.org/event/chair-yoga-2/2030-09-09/
LOCATION:O’Connor Community Centre\, 330 ON-595\, Kakabeka Falls\, ON\, ONTARIO\, P0T 1W0\, Canada
CATEGORIES:Kakabeka
ORGANIZER;CN="Shaun Peirce":MAILTO:speirce@norwestchc.org
END:VEVENT
BEGIN:VEVENT
DTSTART;TZID=America/Halifax:20300910T094500
DTEND;TZID=America/Halifax:20300910T110000
DTSTAMP:20260425T133441
CREATED:20241007T202456Z
LAST-MODIFIED:20251030T194252Z
UID:10003696-1915263900-1915268400@norwestchc.org
SUMMARY:Fly the C.O.O.P Walking Group
DESCRIPTION:Fly the COOP Walking Group – Outdoor Walking – Tues/Thurs  9:45 am – 11am \n🕘 When & Where We Meet • Tuesdays & Thursdays • Meet at 9:45 AM at NorWest Community Health Centres – 4785 Hwy 11-17 for carpooling (4 park passes available) • Or meet at 10:00 AM at Mountain Portage Trailhead\, Kakabeka Falls Provincial Park
URL:https://norwestchc.org/event/fly-the-c-o-o-p-walking-group/2030-09-10/
LOCATION:NorWest CHC (Kakabeka Falls)\, 4785 ON-11 Unit B\, Kakabeka Falls\, ONTARIO\, P0T 1W0\, Canada
CATEGORIES:Kakabeka
ORGANIZER;CN="Shaun Peirce":MAILTO:speirce@norwestchc.org
END:VEVENT
BEGIN:VEVENT
DTSTART;TZID=America/Halifax:20300910T103000
DTEND;TZID=America/Halifax:20300910T113000
DTSTAMP:20260425T133441
CREATED:20250513T144427Z
LAST-MODIFIED:20251030T194351Z
UID:10003999-1915266600-1915270200@norwestchc.org
SUMMARY:Walk the Block
DESCRIPTION:
URL:https://norwestchc.org/event/walk-the-block-2/2030-09-10/
LOCATION:NorWest CHC (Longlac)\, 99 Skinner Ave\,\, Longlac\, ON\, P0T 2A0\, Canada
CATEGORIES:Longlac
END:VEVENT
BEGIN:VEVENT
DTSTART;TZID=America/Halifax:20300910T130000
DTEND;TZID=America/Halifax:20300910T140000
DTSTAMP:20260425T133441
CREATED:20250610T180252Z
LAST-MODIFIED:20251201T135820Z
UID:10003179-1915275600-1915279200@norwestchc.org
SUMMARY:N'doo'owe Binesi Sharing Circle
DESCRIPTION:Please join us for traditional healing programming delivered by a Cultural Practitioner from Nanaandawe’ewin traditional healing team\, Indigenous Health
URL:https://norwestchc.org/event/ndooowe-binesi-sharing-circle-2/2030-09-10/
LOCATION:NorWest CHC\, 525 Simpson Street\, Thunder Bay\, Ontario\, P7C 3J6\, Canada
CATEGORIES:Thunder Bay
ORGANIZER;CN="Nicole Taylor":MAILTO:ntaylor@norwestchc.org
END:VEVENT
BEGIN:VEVENT
DTSTART;TZID=America/Halifax:20300912T094500
DTEND;TZID=America/Halifax:20300912T110000
DTSTAMP:20260425T133441
CREATED:20250627T133041Z
LAST-MODIFIED:20251210T201045Z
UID:10003957-1915436700-1915441200@norwestchc.org
SUMMARY:Fly the C.O.O.P Walking Group (Thurs)
DESCRIPTION:Fly the COOP Walking Group – Outdoor Walking – Tues/Thurs  9:45 am – 11am \n🕘 When & Where We Meet • Tuesdays & Thursdays • Meet at 9:45 AM at NorWest Community Health Centres – 4785 Hwy 11-17 for carpooling (4 park passes available) • Or meet at 10:00 AM at Mountain Portage Trailhead\, Kakabeka Falls Provincial Park
URL:https://norwestchc.org/event/fly-the-c-o-o-p-walking-group-thurs-2/2030-09-12/
LOCATION:NorWest CHC (Kakabeka Falls)\, 4785 ON-11 Unit B\, Kakabeka Falls\, ONTARIO\, P0T 1W0\, Canada
CATEGORIES:Kakabeka
ORGANIZER;CN="Shaun Peirce":MAILTO:speirce@norwestchc.org
END:VEVENT
BEGIN:VEVENT
DTSTART;TZID=America/Halifax:20300916T100000
DTEND;TZID=America/Halifax:20300916T110000
DTSTAMP:20260425T133441
CREATED:20250509T183232Z
LAST-MODIFIED:20250925T145330Z
UID:10003438-1915783200-1915786800@norwestchc.org
SUMMARY:Chair Yoga
DESCRIPTION:Monday’s @ 10am Virtually or in Kam or O’Connor  \nO’Connor Community Centre: 330 ON-595\, Kakabeka Falls\, ON P0T 1W0 \nKam Hall: 6197 Dawson Road\, Kaministiquia\, ON P0T 1X0
URL:https://norwestchc.org/event/chair-yoga-2/2030-09-16/
LOCATION:O’Connor Community Centre\, 330 ON-595\, Kakabeka Falls\, ON\, ONTARIO\, P0T 1W0\, Canada
CATEGORIES:Kakabeka
ORGANIZER;CN="Shaun Peirce":MAILTO:speirce@norwestchc.org
END:VEVENT
BEGIN:VEVENT
DTSTART;TZID=America/Halifax:20300917T094500
DTEND;TZID=America/Halifax:20300917T110000
DTSTAMP:20260425T133441
CREATED:20241007T202456Z
LAST-MODIFIED:20251030T194252Z
UID:10003697-1915868700-1915873200@norwestchc.org
SUMMARY:Fly the C.O.O.P Walking Group
DESCRIPTION:Fly the COOP Walking Group – Outdoor Walking – Tues/Thurs  9:45 am – 11am \n🕘 When & Where We Meet • Tuesdays & Thursdays • Meet at 9:45 AM at NorWest Community Health Centres – 4785 Hwy 11-17 for carpooling (4 park passes available) • Or meet at 10:00 AM at Mountain Portage Trailhead\, Kakabeka Falls Provincial Park
URL:https://norwestchc.org/event/fly-the-c-o-o-p-walking-group/2030-09-17/
LOCATION:NorWest CHC (Kakabeka Falls)\, 4785 ON-11 Unit B\, Kakabeka Falls\, ONTARIO\, P0T 1W0\, Canada
CATEGORIES:Kakabeka
ORGANIZER;CN="Shaun Peirce":MAILTO:speirce@norwestchc.org
END:VEVENT
BEGIN:VEVENT
DTSTART;TZID=America/Halifax:20300917T103000
DTEND;TZID=America/Halifax:20300917T113000
DTSTAMP:20260425T133441
CREATED:20250513T144427Z
LAST-MODIFIED:20251030T194351Z
UID:10004000-1915871400-1915875000@norwestchc.org
SUMMARY:Walk the Block
DESCRIPTION:
URL:https://norwestchc.org/event/walk-the-block-2/2030-09-17/
LOCATION:NorWest CHC (Longlac)\, 99 Skinner Ave\,\, Longlac\, ON\, P0T 2A0\, Canada
CATEGORIES:Longlac
END:VEVENT
BEGIN:VEVENT
DTSTART;TZID=America/Halifax:20300917T130000
DTEND;TZID=America/Halifax:20300917T140000
DTSTAMP:20260425T133441
CREATED:20250610T180252Z
LAST-MODIFIED:20251201T135820Z
UID:10003180-1915880400-1915884000@norwestchc.org
SUMMARY:N'doo'owe Binesi Sharing Circle
DESCRIPTION:Please join us for traditional healing programming delivered by a Cultural Practitioner from Nanaandawe’ewin traditional healing team\, Indigenous Health
URL:https://norwestchc.org/event/ndooowe-binesi-sharing-circle-2/2030-09-17/
LOCATION:NorWest CHC\, 525 Simpson Street\, Thunder Bay\, Ontario\, P7C 3J6\, Canada
CATEGORIES:Thunder Bay
ORGANIZER;CN="Nicole Taylor":MAILTO:ntaylor@norwestchc.org
END:VEVENT
BEGIN:VEVENT
DTSTART;TZID=America/Halifax:20300919T094500
DTEND;TZID=America/Halifax:20300919T110000
DTSTAMP:20260425T133441
CREATED:20250627T133041Z
LAST-MODIFIED:20251210T201045Z
UID:10003958-1916041500-1916046000@norwestchc.org
SUMMARY:Fly the C.O.O.P Walking Group (Thurs)
DESCRIPTION:Fly the COOP Walking Group – Outdoor Walking – Tues/Thurs  9:45 am – 11am \n🕘 When & Where We Meet • Tuesdays & Thursdays • Meet at 9:45 AM at NorWest Community Health Centres – 4785 Hwy 11-17 for carpooling (4 park passes available) • Or meet at 10:00 AM at Mountain Portage Trailhead\, Kakabeka Falls Provincial Park
URL:https://norwestchc.org/event/fly-the-c-o-o-p-walking-group-thurs-2/2030-09-19/
LOCATION:NorWest CHC (Kakabeka Falls)\, 4785 ON-11 Unit B\, Kakabeka Falls\, ONTARIO\, P0T 1W0\, Canada
CATEGORIES:Kakabeka
ORGANIZER;CN="Shaun Peirce":MAILTO:speirce@norwestchc.org
END:VEVENT
BEGIN:VEVENT
DTSTART;TZID=America/Halifax:20300923T100000
DTEND;TZID=America/Halifax:20300923T110000
DTSTAMP:20260425T133441
CREATED:20250509T183232Z
LAST-MODIFIED:20250925T145330Z
UID:10003439-1916388000-1916391600@norwestchc.org
SUMMARY:Chair Yoga
DESCRIPTION:Monday’s @ 10am Virtually or in Kam or O’Connor  \nO’Connor Community Centre: 330 ON-595\, Kakabeka Falls\, ON P0T 1W0 \nKam Hall: 6197 Dawson Road\, Kaministiquia\, ON P0T 1X0
URL:https://norwestchc.org/event/chair-yoga-2/2030-09-23/
LOCATION:O’Connor Community Centre\, 330 ON-595\, Kakabeka Falls\, ON\, ONTARIO\, P0T 1W0\, Canada
CATEGORIES:Kakabeka
ORGANIZER;CN="Shaun Peirce":MAILTO:speirce@norwestchc.org
END:VEVENT
BEGIN:VEVENT
DTSTART;TZID=America/Halifax:20300924T094500
DTEND;TZID=America/Halifax:20300924T110000
DTSTAMP:20260425T133441
CREATED:20241007T202456Z
LAST-MODIFIED:20251030T194252Z
UID:10003698-1916473500-1916478000@norwestchc.org
SUMMARY:Fly the C.O.O.P Walking Group
DESCRIPTION:Fly the COOP Walking Group – Outdoor Walking – Tues/Thurs  9:45 am – 11am \n🕘 When & Where We Meet • Tuesdays & Thursdays • Meet at 9:45 AM at NorWest Community Health Centres – 4785 Hwy 11-17 for carpooling (4 park passes available) • Or meet at 10:00 AM at Mountain Portage Trailhead\, Kakabeka Falls Provincial Park
URL:https://norwestchc.org/event/fly-the-c-o-o-p-walking-group/2030-09-24/
LOCATION:NorWest CHC (Kakabeka Falls)\, 4785 ON-11 Unit B\, Kakabeka Falls\, ONTARIO\, P0T 1W0\, Canada
CATEGORIES:Kakabeka
ORGANIZER;CN="Shaun Peirce":MAILTO:speirce@norwestchc.org
END:VEVENT
BEGIN:VEVENT
DTSTART;TZID=America/Halifax:20300924T103000
DTEND;TZID=America/Halifax:20300924T113000
DTSTAMP:20260425T133441
CREATED:20250513T144427Z
LAST-MODIFIED:20251030T194351Z
UID:10004001-1916476200-1916479800@norwestchc.org
SUMMARY:Walk the Block
DESCRIPTION:
URL:https://norwestchc.org/event/walk-the-block-2/2030-09-24/
LOCATION:NorWest CHC (Longlac)\, 99 Skinner Ave\,\, Longlac\, ON\, P0T 2A0\, Canada
CATEGORIES:Longlac
END:VEVENT
BEGIN:VEVENT
DTSTART;TZID=America/Halifax:20300924T130000
DTEND;TZID=America/Halifax:20300924T140000
DTSTAMP:20260425T133441
CREATED:20250610T180252Z
LAST-MODIFIED:20251201T135820Z
UID:10003181-1916485200-1916488800@norwestchc.org
SUMMARY:N'doo'owe Binesi Sharing Circle
DESCRIPTION:Please join us for traditional healing programming delivered by a Cultural Practitioner from Nanaandawe’ewin traditional healing team\, Indigenous Health
URL:https://norwestchc.org/event/ndooowe-binesi-sharing-circle-2/2030-09-24/
LOCATION:NorWest CHC\, 525 Simpson Street\, Thunder Bay\, Ontario\, P7C 3J6\, Canada
CATEGORIES:Thunder Bay
ORGANIZER;CN="Nicole Taylor":MAILTO:ntaylor@norwestchc.org
END:VEVENT
BEGIN:VEVENT
DTSTART;TZID=America/Halifax:20300926T094500
DTEND;TZID=America/Halifax:20300926T110000
DTSTAMP:20260425T133441
CREATED:20250627T133041Z
LAST-MODIFIED:20251210T201045Z
UID:10003971-1916646300-1916650800@norwestchc.org
SUMMARY:Fly the C.O.O.P Walking Group (Thurs)
DESCRIPTION:Fly the COOP Walking Group – Outdoor Walking – Tues/Thurs  9:45 am – 11am \n🕘 When & Where We Meet • Tuesdays & Thursdays • Meet at 9:45 AM at NorWest Community Health Centres – 4785 Hwy 11-17 for carpooling (4 park passes available) • Or meet at 10:00 AM at Mountain Portage Trailhead\, Kakabeka Falls Provincial Park
URL:https://norwestchc.org/event/fly-the-c-o-o-p-walking-group-thurs-2/2030-09-26/
LOCATION:NorWest CHC (Kakabeka Falls)\, 4785 ON-11 Unit B\, Kakabeka Falls\, ONTARIO\, P0T 1W0\, Canada
CATEGORIES:Kakabeka
ORGANIZER;CN="Shaun Peirce":MAILTO:speirce@norwestchc.org
END:VEVENT
BEGIN:VEVENT
DTSTART;TZID=America/Halifax:20301001T094500
DTEND;TZID=America/Halifax:20301001T110000
DTSTAMP:20260425T133441
CREATED:20241007T202456Z
LAST-MODIFIED:20251030T194252Z
UID:10003977-1917078300-1917082800@norwestchc.org
SUMMARY:Fly the C.O.O.P Walking Group
DESCRIPTION:Fly the COOP Walking Group – Outdoor Walking – Tues/Thurs  9:45 am – 11am \n🕘 When & Where We Meet • Tuesdays & Thursdays • Meet at 9:45 AM at NorWest Community Health Centres – 4785 Hwy 11-17 for carpooling (4 park passes available) • Or meet at 10:00 AM at Mountain Portage Trailhead\, Kakabeka Falls Provincial Park
URL:https://norwestchc.org/event/fly-the-c-o-o-p-walking-group/2030-10-01/
LOCATION:NorWest CHC (Kakabeka Falls)\, 4785 ON-11 Unit B\, Kakabeka Falls\, ONTARIO\, P0T 1W0\, Canada
CATEGORIES:Kakabeka
ORGANIZER;CN="Shaun Peirce":MAILTO:speirce@norwestchc.org
END:VEVENT
BEGIN:VEVENT
DTSTART;TZID=America/Halifax:20301001T103000
DTEND;TZID=America/Halifax:20301001T113000
DTSTAMP:20260425T133441
CREATED:20250513T144427Z
LAST-MODIFIED:20251030T194351Z
UID:10004002-1917081000-1917084600@norwestchc.org
SUMMARY:Walk the Block
DESCRIPTION:
URL:https://norwestchc.org/event/walk-the-block-2/2030-10-01/
LOCATION:NorWest CHC (Longlac)\, 99 Skinner Ave\,\, Longlac\, ON\, P0T 2A0\, Canada
CATEGORIES:Longlac
END:VEVENT
BEGIN:VEVENT
DTSTART;TZID=America/Halifax:20301001T130000
DTEND;TZID=America/Halifax:20301001T140000
DTSTAMP:20260425T133441
CREATED:20250610T180252Z
LAST-MODIFIED:20251201T135820Z
UID:10004007-1917090000-1917093600@norwestchc.org
SUMMARY:N'doo'owe Binesi Sharing Circle
DESCRIPTION:Please join us for traditional healing programming delivered by a Cultural Practitioner from Nanaandawe’ewin traditional healing team\, Indigenous Health
URL:https://norwestchc.org/event/ndooowe-binesi-sharing-circle-2/2030-10-01/
LOCATION:NorWest CHC\, 525 Simpson Street\, Thunder Bay\, Ontario\, P7C 3J6\, Canada
CATEGORIES:Thunder Bay
ORGANIZER;CN="Nicole Taylor":MAILTO:ntaylor@norwestchc.org
END:VEVENT
BEGIN:VEVENT
DTSTART;TZID=America/Halifax:20301003T094500
DTEND;TZID=America/Halifax:20301003T110000
DTSTAMP:20260425T133441
CREATED:20250627T133041Z
LAST-MODIFIED:20251210T201045Z
UID:10003972-1917251100-1917255600@norwestchc.org
SUMMARY:Fly the C.O.O.P Walking Group (Thurs)
DESCRIPTION:Fly the COOP Walking Group – Outdoor Walking – Tues/Thurs  9:45 am – 11am \n🕘 When & Where We Meet • Tuesdays & Thursdays • Meet at 9:45 AM at NorWest Community Health Centres – 4785 Hwy 11-17 for carpooling (4 park passes available) • Or meet at 10:00 AM at Mountain Portage Trailhead\, Kakabeka Falls Provincial Park
URL:https://norwestchc.org/event/fly-the-c-o-o-p-walking-group-thurs-2/2030-10-03/
LOCATION:NorWest CHC (Kakabeka Falls)\, 4785 ON-11 Unit B\, Kakabeka Falls\, ONTARIO\, P0T 1W0\, Canada
CATEGORIES:Kakabeka
ORGANIZER;CN="Shaun Peirce":MAILTO:speirce@norwestchc.org
END:VEVENT
BEGIN:VEVENT
DTSTART;TZID=America/Halifax:20301008T094500
DTEND;TZID=America/Halifax:20301008T110000
DTSTAMP:20260425T133441
CREATED:20241007T202456Z
LAST-MODIFIED:20251030T194252Z
UID:10003978-1917683100-1917687600@norwestchc.org
SUMMARY:Fly the C.O.O.P Walking Group
DESCRIPTION:Fly the COOP Walking Group – Outdoor Walking – Tues/Thurs  9:45 am – 11am \n🕘 When & Where We Meet • Tuesdays & Thursdays • Meet at 9:45 AM at NorWest Community Health Centres – 4785 Hwy 11-17 for carpooling (4 park passes available) • Or meet at 10:00 AM at Mountain Portage Trailhead\, Kakabeka Falls Provincial Park
URL:https://norwestchc.org/event/fly-the-c-o-o-p-walking-group/2030-10-08/
LOCATION:NorWest CHC (Kakabeka Falls)\, 4785 ON-11 Unit B\, Kakabeka Falls\, ONTARIO\, P0T 1W0\, Canada
CATEGORIES:Kakabeka
ORGANIZER;CN="Shaun Peirce":MAILTO:speirce@norwestchc.org
END:VEVENT
BEGIN:VEVENT
DTSTART;TZID=America/Halifax:20301008T103000
DTEND;TZID=America/Halifax:20301008T113000
DTSTAMP:20260425T133441
CREATED:20250513T144427Z
LAST-MODIFIED:20251030T194351Z
UID:10004003-1917685800-1917689400@norwestchc.org
SUMMARY:Walk the Block
DESCRIPTION:
URL:https://norwestchc.org/event/walk-the-block-2/2030-10-08/
LOCATION:NorWest CHC (Longlac)\, 99 Skinner Ave\,\, Longlac\, ON\, P0T 2A0\, Canada
CATEGORIES:Longlac
END:VEVENT
BEGIN:VEVENT
DTSTART;TZID=America/Halifax:20301008T130000
DTEND;TZID=America/Halifax:20301008T140000
DTSTAMP:20260425T133441
CREATED:20250610T180252Z
LAST-MODIFIED:20251201T135820Z
UID:10004008-1917694800-1917698400@norwestchc.org
SUMMARY:N'doo'owe Binesi Sharing Circle
DESCRIPTION:Please join us for traditional healing programming delivered by a Cultural Practitioner from Nanaandawe’ewin traditional healing team\, Indigenous Health
URL:https://norwestchc.org/event/ndooowe-binesi-sharing-circle-2/2030-10-08/
LOCATION:NorWest CHC\, 525 Simpson Street\, Thunder Bay\, Ontario\, P7C 3J6\, Canada
CATEGORIES:Thunder Bay
ORGANIZER;CN="Nicole Taylor":MAILTO:ntaylor@norwestchc.org
END:VEVENT
BEGIN:VEVENT
DTSTART;TZID=America/Halifax:20301010T094500
DTEND;TZID=America/Halifax:20301010T110000
DTSTAMP:20260425T133441
CREATED:20250627T133041Z
LAST-MODIFIED:20251210T201045Z
UID:10003973-1917855900-1917860400@norwestchc.org
SUMMARY:Fly the C.O.O.P Walking Group (Thurs)
DESCRIPTION:Fly the COOP Walking Group – Outdoor Walking – Tues/Thurs  9:45 am – 11am \n🕘 When & Where We Meet • Tuesdays & Thursdays • Meet at 9:45 AM at NorWest Community Health Centres – 4785 Hwy 11-17 for carpooling (4 park passes available) • Or meet at 10:00 AM at Mountain Portage Trailhead\, Kakabeka Falls Provincial Park
URL:https://norwestchc.org/event/fly-the-c-o-o-p-walking-group-thurs-2/2030-10-10/
LOCATION:NorWest CHC (Kakabeka Falls)\, 4785 ON-11 Unit B\, Kakabeka Falls\, ONTARIO\, P0T 1W0\, Canada
CATEGORIES:Kakabeka
ORGANIZER;CN="Shaun Peirce":MAILTO:speirce@norwestchc.org
END:VEVENT
BEGIN:VEVENT
DTSTART;TZID=America/Halifax:20301015T094500
DTEND;TZID=America/Halifax:20301015T110000
DTSTAMP:20260425T133441
CREATED:20241007T202456Z
LAST-MODIFIED:20251030T194252Z
UID:10003979-1918287900-1918292400@norwestchc.org
SUMMARY:Fly the C.O.O.P Walking Group
DESCRIPTION:Fly the COOP Walking Group – Outdoor Walking – Tues/Thurs  9:45 am – 11am \n🕘 When & Where We Meet • Tuesdays & Thursdays • Meet at 9:45 AM at NorWest Community Health Centres – 4785 Hwy 11-17 for carpooling (4 park passes available) • Or meet at 10:00 AM at Mountain Portage Trailhead\, Kakabeka Falls Provincial Park
URL:https://norwestchc.org/event/fly-the-c-o-o-p-walking-group/2030-10-15/
LOCATION:NorWest CHC (Kakabeka Falls)\, 4785 ON-11 Unit B\, Kakabeka Falls\, ONTARIO\, P0T 1W0\, Canada
CATEGORIES:Kakabeka
ORGANIZER;CN="Shaun Peirce":MAILTO:speirce@norwestchc.org
END:VEVENT
BEGIN:VEVENT
DTSTART;TZID=America/Halifax:20301015T103000
DTEND;TZID=America/Halifax:20301015T113000
DTSTAMP:20260425T133441
CREATED:20250513T144427Z
LAST-MODIFIED:20251030T194351Z
UID:10004004-1918290600-1918294200@norwestchc.org
SUMMARY:Walk the Block
DESCRIPTION:
URL:https://norwestchc.org/event/walk-the-block-2/2030-10-15/
LOCATION:NorWest CHC (Longlac)\, 99 Skinner Ave\,\, Longlac\, ON\, P0T 2A0\, Canada
CATEGORIES:Longlac
END:VEVENT
BEGIN:VEVENT
DTSTART;TZID=America/Halifax:20301015T130000
DTEND;TZID=America/Halifax:20301015T140000
DTSTAMP:20260425T133441
CREATED:20250610T180252Z
LAST-MODIFIED:20251201T135820Z
UID:10004009-1918299600-1918303200@norwestchc.org
SUMMARY:N'doo'owe Binesi Sharing Circle
DESCRIPTION:Please join us for traditional healing programming delivered by a Cultural Practitioner from Nanaandawe’ewin traditional healing team\, Indigenous Health
URL:https://norwestchc.org/event/ndooowe-binesi-sharing-circle-2/2030-10-15/
LOCATION:NorWest CHC\, 525 Simpson Street\, Thunder Bay\, Ontario\, P7C 3J6\, Canada
CATEGORIES:Thunder Bay
ORGANIZER;CN="Nicole Taylor":MAILTO:ntaylor@norwestchc.org
END:VEVENT
BEGIN:VEVENT
DTSTART;TZID=America/Halifax:20301017T094500
DTEND;TZID=America/Halifax:20301017T110000
DTSTAMP:20260425T133441
CREATED:20250627T133041Z
LAST-MODIFIED:20251210T201045Z
UID:10003974-1918460700-1918465200@norwestchc.org
SUMMARY:Fly the C.O.O.P Walking Group (Thurs)
DESCRIPTION:Fly the COOP Walking Group – Outdoor Walking – Tues/Thurs  9:45 am – 11am \n🕘 When & Where We Meet • Tuesdays & Thursdays • Meet at 9:45 AM at NorWest Community Health Centres – 4785 Hwy 11-17 for carpooling (4 park passes available) • Or meet at 10:00 AM at Mountain Portage Trailhead\, Kakabeka Falls Provincial Park
URL:https://norwestchc.org/event/fly-the-c-o-o-p-walking-group-thurs-2/2030-10-17/
LOCATION:NorWest CHC (Kakabeka Falls)\, 4785 ON-11 Unit B\, Kakabeka Falls\, ONTARIO\, P0T 1W0\, Canada
CATEGORIES:Kakabeka
ORGANIZER;CN="Shaun Peirce":MAILTO:speirce@norwestchc.org
END:VEVENT
END:VCALENDAR