BEGIN:VCALENDAR
VERSION:2.0
PRODID:-//NorWest Community Health Centres - ECPv6.15.18//NONSGML v1.0//EN
CALSCALE:GREGORIAN
METHOD:PUBLISH
X-ORIGINAL-URL:https://norwestchc.org
X-WR-CALDESC:Events for NorWest Community Health Centres
REFRESH-INTERVAL;VALUE=DURATION:PT1H
X-Robots-Tag:noindex
X-PUBLISHED-TTL:PT1H
BEGIN:VTIMEZONE
TZID:America/Halifax
BEGIN:DAYLIGHT
TZOFFSETFROM:-0400
TZOFFSETTO:-0300
TZNAME:ADT
DTSTART:20240310T060000
END:DAYLIGHT
BEGIN:STANDARD
TZOFFSETFROM:-0300
TZOFFSETTO:-0400
TZNAME:AST
DTSTART:20241103T050000
END:STANDARD
BEGIN:DAYLIGHT
TZOFFSETFROM:-0400
TZOFFSETTO:-0300
TZNAME:ADT
DTSTART:20250309T060000
END:DAYLIGHT
BEGIN:STANDARD
TZOFFSETFROM:-0300
TZOFFSETTO:-0400
TZNAME:AST
DTSTART:20251102T050000
END:STANDARD
BEGIN:DAYLIGHT
TZOFFSETFROM:-0400
TZOFFSETTO:-0300
TZNAME:ADT
DTSTART:20260308T060000
END:DAYLIGHT
BEGIN:STANDARD
TZOFFSETFROM:-0300
TZOFFSETTO:-0400
TZNAME:AST
DTSTART:20261101T050000
END:STANDARD
BEGIN:DAYLIGHT
TZOFFSETFROM:-0400
TZOFFSETTO:-0300
TZNAME:ADT
DTSTART:20270314T060000
END:DAYLIGHT
BEGIN:STANDARD
TZOFFSETFROM:-0300
TZOFFSETTO:-0400
TZNAME:AST
DTSTART:20271107T050000
END:STANDARD
END:VTIMEZONE
BEGIN:VEVENT
DTSTART;TZID=America/Halifax:20260130T110000
DTEND;TZID=America/Halifax:20260130T123000
DTSTAMP:20260421T122028
CREATED:20251230T200125Z
LAST-MODIFIED:20251230T200125Z
UID:10004444-1769770800-1769776200@norwestchc.org
SUMMARY:Indigenous Lunch at Roots to Harvest
DESCRIPTION:Registration required for transportation only. Contact Nicole at 807-622-8235 ext. 2349
URL:https://norwestchc.org/event/indigenous-lunch-at-roots-to-harvest/
LOCATION:Roots Community Food Centre\, 450 Fort William Rd\, Thunder Bay\, Ontario\, P7B 2Z6\, Canada
CATEGORIES:Thunder Bay
ORGANIZER;CN="Nicole Taylor":MAILTO:ntaylor@norwestchc.org
END:VEVENT
BEGIN:VEVENT
DTSTART;TZID=America/Halifax:20260109T110000
DTEND;TZID=America/Halifax:20260109T123000
DTSTAMP:20260421T122028
CREATED:20251030T200628Z
LAST-MODIFIED:20251230T194009Z
UID:10004016-1767956400-1767961800@norwestchc.org
SUMMARY:Roots to Harvest Seniors Lunch
DESCRIPTION:Registration required for transportation only. Contact Nicole at 807-622-8235 x2349
URL:https://norwestchc.org/event/roots-to-harvest-seniors-lunch/
LOCATION:Roots Community Food Centre\, 450 Fort William Rd\, Thunder Bay\, Ontario\, P7B 2Z6\, Canada
CATEGORIES:Thunder Bay
ORGANIZER;CN="Nicole Taylor":MAILTO:ntaylor@norwestchc.org
END:VEVENT
BEGIN:VEVENT
DTSTART;TZID=America/Halifax:20251215T130000
DTEND;TZID=America/Halifax:20251215T150000
DTSTAMP:20260421T122028
CREATED:20250811T185840Z
LAST-MODIFIED:20251118T153029Z
UID:10004029-1765803600-1765810800@norwestchc.org
SUMMARY:Cooking Connections
DESCRIPTION:Join our engaging cooking sessions designed for older adults (50+)\, where you can learn delicious recipes\, share stories\, and enjoy healthy\, tasty meals with friends. \nThis is the 2nd of three sessions. Please contact Kevin to register for this session.
URL:https://norwestchc.org/event/cooking-connections/2025-12-15/
LOCATION:Roots Community Food Centre\, 450 Fort William Rd\, Thunder Bay\, Ontario\, P7B 2Z6\, Canada
CATEGORIES:Thunder Bay
END:VEVENT
BEGIN:VEVENT
DTSTART;TZID=America/Halifax:20250912T133000
DTEND;TZID=America/Halifax:20250912T153000
DTSTAMP:20260421T122028
CREATED:20250811T185840Z
LAST-MODIFIED:20251118T153029Z
UID:10002431-1757683800-1757691000@norwestchc.org
SUMMARY:Cooking Connections
DESCRIPTION:Join our engaging cooking sessions designed for older adults (50+)\, where you can learn delicious recipes\, share stories\, and enjoy healthy\, tasty meals with friends. \nThis is the 2nd of three sessions. Please contact Kevin to register for this session.
URL:https://norwestchc.org/event/cooking-connections/2025-09-12/
LOCATION:Roots Community Food Centre\, 450 Fort William Rd\, Thunder Bay\, Ontario\, P7B 2Z6\, Canada
CATEGORIES:Thunder Bay
END:VEVENT
END:VCALENDAR